BEGIN:VCALENDAR
VERSION:2.0
PRODID:-//Kuopion museot - ECPv6.15.20//NONSGML v1.0//EN
CALSCALE:GREGORIAN
METHOD:PUBLISH
X-ORIGINAL-URL:https://kuopionmuseot.fi
X-WR-CALDESC:Tapahtumat Kuopion museot
REFRESH-INTERVAL;VALUE=DURATION:PT1H
X-Robots-Tag:noindex
X-PUBLISHED-TTL:PT1H
BEGIN:VTIMEZONE
TZID:Europe/Helsinki
BEGIN:DAYLIGHT
TZOFFSETFROM:+0200
TZOFFSETTO:+0300
TZNAME:EEST
DTSTART:20250330T010000
END:DAYLIGHT
BEGIN:STANDARD
TZOFFSETFROM:+0300
TZOFFSETTO:+0200
TZNAME:EET
DTSTART:20251026T010000
END:STANDARD
BEGIN:DAYLIGHT
TZOFFSETFROM:+0200
TZOFFSETTO:+0300
TZNAME:EEST
DTSTART:20260329T010000
END:DAYLIGHT
BEGIN:STANDARD
TZOFFSETFROM:+0300
TZOFFSETTO:+0200
TZNAME:EET
DTSTART:20261025T010000
END:STANDARD
BEGIN:DAYLIGHT
TZOFFSETFROM:+0200
TZOFFSETTO:+0300
TZNAME:EEST
DTSTART:20270328T010000
END:DAYLIGHT
BEGIN:STANDARD
TZOFFSETFROM:+0300
TZOFFSETTO:+0200
TZNAME:EET
DTSTART:20271031T010000
END:STANDARD
END:VTIMEZONE
BEGIN:VEVENT
DTSTART;TZID=Europe/Helsinki:20260221T100000
DTEND;TZID=Europe/Helsinki:20260308T170000
DTSTAMP:20260422T191436
CREATED:20260219T093923Z
LAST-MODIFIED:20260219T093923Z
UID:10004228-1771668000-1772989200@kuopionmuseot.fi
SUMMARY:Talvitouhuja-suunnistus
DESCRIPTION:Kylmät\, valkoiset talvet täynnä vaikka minkämoista tekemistä ovat aina kuuluneet savolaisten elämään. \nTalvitouhuja-suunnistuksella etsitään eri aikojen talvipuuhia\, joita on piilotettu museon perusnäyttelyihin. Kierros on esillä 21.2.–8.3. ja sisältyy museon pääsymaksuun. Alle 18-vuotiaille museovierailu on aina maksuton!
URL:https://kuopionmuseot.fi/tapahtuma/talvitouhuja-suunnistus-2/
LOCATION:Kuopion museo
ATTACH;FMTTYPE=image/png:https://kuopionmuseot.fi/wp-content/uploads/2026/02/Talvitouhuja.png
ORGANIZER;CN="Kuopion museo":MAILTO:kuopionmuseo@kuopio.fi
END:VEVENT
BEGIN:VEVENT
DTSTART;TZID=Europe/Helsinki:20260225T140000
DTEND;TZID=Europe/Helsinki:20260225T170000
DTSTAMP:20260422T191436
CREATED:20260128T115113Z
LAST-MODIFIED:20260129T114931Z
UID:10004167-1772028000-1772038800@kuopionmuseot.fi
SUMMARY:Ompeluseurat – Hitaasti\, hiljaa korjataan SOHVA
DESCRIPTION:Ompeluseurat \nHitaasti\, hiljaa korjataan SOHVA \n  \n\n\n\nKUMMA – Kuopion taidemuseo\, Kumma keitos -näyttely\, Kulmio-galleria 25.2.–25.11.2026 \n\n\n\nOmpeluseurat kutsuu mukaan korjaamaan hiljaa ja hitaasti taidemuseon sohvaa. Otetaan kantaa\, kommentoidaan\, ajatellaan maailmaa sanoilla ja pistoilla. Ompeluseurat aikana SOHVASTA muotoutuu kommentoiva ja kantaaottava teos. \n\n\n\nSamalla yleisö on kutsuttu tuomaan mukanaan omia pieniä korjattavia tekstiilejä. Työskennellään rauhallisesti taiteen ympäröimänä. Tarvittaessa saat ohjausta korjaamiseen. Paikan päällä on käytettävissä työkalupakillinen lankoja\, neuloja\, saksia ja pieniä paikkakankaita. \n\n\n\nOmpeluseurat taiteellinen ydin koostuu perustajista Jaana Kurttilasta\, vastuu­korjaajasta\, ja Johanna Jauhiaisesta\, sanojen luovuttajasta. Mukaan liittyy toisinaan paikallisia esittävän taiteen taiteilijoita. \n\n\n\nTapahtuma sopii kaikille\, jotka haluavat korjata käsin hitaasti ja hiljaa taiteen äärellä. Osallistuminen on maksutonta\, kun tuot mukanasi jotakin korjattavaa. Korjauspisteelle mahtuu kerrallaan 10 osallistujaa. \n\n\n\n  \n\n\n\nAikataulu: \n\n\n\nKe 25.2. klo 15–18 \nKe 25.3. klo 15–18 \nLa 25.4. klo 14–17 \nPe 25.9. klo 14–17 \nSu 25.10. klo 14–17 \nKe 25.11. klo 15–18 \n\n\n\n  \n\n\n\nYhteistyössä: \n\n\n\nKUMMA · OMPELUSEURAT · ITAK
URL:https://kuopionmuseot.fi/tapahtuma/hitaasti-hiljaa-korjataan-sohva/2026-02-25/3/
LOCATION:KUMMA\, Kauppakatu 35\, Kuopio\, 70100
ATTACH;FMTTYPE=image/jpeg:https://kuopionmuseot.fi/wp-content/uploads/2026/01/ompeluseurat_nettikuva.jpg
ORGANIZER;CN="KUMMA":MAILTO:taidemuseo@kuopio.fi
END:VEVENT
BEGIN:VEVENT
DTSTART;TZID=Europe/Helsinki:20260225T150000
DTEND;TZID=Europe/Helsinki:20260225T180000
DTSTAMP:20260422T191436
CREATED:20260128T115113Z
LAST-MODIFIED:20260129T114931Z
UID:10004168-1772031600-1772042400@kuopionmuseot.fi
SUMMARY:Ompeluseurat – Hitaasti\, hiljaa korjataan SOHVA
DESCRIPTION:Ompeluseurat \nHitaasti\, hiljaa korjataan SOHVA \n  \n\n\n\nKUMMA – Kuopion taidemuseo\, Kumma keitos -näyttely\, Kulmio-galleria 25.2.–25.11.2026 \n\n\n\nOmpeluseurat kutsuu mukaan korjaamaan hiljaa ja hitaasti taidemuseon sohvaa. Otetaan kantaa\, kommentoidaan\, ajatellaan maailmaa sanoilla ja pistoilla. Ompeluseurat aikana SOHVASTA muotoutuu kommentoiva ja kantaaottava teos. \n\n\n\nSamalla yleisö on kutsuttu tuomaan mukanaan omia pieniä korjattavia tekstiilejä. Työskennellään rauhallisesti taiteen ympäröimänä. Tarvittaessa saat ohjausta korjaamiseen. Paikan päällä on käytettävissä työkalupakillinen lankoja\, neuloja\, saksia ja pieniä paikkakankaita. \n\n\n\nOmpeluseurat taiteellinen ydin koostuu perustajista Jaana Kurttilasta\, vastuu­korjaajasta\, ja Johanna Jauhiaisesta\, sanojen luovuttajasta. Mukaan liittyy toisinaan paikallisia esittävän taiteen taiteilijoita. \n\n\n\nTapahtuma sopii kaikille\, jotka haluavat korjata käsin hitaasti ja hiljaa taiteen äärellä. Osallistuminen on maksutonta\, kun tuot mukanasi jotakin korjattavaa. Korjauspisteelle mahtuu kerrallaan 10 osallistujaa. \n\n\n\n  \n\n\n\nAikataulu: \n\n\n\nKe 25.2. klo 15–18 \nKe 25.3. klo 15–18 \nLa 25.4. klo 14–17 \nPe 25.9. klo 14–17 \nSu 25.10. klo 14–17 \nKe 25.11. klo 15–18 \n\n\n\n  \n\n\n\nYhteistyössä: \n\n\n\nKUMMA · OMPELUSEURAT · ITAK
URL:https://kuopionmuseot.fi/tapahtuma/hitaasti-hiljaa-korjataan-sohva/2026-02-25/2/
LOCATION:KUMMA\, Kauppakatu 35\, Kuopio\, 70100
ATTACH;FMTTYPE=image/jpeg:https://kuopionmuseot.fi/wp-content/uploads/2026/01/ompeluseurat_nettikuva.jpg
ORGANIZER;CN="KUMMA":MAILTO:taidemuseo@kuopio.fi
END:VEVENT
BEGIN:VEVENT
DTSTART;TZID=Europe/Helsinki:20260225T160000
DTEND;TZID=Europe/Helsinki:20260225T180000
DTSTAMP:20260422T191436
CREATED:20250127T112140Z
LAST-MODIFIED:20260203T102719Z
UID:10004175-1772035200-1772042400@kuopionmuseot.fi
SUMMARY:Taidetyöpaja sukupuoli- ja seksuaalivähemmistöön kuuluville / Art Workshops for Queer People
DESCRIPTION:Drawing Out Loud – Taidetyöpaja sukupuoli- ja seksuaalivähemmistöön kuuluville \nKoetko kuuluvasi seksuaali- ja sukupuolivähemmistöön tai pohdit näitä asioita? Tervetuloa piirtämään\, tapaamaan ystäviä\, lepäämään\, kuuntelemaan\, olemaan\, unohtamaan\, tyhjentämään pääsi\, tekemään virheitä\, nauramaan ääneen\, jakamaan ajatuksia ja olemaan queer hyvässä ja luovassa seurassa! Tänä keväänä Drawing out loud -työpajassa luodaan uusia piirroksia sekä yksin että yhdessä. Tule mukaan kerran tai osallistu koko kevään ajan! \nKysymyksiä ja ilmoittautuminen mukaan: emmavilina@gmail.com \nTyöpajat ovat osallistujille maksuttomia. Aiempaa osaamista tai kokemusta taiteellisesta työskentelystä ei tarvita. Työpajojen ikäraja on 18 vuotta. \nDRAWING OUT LOUD: Taidetyöpajat seksuaali- ja sukupuolivähemmistöille \nMaksuton aikuisten ryhmä\, yli 18 – vuotiaat\nKeskiviikot  11.2. / 25.2 / 11.3 / 25.3 / 8.4 / 22.4. / 6.5. / 20.5. klo 16-18\nKuopion Museon oppimistilassa\nIlmoittautuminen & info: ohjaaja Emma Fält\, emmavilina@gmail.com / https://emmafalt.net/ \nYhteistyössä Kuopion Kaupunki ja Kuopion Museo \nYstävällisin terveisin\,\nOhjaaja\, Emma Fält (They / Them) \n**** \nIn English: \nDrawing Out Loud\nArt workshops for queer people \nIn the workshops aimed at adults\, we explore the world by drawing and through various listening and sensing exercises. We reflect on physicality\, diversity\, being in different spaces and how we perceive ourselves in them. This spring\, we will work on various listening exercises and think about interaction between human and non-human. Let’s start the year by going through together what kind of workshops are coming up. \nThe key to working is interaction and the opportunity to create a space where those who perceive themselves as queer* can express themselves and get to know each other through making\, as well as search and find suitable forms of artistic expression. Come along and bring your friends! \nThe workshops are free of charge for the participants. Previous knowledge or experience in artistic work\, neither tools are not required. The age limit for the workshops is 18 years. \nDRAWING OUT LOUD: Art workshops for sexual and  gender minorities\nFree adult group\, +18 years old\nWednesdays 11.2. / 25.2 / 11.3 / 25.3 / 8.4 / 22.4. / 6.5. / 20.5  16-18\nKuopio MUSEUM\, Pedagogical space\nSign up & info: Facilitator Emma Fält\, emmavilina@gmail.com / https://emmafalt.net/ \nTogether with Kuopio City and Kuopio Museum \nKind regards\, Artist and teacher\, Emma Fält (They / Them)
URL:https://kuopionmuseot.fi/tapahtuma/taidetyopaja-sukupuoli-ja-seksuaalivahemmistoon-kuuluville/2026-02-25/
LOCATION:Kuopion museo
ATTACH;FMTTYPE=image/jpeg:https://kuopionmuseot.fi/wp-content/uploads/2025/01/Queer-taidepaja-kuva.jpg
END:VEVENT
END:VCALENDAR