BEGIN:VCALENDAR
VERSION:2.0
PRODID:-//Kuopion museot - ECPv6.15.20//NONSGML v1.0//EN
CALSCALE:GREGORIAN
METHOD:PUBLISH
X-ORIGINAL-URL:https://kuopionmuseot.fi
X-WR-CALDESC:Tapahtumat Kuopion museot
REFRESH-INTERVAL;VALUE=DURATION:PT1H
X-Robots-Tag:noindex
X-PUBLISHED-TTL:PT1H
BEGIN:VTIMEZONE
TZID:Europe/Helsinki
BEGIN:DAYLIGHT
TZOFFSETFROM:+0200
TZOFFSETTO:+0300
TZNAME:EEST
DTSTART:20250330T010000
END:DAYLIGHT
BEGIN:STANDARD
TZOFFSETFROM:+0300
TZOFFSETTO:+0200
TZNAME:EET
DTSTART:20251026T010000
END:STANDARD
BEGIN:DAYLIGHT
TZOFFSETFROM:+0200
TZOFFSETTO:+0300
TZNAME:EEST
DTSTART:20260329T010000
END:DAYLIGHT
BEGIN:STANDARD
TZOFFSETFROM:+0300
TZOFFSETTO:+0200
TZNAME:EET
DTSTART:20261025T010000
END:STANDARD
BEGIN:DAYLIGHT
TZOFFSETFROM:+0200
TZOFFSETTO:+0300
TZNAME:EEST
DTSTART:20270328T010000
END:DAYLIGHT
BEGIN:STANDARD
TZOFFSETFROM:+0300
TZOFFSETTO:+0200
TZNAME:EET
DTSTART:20271031T010000
END:STANDARD
END:VTIMEZONE
BEGIN:VEVENT
DTSTART;TZID=Europe/Helsinki:20260221T100000
DTEND;TZID=Europe/Helsinki:20260308T170000
DTSTAMP:20260422T191436
CREATED:20260219T093923Z
LAST-MODIFIED:20260219T093923Z
UID:10004228-1771668000-1772989200@kuopionmuseot.fi
SUMMARY:Talvitouhuja-suunnistus
DESCRIPTION:Kylmät\, valkoiset talvet täynnä vaikka minkämoista tekemistä ovat aina kuuluneet savolaisten elämään. \nTalvitouhuja-suunnistuksella etsitään eri aikojen talvipuuhia\, joita on piilotettu museon perusnäyttelyihin. Kierros on esillä 21.2.–8.3. ja sisältyy museon pääsymaksuun. Alle 18-vuotiaille museovierailu on aina maksuton!
URL:https://kuopionmuseot.fi/tapahtuma/talvitouhuja-suunnistus-2/
LOCATION:Kuopion museo
ATTACH;FMTTYPE=image/png:https://kuopionmuseot.fi/wp-content/uploads/2026/02/Talvitouhuja.png
ORGANIZER;CN="Kuopion museo":MAILTO:kuopionmuseo@kuopio.fi
END:VEVENT
BEGIN:VEVENT
DTSTART;TZID=Europe/Helsinki:20260224T150000
DTEND;TZID=Europe/Helsinki:20260224T170000
DTSTAMP:20260422T191436
CREATED:20260203T104015Z
LAST-MODIFIED:20260203T104015Z
UID:10004182-1771945200-1771952400@kuopionmuseot.fi
SUMMARY:Taidetyöpaja sukupuoli- ja seksuaalivähemmistöön kuuluville\, NUORET / Art Workshops for Queer People\, YOUTH
DESCRIPTION:Nuorten paja / Youth (under 18 years ) \nTIISTAI 15-17 / TUESDAYS between 15-17\, Museokatu 1\, 70100 Kuopio (pedagoginen tila) \n24.2./ 10.3./ 24.3./ 7.4./ 21.4/ 5.5. \nEi sisäänpääsyä\, materiaalit tarjoaa työpaja / free admission\, materials provided by the workshop \n— \nKoetko että olet Seksuaali- ja sukupuolivähemmistöön kuuluva nuori\, tai pohdit näitä asioita? Tervetuloa piirtämään\, tapaamaan ystäviä\, lepäämään\, kuuntelemaan\, olemaan\, unohtamaan\, tyhjentämään pääsi\, tekemään virheitä\, nauramaan ääneen\, jakamaan ajatuksia ja olemaan queer hyvässä ja luovassa seurassa! Tänä keväänä luomme uusia piirroksia sekä yksin\, että yhdessä\, kuten tavallista. Tapaat uusia vierailijoita ja saat luoda pienen paikan/kodin/suojan itsellesi. Tule mukaan kerran tai osallistu koko kevään ajan! \nKysymyksiä ja ilmoittautuminen mukaan: emmavilina@gmail.com \n— \nWelcome to draw\, meet friends\, rest\, listen\, be\, forget\, empty your head\, make mistakes\, laugh out loud\, share thoughts and be queer in good creative company! This spring\, we are going to create some new pieces individually and together\, as always. You will meet new visitors and create a little place/home/shelter for your queerness. Visit once or participate throughout the spring! \nAsk any question\, and sign in at: emmavilina@gmail.com \nIn collaboration with Kuopio City and Kuopio Museum \nArriving at the museum Museokatu 1\, 70100 Kuopio \nThere is only a short walk from the Kuopio Market Square to Kuopio Museum. It is easy to get to the museum by public transport. \n  \n— \nEmma Fält (They/Them)\nDrawing out loud\nhttp://emmafalt.net
URL:https://kuopionmuseot.fi/tapahtuma/taidetyopaja-sukupuoli-ja-seksuaalivahemmistoon-kuuluville-nuoret-art-workshops-for-queer-people-youth/2026-02-24/
LOCATION:Kuopion museo
ATTACH;FMTTYPE=image/jpeg:https://kuopionmuseot.fi/wp-content/uploads/2026/02/queer-museum-pieni-mainos-nuoret.jpg
END:VEVENT
BEGIN:VEVENT
DTSTART;TZID=Europe/Helsinki:20260224T160000
DTEND;TZID=Europe/Helsinki:20260224T163000
DTSTAMP:20260422T191436
CREATED:20260211T091102Z
LAST-MODIFIED:20260211T091102Z
UID:10004201-1771948800-1771950600@kuopionmuseot.fi
SUMMARY:Sinun orkesterisi kylässä KUMMAssa ti 24.2. klo 16
DESCRIPTION:Kuopion kaupunginorkesterin lyömäsoittajat\, Sho Kubota ja Yukari Yagi vierailevat tiistaina 24.2. klo 16 Kuopion taidemuseo KUMMAssa Villit-näyttelyn innoittamina. \nKonsertin ohjelmassa on kaksi Steve Reichin marimboille säveltämää kappaletta: alun perin kahdelle pianolle kirjoitettu Marimba Phase (1967) sekä virtuoottinen Nagoya Marimbas (1994). Lisäksi kuullaan Klaus Huberin teos Finger Capriccio (2006). \n  \nMinikonsertin kesto on noin 30 minuuttia. \nEsitys kuuluu sisäänpääsyn hintaan\, alle 18-vuotiaat ilmaiseksi ja Museokortti ja Kaikukortti käy maksuvälineiksi tottakai. \n  \nKuva: Petra Tiihonen / Alias Creative
URL:https://kuopionmuseot.fi/tapahtuma/sinun-orkesterisi-kylassa-kummassa-ti-24-2-klo-16/
ATTACH;FMTTYPE=image/jpeg:https://kuopionmuseot.fi/wp-content/uploads/2026/02/KKO_pillipiiparit_small_creditPetraTiihonen-AliasCreative-scaled.jpg
END:VEVENT
END:VCALENDAR