BEGIN:VCALENDAR
VERSION:2.0
PRODID:-//Kuopion museot - ECPv6.15.20//NONSGML v1.0//EN
CALSCALE:GREGORIAN
METHOD:PUBLISH
X-ORIGINAL-URL:https://kuopionmuseot.fi
X-WR-CALDESC:Tapahtumat Kuopion museot
REFRESH-INTERVAL;VALUE=DURATION:PT1H
X-Robots-Tag:noindex
X-PUBLISHED-TTL:PT1H
BEGIN:VTIMEZONE
TZID:Europe/Helsinki
BEGIN:DAYLIGHT
TZOFFSETFROM:+0200
TZOFFSETTO:+0300
TZNAME:EEST
DTSTART:20250330T010000
END:DAYLIGHT
BEGIN:STANDARD
TZOFFSETFROM:+0300
TZOFFSETTO:+0200
TZNAME:EET
DTSTART:20251026T010000
END:STANDARD
BEGIN:DAYLIGHT
TZOFFSETFROM:+0200
TZOFFSETTO:+0300
TZNAME:EEST
DTSTART:20260329T010000
END:DAYLIGHT
BEGIN:STANDARD
TZOFFSETFROM:+0300
TZOFFSETTO:+0200
TZNAME:EET
DTSTART:20261025T010000
END:STANDARD
BEGIN:DAYLIGHT
TZOFFSETFROM:+0200
TZOFFSETTO:+0300
TZNAME:EEST
DTSTART:20270328T010000
END:DAYLIGHT
BEGIN:STANDARD
TZOFFSETFROM:+0300
TZOFFSETTO:+0200
TZNAME:EET
DTSTART:20271031T010000
END:STANDARD
END:VTIMEZONE
BEGIN:VEVENT
DTSTART;VALUE=DATE:20260111
DTEND;VALUE=DATE:20260112
DTSTAMP:20260423T100036
CREATED:20251221T093309Z
LAST-MODIFIED:20251221T094410Z
UID:10004097-1768089600-1768175999@kuopionmuseot.fi
SUMMARY:Savolainen murhenäytelmä
DESCRIPTION:Myöhäiskesän ilta saa traagisen käänteen Savolanrinteen tilalla\, kun talon isäntä ja hänen veljensä katoavat heinänmyyntireissullansa. Mitä on oikein tapahtunut? \nSaatko ratkaistua Savolaisen murhenäytelmän? Tule kokeilemaan yksin tai kavereiden kanssa! \nSavolainen murhenäytelmä on tarinallinen omatoimikierros Kuopion museon Myyttiset – metsän kätköissä -näyttelyssä. Kierros on rakennettu huonepakopeleistä ja murhamysteereistä inspiroituen. Tarvitset tarkkaavaisuutta\, ongelmanratkaisukykyä ja päättelytaitoa – sekä älylaitteen\, jolla avata QR-koodeja. \nHinta: Kuopion museon pääsylippu + omatoimikierrosmaksu 2 €/henkilö. Saatavilla Kuopion museon lipunmyynnistä. Kierroksen voi suorittaa museon aukiloaikoina\, ja siihen kannattaa varata aikaa ainakin noin 30 minuuttia. \nEi sovellu alle 15-vuotiaille.
URL:https://kuopionmuseot.fi/tapahtuma/savolainen-murhenaytelma/2026-01-11/
LOCATION:Kuopion museo
ATTACH;FMTTYPE=image/jpeg:https://kuopionmuseot.fi/wp-content/uploads/2025/12/Guided-tour.jpg
ORGANIZER;CN="Kuopion museo":MAILTO:kuopionmuseo@kuopio.fi
END:VEVENT
BEGIN:VEVENT
DTSTART;TZID=Europe/Helsinki:20260111T140000
DTEND;TZID=Europe/Helsinki:20260111T150000
DTSTAMP:20260423T100036
CREATED:20251119T084542Z
LAST-MODIFIED:20251119T084542Z
UID:10004038-1768140000-1768143600@kuopionmuseot.fi
SUMMARY:Yleisöopastus Kummaan keitokseen
DESCRIPTION:Kumma keitos – tarinoita kokoelmista\nMitä yhteistä on Kevät-veistoksella\, salaperäisellä yöllä 18.6.1988 ja kauppaneuvos Oskar Huttusella? Entä mitä tapahtuu\, kun kokoelmaähky iskee? KUMMAn uusi kokoelmanäyttely Kumma keitos ei tyydy ainoastaan tarjoilemaan teoksia taiteennälkään – se kutsuu sinut lusikoimaan tarinoita\, jotka ovat yhtä outoja ja yllättäviä kuin itse museon kokoelmat. \nNäyttelyssä sukelletaan syvälle taiteenkeräilyn salaisuuksiin: miksi ihminen haluaa omistaa\, säilöä ja järjestää? Miten syntyy kokoelma\, ja mitä tapahtuu\, kun keräily menee vähän… överiksi? Mukana on myös taidekaupan kiemuroita\, väärennösten villi maailma ja pulmia\, jotka saavat sinut epäilemään kaikkea – jopa omia silmiäsi. \nJa sitten ne aarteet. Ne\, joita ei ole koskaan ennen nähty näyttelyssä\, koska eihän sellaisia aarteita uskalleta esille laittaa. Kyllä\, nyt niitä on esillä. Tule katsomaan\, mitä kaikkea museon kätköistä voi löytyä. \nKumma keitos on totaalinen taidekokemus\, mutta samalla se on myös seikkailu. Näyttelyssä voit tehdä katsauksen taidekauppiaan peräkonttiin\, jollaisesta joku kaupunginisä on aikoinaan ostanut perävalotakuulla teoksia. Astu kipsikaappiin\, jossa ajan hammas on jo nakertanut omansa. Murentuneet teokset ja pölyksi hajonneet muodot kertovat kuiskaten siitä\, mitä joskus oli – ja mitä ei enää ole. Pääset vaikuttamaan itse myös näkemiisi teoksiin: Mediataidetilassa valitset itse mitä katsot.  Ja kyllä\, näyttelyssä on voita. Miksi? Miten se liittyy kokoelmiin\, selviää näyttelyssä. \nKumma keitos kutsuu sinut myös aikamatkalle\, pelaamaan Kummapulma-taideväärennöspeliä ja ehkä – vain ehkä – ratkaisemaan mysteerin\, joka on odottanut ratkaisijaansa vuodesta 1988. \n  \nOpastus kuuluu sisäänpääsyn hintaan \, alle 18-vuotiaat ilmaiseksi ja Museokortti käy maksuvälineeksi tottakai.
URL:https://kuopionmuseot.fi/tapahtuma/yleisoopastus-kummaan-keitokseen/2026-01-11/
ATTACH;FMTTYPE=image/jpeg:https://kuopionmuseot.fi/wp-content/uploads/2025/11/kumma-keitos_hero-kuva_2025-10-06.jpg
END:VEVENT
BEGIN:VEVENT
DTSTART;TZID=Europe/Helsinki:20260111T150000
DTEND;TZID=Europe/Helsinki:20260111T160000
DTSTAMP:20260423T100036
CREATED:20250916T110653Z
LAST-MODIFIED:20250916T110653Z
UID:10004002-1768143600-1768147200@kuopionmuseot.fi
SUMMARY:Juha Valkeapää: Ollaan eläimiksi!
DESCRIPTION:Ollaan eläimiksi! on Juha Valkeapään sanaton ja sanainen esitys\, joka kutsuu pohtimaan\, kuvittelemaan ja kokeilemaan maailmassa olemista muunlajisten eläinten perspektiivistä. Esityksessä Valkeapään ääni\, keho ja liike\, sekä teoksen runot\, performanssiohjeet ja äänimaailmat levittäytyvät eri huoneisiin muuttaen kaikki teatterin tilat / koko museotilan esityksen näyttämöksi. \nKevyellä ja leikkisällä otteellaan Ollaan eläimiksi! kääntää katseen toisiin eläimiin ja siihen\, miten kaikki elävät ja elottomat oliot ovat yhteydessä keskenään ja riippuvaisia toistensa tekemisistä. Teoksen rungon muodostavat sanaton ja sanallinen ääntely\, sekä esitysohjeet\, joita Valkeapää toteuttaa yhdessä yleisön kanssa. Suurin osa esityksen runoista on Eeva Kilven kokoelmasta Animalia\, jonka lisäksi kuullaan tekstejä muiden muassa Anni Kytömäeltä\, Sirpa Kyyröseltä\, Henriikka Tavilta sekä Eva Meijerin teoksesta Animal Languages. Suomen- ja/tai englanninkielinen esitys sopii kaikenikäisille. \nKäsikirjoitus\, ohjaus\, esitys Juha Valkeapää\nValo- ja tilasuunnittelu Jenni Pystynen\nDramaturginen apu\, englanninnokset Heidi Soidinsalo\nPuku Tero Nauha ja JV\nKaunokirjalliset tekstit Eeva Kilpi\, Matsuo Bashõ\, William Blake\, Anni Kytömäki\, Sirpa Kyyrönen\, W. S. Merwin\, Maila Pylkkönen\, Henriikka Tavi\, Suomen kansan vanhat runot\nMuut tekstit Eva Meijer\, Juha Valkeapää\nTuotanto Juha Valkeapään Ääni\nTuki Taiteen edistämiskeskus\, Suomen kulttuurirahasto
URL:https://kuopionmuseot.fi/tapahtuma/juha-valkeapaa-ollaan-elaimiksi/2026-01-11/
LOCATION:KUMMA\, Kauppakatu 35\, Kuopio\, 70100
ATTACH;FMTTYPE=image/jpeg:https://kuopionmuseot.fi/wp-content/uploads/2025/09/Ollaan-elaimiksi-1920x080-1.jpg
ORGANIZER;CN="KUMMA":MAILTO:taidemuseo@kuopio.fi
END:VEVENT
END:VCALENDAR