BEGIN:VCALENDAR
VERSION:2.0
PRODID:-//Kuopion museot - ECPv6.15.20//NONSGML v1.0//EN
CALSCALE:GREGORIAN
METHOD:PUBLISH
X-WR-CALNAME:Kuopion museot
X-ORIGINAL-URL:https://kuopionmuseot.fi
X-WR-CALDESC:Tapahtumat Kuopion museot
REFRESH-INTERVAL;VALUE=DURATION:PT1H
X-Robots-Tag:noindex
X-PUBLISHED-TTL:PT1H
BEGIN:VTIMEZONE
TZID:Europe/Helsinki
BEGIN:DAYLIGHT
TZOFFSETFROM:+0200
TZOFFSETTO:+0300
TZNAME:EEST
DTSTART:20240331T010000
END:DAYLIGHT
BEGIN:STANDARD
TZOFFSETFROM:+0300
TZOFFSETTO:+0200
TZNAME:EET
DTSTART:20241027T010000
END:STANDARD
BEGIN:DAYLIGHT
TZOFFSETFROM:+0200
TZOFFSETTO:+0300
TZNAME:EEST
DTSTART:20250330T010000
END:DAYLIGHT
BEGIN:STANDARD
TZOFFSETFROM:+0300
TZOFFSETTO:+0200
TZNAME:EET
DTSTART:20251026T010000
END:STANDARD
BEGIN:DAYLIGHT
TZOFFSETFROM:+0200
TZOFFSETTO:+0300
TZNAME:EEST
DTSTART:20260329T010000
END:DAYLIGHT
BEGIN:STANDARD
TZOFFSETFROM:+0300
TZOFFSETTO:+0200
TZNAME:EET
DTSTART:20261025T010000
END:STANDARD
END:VTIMEZONE
BEGIN:VEVENT
DTSTART;TZID=Europe/Helsinki:20251119T100000
DTEND;TZID=Europe/Helsinki:20251119T103000
DTSTAMP:20260423T070346
CREATED:20251105T145416Z
LAST-MODIFIED:20251105T145416Z
UID:10004030-1763546400-1763548200@kuopionmuseot.fi
SUMMARY:Kuopion synttärisatutunti
DESCRIPTION:Tervetuloa juhlimaan 250-vuotiasta kaupunkiamme Kuopion pääkirjaston ja Kuopion museon yhteiselle satutunnille! Synttärisatutunnin aiheena on tietenkin Kuopion kiehtova historia ja siihen tutustutaan tutulla Kantti-reseptillä eli tietoa ja tarinoita yhdistelemällä. \nSatutunti järjestetään ke 19.11. klo 10  Kuopion museon monitoimitilassa ja se kestää noin puolituntia. Paikalle voi saapua klo 9.40 alkaen. Osallistuminen on maksutonta ja parhaiten sisällöt soveltuvat 3–7-vuotiaille.
URL:https://kuopionmuseot.fi/tapahtuma/kuopion-synttarisatutunti/
LOCATION:Kuopion museo
ATTACH;FMTTYPE=image/jpeg:https://kuopionmuseot.fi/wp-content/uploads/2025/11/Synttarisatutunti.jpg
END:VEVENT
BEGIN:VEVENT
DTSTART;TZID=Europe/Helsinki:20251119T170000
DTEND;TZID=Europe/Helsinki:20251119T180000
DTSTAMP:20260423T070346
CREATED:20251024T120236Z
LAST-MODIFIED:20251024T120948Z
UID:10004025-1763571600-1763575200@kuopionmuseot.fi
SUMMARY:Pääkalloja Pohjois-Savosta ja Pohjois-Karjalasta
DESCRIPTION:Luennoitsija FT\, Dosentti Ulla Nordfors \nElokuussa 2024 Ruotsista palautettiin Suomeen 82 pääkalloa\, jotka olivat päätyneet Karoliinisen instituutin anatomiseen kokoelmaan 1800-luvulla. Mukana oli myös yksilöitä Pielavedeltä\, Rautalammilta\, Kiuruvedeltä ja Enosta. Kaikista kalloista otettuja näytteitä tutkitaan parhaillaan Koneen säätiön rahoittamassa tutkimushankkeessa\, jossa selvitetään anatomisiin kokoelmiin päätyneiden ihmisten elämäntarinoita. Tervetuloa kuulemaan lisää itäsuomalaisten kallojen matkasta ja siitä\, mitä monitieteiset tutkimusmenetelmät voivat kertoa menneisyyden ihmisistä Pohjois-Savossa ja Pohjois-Karjalassa. \nUlla Nordfors on rautakauden\, keskiajan ja varhaismodernin ajan hautausten arkeologiaan erikoistunut arkeologi. Hän tutkii myös ihmisten elämänhistoriaa ja elintapoja sekä sairauksien historiaa monitieteisin menetelmin. \nLuento pidetään Kuopion museon monitoimitilassa\, joka on esteetön. Luentoa on mahdollista seurata myös striimattuna Kuopion museon Youtube-kanavalla. Striimausta ei tallenneta\, joten sitä ei voi katsoa jälkikäteen. \nTilaisuus järjestetään yhteistyössä Kuopion isänmaallisen seuran kanssa ja se on maksuton yleisölle.
URL:https://kuopionmuseot.fi/tapahtuma/paakalloja-pohjois-savosta-ja-pohjois-karjalasta/
ATTACH;FMTTYPE=image/jpeg:https://kuopionmuseot.fi/wp-content/uploads/2025/10/Pangansalo_kartta.jpg
END:VEVENT
BEGIN:VEVENT
DTSTART;TZID=Europe/Helsinki:20251119T170000
DTEND;TZID=Europe/Helsinki:20251119T190000
DTSTAMP:20260423T070346
CREATED:20250127T112140Z
LAST-MODIFIED:20260203T102719Z
UID:10003913-1763571600-1763578800@kuopionmuseot.fi
SUMMARY:Taidetyöpaja sukupuoli- ja seksuaalivähemmistöön kuuluville / Art Workshops for Queer People
DESCRIPTION:Drawing Out Loud – Taidetyöpaja sukupuoli- ja seksuaalivähemmistöön kuuluville \nKoetko kuuluvasi seksuaali- ja sukupuolivähemmistöön tai pohdit näitä asioita? Tervetuloa piirtämään\, tapaamaan ystäviä\, lepäämään\, kuuntelemaan\, olemaan\, unohtamaan\, tyhjentämään pääsi\, tekemään virheitä\, nauramaan ääneen\, jakamaan ajatuksia ja olemaan queer hyvässä ja luovassa seurassa! Tänä keväänä Drawing out loud -työpajassa luodaan uusia piirroksia sekä yksin että yhdessä. Tule mukaan kerran tai osallistu koko kevään ajan! \nKysymyksiä ja ilmoittautuminen mukaan: emmavilina@gmail.com \nTyöpajat ovat osallistujille maksuttomia. Aiempaa osaamista tai kokemusta taiteellisesta työskentelystä ei tarvita. Työpajojen ikäraja on 18 vuotta. \nDRAWING OUT LOUD: Taidetyöpajat seksuaali- ja sukupuolivähemmistöille \nMaksuton aikuisten ryhmä\, yli 18 – vuotiaat\nKeskiviikot  11.2. / 25.2 / 11.3 / 25.3 / 8.4 / 22.4. / 6.5. / 20.5. klo 16-18\nKuopion Museon oppimistilassa\nIlmoittautuminen & info: ohjaaja Emma Fält\, emmavilina@gmail.com / https://emmafalt.net/ \nYhteistyössä Kuopion Kaupunki ja Kuopion Museo \nYstävällisin terveisin\,\nOhjaaja\, Emma Fält (They / Them) \n**** \nIn English: \nDrawing Out Loud\nArt workshops for queer people \nIn the workshops aimed at adults\, we explore the world by drawing and through various listening and sensing exercises. We reflect on physicality\, diversity\, being in different spaces and how we perceive ourselves in them. This spring\, we will work on various listening exercises and think about interaction between human and non-human. Let’s start the year by going through together what kind of workshops are coming up. \nThe key to working is interaction and the opportunity to create a space where those who perceive themselves as queer* can express themselves and get to know each other through making\, as well as search and find suitable forms of artistic expression. Come along and bring your friends! \nThe workshops are free of charge for the participants. Previous knowledge or experience in artistic work\, neither tools are not required. The age limit for the workshops is 18 years. \nDRAWING OUT LOUD: Art workshops for sexual and  gender minorities\nFree adult group\, +18 years old\nWednesdays 11.2. / 25.2 / 11.3 / 25.3 / 8.4 / 22.4. / 6.5. / 20.5  16-18\nKuopio MUSEUM\, Pedagogical space\nSign up & info: Facilitator Emma Fält\, emmavilina@gmail.com / https://emmafalt.net/ \nTogether with Kuopio City and Kuopio Museum \nKind regards\, Artist and teacher\, Emma Fält (They / Them)
URL:https://kuopionmuseot.fi/tapahtuma/taidetyopaja-sukupuoli-ja-seksuaalivahemmistoon-kuuluville/2025-11-19/
LOCATION:Kuopion museo
ATTACH;FMTTYPE=image/jpeg:https://kuopionmuseot.fi/wp-content/uploads/2025/01/Queer-taidepaja-kuva.jpg
END:VEVENT
END:VCALENDAR