BEGIN:VCALENDAR
VERSION:2.0
PRODID:-//Kuopion museot - ECPv6.15.20//NONSGML v1.0//EN
CALSCALE:GREGORIAN
METHOD:PUBLISH
X-ORIGINAL-URL:https://kuopionmuseot.fi
X-WR-CALDESC:Tapahtumat Kuopion museot
REFRESH-INTERVAL;VALUE=DURATION:PT1H
X-Robots-Tag:noindex
X-PUBLISHED-TTL:PT1H
BEGIN:VTIMEZONE
TZID:Europe/Helsinki
BEGIN:DAYLIGHT
TZOFFSETFROM:+0200
TZOFFSETTO:+0300
TZNAME:EEST
DTSTART:20240331T010000
END:DAYLIGHT
BEGIN:STANDARD
TZOFFSETFROM:+0300
TZOFFSETTO:+0200
TZNAME:EET
DTSTART:20241027T010000
END:STANDARD
BEGIN:DAYLIGHT
TZOFFSETFROM:+0200
TZOFFSETTO:+0300
TZNAME:EEST
DTSTART:20250330T010000
END:DAYLIGHT
BEGIN:STANDARD
TZOFFSETFROM:+0300
TZOFFSETTO:+0200
TZNAME:EET
DTSTART:20251026T010000
END:STANDARD
BEGIN:DAYLIGHT
TZOFFSETFROM:+0200
TZOFFSETTO:+0300
TZNAME:EEST
DTSTART:20260329T010000
END:DAYLIGHT
BEGIN:STANDARD
TZOFFSETFROM:+0300
TZOFFSETTO:+0200
TZNAME:EET
DTSTART:20261025T010000
END:STANDARD
END:VTIMEZONE
BEGIN:VEVENT
DTSTART;TZID=Europe/Helsinki:20251115T100000
DTEND;TZID=Europe/Helsinki:20251115T120000
DTSTAMP:20260423T070430
CREATED:20251104T092154Z
LAST-MODIFIED:20251104T092154Z
UID:10004029-1763200800-1763208000@kuopionmuseot.fi
SUMMARY:Lapsen oikeuksien päivä -tapahtuma
DESCRIPTION:Lapsen oikeuksien päivän etkot Kuopion museolla ja Postitalon tiloissa lauantaina 15.11. klo 10-12! \nMaksuton ja iloinen tapahtuma kaikille lapsiperheille. \nOhjelma \n\nOhjelmassa mm. askartelua\, rakentelua\, minimuskari\, loruruletti ja Kuninkaallinen Polaroid-kuvauspiste.\nMaisteri Molto esiintyy klo 10:30.\nLoitsupolku\, opastetut kierrokset Myyttiset -näyttelyssä tapahtuman päätteeksi\, klo 12 ja 12:30\n\nTapahtuman järjestää Kuopion ILONA-verkosto\, joka on yhteistyöverkosto lasten\, nuorten ja perheiden parhaaksi. \nLapsen oikeuksien viikkoa vietetään 17.-23.11.2025\, teemana jokaisella lapsella on oikeus kuulua (olla osallisena ja tulla kuulluksi). Virallinen Lapsen oikeuksien päivä on torstaina 20.11. \nTapahtuma on osa Kuopio250-juhlavuoden ohjelmistoa ja se on saanut juhlavuoden tuotantotukea.
URL:https://kuopionmuseot.fi/tapahtuma/lapsen-oikeuksien-paiva-tapahtuma/
LOCATION:Kuopion museo
ATTACH;FMTTYPE=image/jpeg:https://kuopionmuseot.fi/wp-content/uploads/2025/11/Lapsen-oikeuksien-paiva-2025.jpg
END:VEVENT
BEGIN:VEVENT
DTSTART;TZID=Europe/Helsinki:20251115T130000
DTEND;TZID=Europe/Helsinki:20251115T140000
DTSTAMP:20260423T070430
CREATED:20250906T080723Z
LAST-MODIFIED:20250910T113954Z
UID:10003925-1763211600-1763215200@kuopionmuseot.fi
SUMMARY:Opastus: Talojen tarinoita
DESCRIPTION:Talojen tarinoita -näyttelyopastus esittelee jo lähes hävinnyttä puutalokaupunkia. Puu-Kuopio oli voimissaan 1900-luvun puoliväliin asti\, jolloin jälleenrakennuskausi ja kaupungistuminen muuttivat kaupunkikuvaa merkittävästi. Opastuksella muistellaan arkista elämää puutalokaupungissa siellä asuneiden silmin ja tutustutaan siihen valokuvien avulla. \nLauantaisin klo 13. Opastus sisältyy museon pääsymaksuun (8/5 €\, Museokortti\, Kaikukortti\, alle 18-vuotiaat maksutta). \nTalojen tarinoita -opastus on osa Kuopio250-juhlavuoden ohjelmaa. \nTalojen tarinoita – Puutalokaupungin jäljillä 25.4.2025-26.4.2026 \nNäyttelyssä valokuvat ja muistelmat nivoutuvat yhteen luoden eloisan kokonaisuuden\, joka kertoo kaupungin rakennushistoriasta sekä kaupunkikuvan muutoksesta. Näyttely esittelee Kuopion purettuja sekä edelleen olemassa olevia puutaloja piirtäen kuvaa vilkkaasta kaupungista\, jonka kaduilla ihmiset toimittivat arkisia askareitaan. Kuopiossa lapsuutensa ja nuoruutensa 1940–1960-luvuilla viettäneet ihmiset kertovat millaista oli elää puutalojen täyttämässä kaupungissa.
URL:https://kuopionmuseot.fi/tapahtuma/opastus-talojen-tarinoita-2/2025-11-15/
LOCATION:Korttelimuseo\, Kirkkokatu 22\, Kuopio\, 70100\, Suomi
ATTACH;FMTTYPE=image/png:https://kuopionmuseot.fi/wp-content/uploads/2025/04/Talojen_tarinoita_opastus.png
END:VEVENT
BEGIN:VEVENT
DTSTART;TZID=Europe/Helsinki:20251115T140000
DTEND;TZID=Europe/Helsinki:20251115T144500
DTSTAMP:20260423T070430
CREATED:20240328T122242Z
LAST-MODIFIED:20251219T104051Z
UID:10002862-1763215200-1763217900@kuopionmuseot.fi
SUMMARY:Opastus: Ihmisen aika
DESCRIPTION:Ihmisen aika -näyttely kertoo Pohjois-Savon esihistoriasta ja historiasta alkaen kivikauden ihmisen saapumisesta alueelle ja päättyen lopulta kulttuurin uusimpiin virtauksiin. Näyttely tutustuttaa kävijän Pohjois-Savon asukkaiden arkeen ja juhlaan\, sekä mielenkiintoisiin esineisiin ja asioihin. \nOpastuksella sukelletaan Savon menneisyyden merkittävimpiin vaiheisiin ja hämmästyttäviin yksityiskohtiin! \nOpastus sisältyy pääsylipun hintaan\, alle 18-vuotiaat ilmaiseksi. Museokortti ja Kaikukortti käyvät. Opastus on kestoltaan noin 45 minuuttia.
URL:https://kuopionmuseot.fi/tapahtuma/opastus-ihmisen-aika-3/2025-11-15/
LOCATION:Kuopion museo
ATTACH;FMTTYPE=image/jpeg:https://kuopionmuseot.fi/wp-content/uploads/2023/06/Ihmisenaika-opastus.jpg
ORGANIZER;CN="Kuopion museo":MAILTO:kuopionmuseo@kuopio.fi
END:VEVENT
END:VCALENDAR