BEGIN:VCALENDAR
VERSION:2.0
PRODID:-//Kuopion museot - ECPv6.15.20//NONSGML v1.0//EN
CALSCALE:GREGORIAN
METHOD:PUBLISH
X-WR-CALNAME:Kuopion museot
X-ORIGINAL-URL:https://kuopionmuseot.fi
X-WR-CALDESC:Tapahtumat Kuopion museot
REFRESH-INTERVAL;VALUE=DURATION:PT1H
X-Robots-Tag:noindex
X-PUBLISHED-TTL:PT1H
BEGIN:VTIMEZONE
TZID:Europe/Helsinki
BEGIN:DAYLIGHT
TZOFFSETFROM:+0200
TZOFFSETTO:+0300
TZNAME:EEST
DTSTART:20240331T010000
END:DAYLIGHT
BEGIN:STANDARD
TZOFFSETFROM:+0300
TZOFFSETTO:+0200
TZNAME:EET
DTSTART:20241027T010000
END:STANDARD
BEGIN:DAYLIGHT
TZOFFSETFROM:+0200
TZOFFSETTO:+0300
TZNAME:EEST
DTSTART:20250330T010000
END:DAYLIGHT
BEGIN:STANDARD
TZOFFSETFROM:+0300
TZOFFSETTO:+0200
TZNAME:EET
DTSTART:20251026T010000
END:STANDARD
BEGIN:DAYLIGHT
TZOFFSETFROM:+0200
TZOFFSETTO:+0300
TZNAME:EEST
DTSTART:20260329T010000
END:DAYLIGHT
BEGIN:STANDARD
TZOFFSETFROM:+0300
TZOFFSETTO:+0200
TZNAME:EET
DTSTART:20261025T010000
END:STANDARD
END:VTIMEZONE
BEGIN:VEVENT
DTSTART;TZID=Europe/Helsinki:20251029T101500
DTEND;TZID=Europe/Helsinki:20251029T104500
DTSTAMP:20260423T081023
CREATED:20251020T112127Z
LAST-MODIFIED:20251020T112155Z
UID:10004023-1761732900-1761734700@kuopionmuseot.fi
SUMMARY:Satuhetki
DESCRIPTION:Tervetuloa kuuntelemaan satuja KUMMAan lokakuun ajan. Satuhetkiä kuullaan joka keskiviikko 8.10. alkaen klo 10.15. Satuhetket tarjoavat noin puolen tunnin ajan lapsille\, ja miksi ei aikuisillekin\, täydellisen mahdollisuuden uppoutua tarinoiden maailmaan\, rentoutua ja päästää mielikuvitus lentämään. \nJokainen satuhetki on ainutlaatuinen kokemus\, jossa lasten kirjallisuus vie kiehtoviin seikkailuihin ja taianomaisiin maailmoihin. Tule mukaan kuuntelemaan\, nauramaan ja lumoutumaan pienellä kynnyksellä! \nYksittäisiltä asiakkailta ei vaadita ennakkoilmoittautumista\, ryhmien toivomme ilmoittautuvan ennakkoon numeroon 017 182633. Satuhetket sisältyvät KUMMAn pääsymaksuun 10/5 €\, alle 18-vuotiaat ilmaiseksi ja Museokortti käy maksuvälineeksi. \n  \nSatuhetkien aikataulu: \nke 22.10 klo 10.15 \nke 29.10. klo 10.15
URL:https://kuopionmuseot.fi/tapahtuma/satuhetki-2/2025-10-29/
ATTACH;FMTTYPE=image/jpeg:https://kuopionmuseot.fi/wp-content/uploads/2025/10/Bright-Red-Tell-a-Fairy-Tale-Day-Fun-Holidays-Instagram-Esitys.jpg
END:VEVENT
END:VCALENDAR