BEGIN:VCALENDAR
VERSION:2.0
PRODID:-//Kuopion museot - ECPv6.15.20//NONSGML v1.0//EN
CALSCALE:GREGORIAN
METHOD:PUBLISH
X-ORIGINAL-URL:https://kuopionmuseot.fi
X-WR-CALDESC:Tapahtumat Kuopion museot
REFRESH-INTERVAL;VALUE=DURATION:PT1H
X-Robots-Tag:noindex
X-PUBLISHED-TTL:PT1H
BEGIN:VTIMEZONE
TZID:Europe/Helsinki
BEGIN:DAYLIGHT
TZOFFSETFROM:+0200
TZOFFSETTO:+0300
TZNAME:EEST
DTSTART:20240331T010000
END:DAYLIGHT
BEGIN:STANDARD
TZOFFSETFROM:+0300
TZOFFSETTO:+0200
TZNAME:EET
DTSTART:20241027T010000
END:STANDARD
BEGIN:DAYLIGHT
TZOFFSETFROM:+0200
TZOFFSETTO:+0300
TZNAME:EEST
DTSTART:20250330T010000
END:DAYLIGHT
BEGIN:STANDARD
TZOFFSETFROM:+0300
TZOFFSETTO:+0200
TZNAME:EET
DTSTART:20251026T010000
END:STANDARD
BEGIN:DAYLIGHT
TZOFFSETFROM:+0200
TZOFFSETTO:+0300
TZNAME:EEST
DTSTART:20260329T010000
END:DAYLIGHT
BEGIN:STANDARD
TZOFFSETFROM:+0300
TZOFFSETTO:+0200
TZNAME:EET
DTSTART:20261025T010000
END:STANDARD
END:VTIMEZONE
BEGIN:VEVENT
DTSTART;TZID=Europe/Helsinki:20251025T103000
DTEND;TZID=Europe/Helsinki:20251025T110000
DTSTAMP:20260423T042312
CREATED:20250815T045953Z
LAST-MODIFIED:20251211T133050Z
UID:10003882-1761388200-1761390000@kuopionmuseot.fi
SUMMARY:Myyttiset-näyttelyopastus lapsille
DESCRIPTION:Lapsille suunnattu Myyttiset-näyttelyopastus kuljettaa oppaan johdolla pienet kulkijat halki entisaikojen metsän. Matkalla kuullaan esimerkiksi esivanhempiemme elämään kuuluneista uskomuksista\, tutustutaan monenlaisiin metsän eläimiin ja olentoihin sekä ihmetellään yhdessä niihin liittyviä tarinoita.  \nKierros kestää noin 30 minuuttia ja se on parittomien viikkojen lauantaisin (13.9.\, 27.9.\, 11.10.\, 25.10.\, 8.11.\, 22.11.\, 20.12.\, 3.1.2026\, 17.1.2026 sekä näyttelyn viimeisenä viikonloppuna la 24.1.2026) klo 10.30. Lähtö lipunmyynnin läheisyydestä. \nOpastus sisältyy museon pääsymaksuun (15/10 €\, alle 18-v maksutta)\, Museokortti ja Kaikukortti käyvät. \n  \nKuopion museon näyttely Myyttiset – metsän kätköissä sekä sen oheistapahtumat ovat osa Kuopio250-juhlavuotta.
URL:https://kuopionmuseot.fi/tapahtuma/myyttiset-nayttelyopastus-lapsille/2025-10-25/
LOCATION:Kuopion museo
ATTACH;FMTTYPE=image/jpeg:https://kuopionmuseot.fi/wp-content/uploads/2025/08/Myyttiset-LASTEN-OPASTUS.jpg
END:VEVENT
BEGIN:VEVENT
DTSTART;TZID=Europe/Helsinki:20251025T120000
DTEND;TZID=Europe/Helsinki:20251025T170000
DTSTAMP:20260423T042312
CREATED:20251020T102204Z
LAST-MODIFIED:20251020T102204Z
UID:10004014-1761393600-1761411600@kuopionmuseot.fi
SUMMARY:Walk-in Halloween-kuvaus KUMMAssa
DESCRIPTION:Astu halloweenin maailmaan ja tule kuvattavaksi yksin tai vaikkapa kavereiden kanssa KUMMAan pääsymaksun hinnalla. Pientä rekvisiittaa paikan päällä\, mutta voit myös itse pukeutua. Valokuvaajat hoitavat loput. \nMax 4 osallistujaa\, kuvausaika 15 min walk-in periaatteella. Kuvauksen jälkeen saat yhden kuvatiedoston käyttöösi viikon kuluessa. \nKuvaus järjestetään yhteistyössä Ingmanedun kanssa.
URL:https://kuopionmuseot.fi/tapahtuma/walk-in-halloween-kuvaus-kummassa/
ATTACH;FMTTYPE=image/jpeg:https://kuopionmuseot.fi/wp-content/uploads/2025/10/halloween_kuvaus.jpg
ORGANIZER;CN="KUMMA":MAILTO:taidemuseo@kuopio.fi
END:VEVENT
BEGIN:VEVENT
DTSTART;TZID=Europe/Helsinki:20251025T130000
DTEND;TZID=Europe/Helsinki:20251025T140000
DTSTAMP:20260423T042312
CREATED:20251025T065258Z
LAST-MODIFIED:20251025T065335Z
UID:10003922-1761397200-1761400800@kuopionmuseot.fi
SUMMARY:PERUTTU! Opastus: Talojen tarinoita
DESCRIPTION:PERUTTU!\nTalojen tarinoita -näyttelyopastus esittelee jo lähes hävinnyttä puutalokaupunkia. Puu-Kuopio oli voimissaan 1900-luvun puoliväliin asti\, jolloin jälleenrakennuskausi ja kaupungistuminen muuttivat kaupunkikuvaa merkittävästi. Opastuksella muistellaan arkista elämää puutalokaupungissa siellä asuneiden silmin ja tutustutaan siihen valokuvien avulla. \nLauantaisin klo 13. Opastus sisältyy museon pääsymaksuun (8/5 €\, Museokortti\, Kaikukortti\, alle 18-vuotiaat maksutta). \nTalojen tarinoita -opastus on osa Kuopio250-juhlavuoden ohjelmaa. \nTalojen tarinoita – Puutalokaupungin jäljillä 25.4.2025-26.4.2026 \nNäyttelyssä valokuvat ja muistelmat nivoutuvat yhteen luoden eloisan kokonaisuuden\, joka kertoo kaupungin rakennushistoriasta sekä kaupunkikuvan muutoksesta. Näyttely esittelee Kuopion purettuja sekä edelleen olemassa olevia puutaloja piirtäen kuvaa vilkkaasta kaupungista\, jonka kaduilla ihmiset toimittivat arkisia askareitaan. Kuopiossa lapsuutensa ja nuoruutensa 1940–1960-luvuilla viettäneet ihmiset kertovat millaista oli elää puutalojen täyttämässä kaupungissa.
URL:https://kuopionmuseot.fi/tapahtuma/opastus-talojen-tarinoita-2-2/
LOCATION:Korttelimuseo\, Kirkkokatu 22\, Kuopio\, 70100\, Suomi
ATTACH;FMTTYPE=image/png:https://kuopionmuseot.fi/wp-content/uploads/2025/04/Talojen_tarinoita_opastus.png
END:VEVENT
BEGIN:VEVENT
DTSTART;TZID=Europe/Helsinki:20251025T150000
DTEND;TZID=Europe/Helsinki:20251025T160000
DTSTAMP:20260423T042312
CREATED:20250619T072259Z
LAST-MODIFIED:20251021T063147Z
UID:10003826-1761404400-1761408000@kuopionmuseot.fi
SUMMARY:Myyttiset-luento: Vupes\, Ilona Tuomi
DESCRIPTION:Myyttiset – metsän kätköissä -luentosarja:\nVupes –  käärmeiden lumooja\, taikurien taikuri ja turjien turja \nKesäyö 1800-luvun lopussa. Koillis-Savossa tapahtuu kummia. Kolme miestä käy sujauttamassa kaksi pientä leppäistä kirstua Tuusniemen kirkon kivijalkaan ja hautuumaalle. Kirstuissa on sisällä sammakko. Vupeksena tunnettu turja loitsee riitin yhteydessä\, jonka jälkeen miehet pysähtyvät tienristeyksessä ja nauttivat viinaryypyt. Mitä ihmettä Tuusniemellä oikein oli meneillään? \nLuennon aiheena on Tuusniemen kirkkomaalla häärinyt Kust Ihalainen (1830-1900)\, jonka kansa tunsi nimellä Vupes. Vupes oli Pohjois-Savon nimekkäin turja\, joka paransi ihmiset ja eläimet\, sai nuoren lemmen leiskahtamaan ja kylmenemään\, löysi lehmät metsänpeitosta ja karkoitti lemmon. Erityisen tunnettu Vupes oli käärmeistään ja kyvystään käsitellä niitä. Miten Vupes taikansa teki? Millaisia loitsuja hän käytti? Oliko repussa enemmänkin taikaesineitä? \nIlona Tuomi on taikuuteen ja kansanperinteeseen erikoistunut uskontotieteilijä. Hänen erikoisalaansa ovat loitsut ja niihin liittyvät rituaalit. Tuomi toimi pitkään University College Cork -yliopistossa muinaisiirin laitoksella tutkien keskiaikaisia loitsukäsikirjoituksia. Päädyttyään Pohjois-Savoon hänen tutkimusaiheensa ovat liittyneet paikallisiin taikuusperinteisiin\, parantajiin ja poppamiehiin. Tällä hetkellä Tuomi työskentelee tutkijana Suomen Erämuseosäätiössä hankkeessa\, jossa kartoitetaan eränkäyntiin liittyvää aineetonta kulttuuriperinnettä. \n \nLuento sisältyy Kuopion museon pääsymaksuun  15/10 €\, alle 18-v maksutta. \nLuentoa voi seurata myös suorana lähetyksenä Kuopion museon YouTubessa. Liput livelähetykseen (5 €/ kpl) voi ostaa Kuopion kaupungin verkkokaupasta. \nSijainti on monitoimitilassa katukerroksessa. Tila on esteetön. \nLuennon lisäksi saamme museon tiloihin kiertonäyttelyn\, joka tarjoaa välähdyksiä kansanomaisesta taikuudesta 1800- ja 1900-lukujen taitteessa. Materiaalit pohjautuvat suurimmaksi osaksi Tuusniemeltä löydettyihin taikaesineisiin ja paikkakunnan kansakoulunopettajan Otto Räsäsen keräämään kansanperinteen kokoelmaan\, joka sijaitsee Kuopion kulttuurihistoriallisen museon arkistossa. \nSyyskauden Myyttiset-luennot: \nLa 23.8. klo 15 Sonja Hukantaival: Sammakkoarkkuja ja värttinänkehriä – Taikaesineitä ja -perinteitä Pohjois-Savosta.  (Luento sisältyy museon pääsymaksuun 15/10 €\, alle 18-v maksutta.) \nLa 20.9.  klo 15 Ville Mantere: Hirven kansaa – Ihmisen ja hirven suhde kivikaudella. (Luento sisältyy museon pääsymaksuun 15/10 €\, alle 18-v maksutta.) \nKe 15.10. klo 17 Anna Fält: Laulava Luento –  Elias Lönnrot sekä Kalevalan laulut ja loitsut. (Vapaa pääsy.) \nLa 25.10. klo 15 Ilona Tuomi:  Vupes\, käärmeiden lumooja\, taikurien taikuri ja turjien turja. (Luento sisältyy museon pääsymaksuun 15/10 €\, alle 18-v maksutta.) \nKe 26.11. klo 17 Siria Kohonen: Ihmisen ja luonnon voimat pohjoissavolaisessa loitsuperinteessä. (Vapaa pääsy.) \n(Muutokset mahdollisia.) \nMyyttiset – metsän kätköissä -näyttely 25.1.2026 saakka sekä sen oheisohjelmat ovat osa Kuopio250-juhlavuotta.
URL:https://kuopionmuseot.fi/tapahtuma/myyttiset-luento-vupes-ilona-tuomi/
LOCATION:Kuopion museo
ATTACH;FMTTYPE=image/jpeg:https://kuopionmuseot.fi/wp-content/uploads/2025/06/Myyttiset-luento-IlonaTuomi-etana.jpg
END:VEVENT
END:VCALENDAR