BEGIN:VCALENDAR
VERSION:2.0
PRODID:-//Kuopion museot - ECPv6.15.20//NONSGML v1.0//EN
CALSCALE:GREGORIAN
METHOD:PUBLISH
X-ORIGINAL-URL:https://kuopionmuseot.fi
X-WR-CALDESC:Tapahtumat Kuopion museot
REFRESH-INTERVAL;VALUE=DURATION:PT1H
X-Robots-Tag:noindex
X-PUBLISHED-TTL:PT1H
BEGIN:VTIMEZONE
TZID:Europe/Helsinki
BEGIN:DAYLIGHT
TZOFFSETFROM:+0200
TZOFFSETTO:+0300
TZNAME:EEST
DTSTART:20240331T010000
END:DAYLIGHT
BEGIN:STANDARD
TZOFFSETFROM:+0300
TZOFFSETTO:+0200
TZNAME:EET
DTSTART:20241027T010000
END:STANDARD
BEGIN:DAYLIGHT
TZOFFSETFROM:+0200
TZOFFSETTO:+0300
TZNAME:EEST
DTSTART:20250330T010000
END:DAYLIGHT
BEGIN:STANDARD
TZOFFSETFROM:+0300
TZOFFSETTO:+0200
TZNAME:EET
DTSTART:20251026T010000
END:STANDARD
BEGIN:DAYLIGHT
TZOFFSETFROM:+0200
TZOFFSETTO:+0300
TZNAME:EEST
DTSTART:20260329T010000
END:DAYLIGHT
BEGIN:STANDARD
TZOFFSETFROM:+0300
TZOFFSETTO:+0200
TZNAME:EET
DTSTART:20261025T010000
END:STANDARD
END:VTIMEZONE
BEGIN:VEVENT
DTSTART;VALUE=DATE:20251011
DTEND;VALUE=DATE:20251020
DTSTAMP:20260423T081038
CREATED:20251008T073025Z
LAST-MODIFIED:20251008T073025Z
UID:10004013-1760140800-1760918399@kuopionmuseot.fi
SUMMARY:Kokoa oma loitsupussi syyslomalla
DESCRIPTION:Kokoa oma loitsupussi syyslomaviikolla 11.–19.10.2025.  \nEntisaikojen tietäjät käyttivät taioissaan apuna loitsupusseja\, joista löytyi monenmoista. Syysloman ajan Kuopion museossa pääsee kokoamaan ihan ikioman loitsupussin.  Omatoimikierros sisältyy museon pääsymaksuun.
URL:https://kuopionmuseot.fi/tapahtuma/kokoa-oma-loitsupussi/
LOCATION:Kuopion museo
ATTACH;FMTTYPE=image/jpeg:https://kuopionmuseot.fi/wp-content/uploads/2025/10/Myyttiset-loitsupussi-kierros.jpg
END:VEVENT
BEGIN:VEVENT
DTSTART;TZID=Europe/Helsinki:20251016T103000
DTEND;TZID=Europe/Helsinki:20251016T104500
DTSTAMP:20260423T081038
CREATED:20251008T071803Z
LAST-MODIFIED:20251008T074622Z
UID:10004009-1760610600-1760611500@kuopionmuseot.fi
SUMMARY:Myyttinen lastenvartti
DESCRIPTION:Tervetuloa kuulolle syyslomaviikolla ti-pe 14.–17.10 klo 10.30 ja 15! Myyttiset lastenvartit tarjoavat lyhyehköjä ja lapsille sopivia tietoiskuja Myyttiset – metsän kätköissä -näyttelyn teemoihin liittyen. Kesto noin 15 minuuttia.  \nti klo 10.30 ja 15.00	  \nke klo 10.30 ja 15.00  \nto klo 10.30 ja 15.00  \npe klo 10.30 ja 15.00  \nVartille sekä museoon pääsevät alle 18-v lapset aina ilmaiseksi! Aikuiset museon pääsylipulla (15/10 €\, Museokortti ja Kaikukortti käyvät).
URL:https://kuopionmuseot.fi/tapahtuma/myyttinen-lastenvartti/2025-10-16/1/
LOCATION:Kuopion museo
ATTACH;FMTTYPE=image/jpeg:https://kuopionmuseot.fi/wp-content/uploads/2025/10/Myyttiset-lastenvartti.jpg
END:VEVENT
BEGIN:VEVENT
DTSTART;TZID=Europe/Helsinki:20251016T150000
DTEND;TZID=Europe/Helsinki:20251016T151500
DTSTAMP:20260423T081038
CREATED:20251008T071803Z
LAST-MODIFIED:20251008T074622Z
UID:10004010-1760626800-1760627700@kuopionmuseot.fi
SUMMARY:Myyttinen lastenvartti
DESCRIPTION:Tervetuloa kuulolle syyslomaviikolla ti-pe 14.–17.10 klo 10.30 ja 15! Myyttiset lastenvartit tarjoavat lyhyehköjä ja lapsille sopivia tietoiskuja Myyttiset – metsän kätköissä -näyttelyn teemoihin liittyen. Kesto noin 15 minuuttia.  \nti klo 10.30 ja 15.00	  \nke klo 10.30 ja 15.00  \nto klo 10.30 ja 15.00  \npe klo 10.30 ja 15.00  \nVartille sekä museoon pääsevät alle 18-v lapset aina ilmaiseksi! Aikuiset museon pääsylipulla (15/10 €\, Museokortti ja Kaikukortti käyvät).
URL:https://kuopionmuseot.fi/tapahtuma/myyttinen-lastenvartti/2025-10-16/2/
LOCATION:Kuopion museo
ATTACH;FMTTYPE=image/jpeg:https://kuopionmuseot.fi/wp-content/uploads/2025/10/Myyttiset-lastenvartti.jpg
END:VEVENT
BEGIN:VEVENT
DTSTART;TZID=Europe/Helsinki:20251016T150000
DTEND;TZID=Europe/Helsinki:20251016T153000
DTSTAMP:20260423T081038
CREATED:20250912T103839Z
LAST-MODIFIED:20250912T103839Z
UID:10003999-1760626800-1760628600@kuopionmuseot.fi
SUMMARY:Balladeja ja romansseja
DESCRIPTION:Kuopion konservatorion opiskelijoiden päiväkonsertti syyslomaviikon iloksi! \nAaron Karpansalo\, sello\nSäde Nykänen\, piano \nKonsertti alkaa Gabriel Faurén Romanssilla ja päättyy Reinhold Gliéren Balladiin. Välissä esittelemme tuntemattomampien säveltäjien Ingeborg von Bronsartin\, Josef Sukin\, Louis Diémerin ja Nicolas Sokolowin musiikkia. \nKonsertilla haluamme tuoda klassista musiikkia myös konserttisalien ulkopuolelle. \nKonserttiin on vapaa pääsy\, tila on esteetön. Lämpimästi tervetuloa! \nTapahtuma toteutetaan yhteistyössä Kuopion museon kanssa. Tapahtuma on osa Kuopio250-juhlavuoden ohjelmistoa ja se on saanut juhlavuoden tuotantotukea.
URL:https://kuopionmuseot.fi/tapahtuma/balladeja-ja-romansseja/
LOCATION:Kuopion museo
ATTACH;FMTTYPE=image/jpeg:https://kuopionmuseot.fi/wp-content/uploads/2025/09/1000016853.jpg
END:VEVENT
END:VCALENDAR