BEGIN:VCALENDAR
VERSION:2.0
PRODID:-//Kuopion museot - ECPv6.15.20//NONSGML v1.0//EN
CALSCALE:GREGORIAN
METHOD:PUBLISH
X-ORIGINAL-URL:https://kuopionmuseot.fi
X-WR-CALDESC:Tapahtumat Kuopion museot
REFRESH-INTERVAL;VALUE=DURATION:PT1H
X-Robots-Tag:noindex
X-PUBLISHED-TTL:PT1H
BEGIN:VTIMEZONE
TZID:Europe/Helsinki
BEGIN:DAYLIGHT
TZOFFSETFROM:+0200
TZOFFSETTO:+0300
TZNAME:EEST
DTSTART:20240331T010000
END:DAYLIGHT
BEGIN:STANDARD
TZOFFSETFROM:+0300
TZOFFSETTO:+0200
TZNAME:EET
DTSTART:20241027T010000
END:STANDARD
BEGIN:DAYLIGHT
TZOFFSETFROM:+0200
TZOFFSETTO:+0300
TZNAME:EEST
DTSTART:20250330T010000
END:DAYLIGHT
BEGIN:STANDARD
TZOFFSETFROM:+0300
TZOFFSETTO:+0200
TZNAME:EET
DTSTART:20251026T010000
END:STANDARD
BEGIN:DAYLIGHT
TZOFFSETFROM:+0200
TZOFFSETTO:+0300
TZNAME:EEST
DTSTART:20260329T010000
END:DAYLIGHT
BEGIN:STANDARD
TZOFFSETFROM:+0300
TZOFFSETTO:+0200
TZNAME:EET
DTSTART:20261025T010000
END:STANDARD
END:VTIMEZONE
BEGIN:VEVENT
DTSTART;VALUE=DATE:20251011
DTEND;VALUE=DATE:20251020
DTSTAMP:20260423T053946
CREATED:20251008T073025Z
LAST-MODIFIED:20251008T073025Z
UID:10004013-1760140800-1760918399@kuopionmuseot.fi
SUMMARY:Kokoa oma loitsupussi syyslomalla
DESCRIPTION:Kokoa oma loitsupussi syyslomaviikolla 11.–19.10.2025.  \nEntisaikojen tietäjät käyttivät taioissaan apuna loitsupusseja\, joista löytyi monenmoista. Syysloman ajan Kuopion museossa pääsee kokoamaan ihan ikioman loitsupussin.  Omatoimikierros sisältyy museon pääsymaksuun.
URL:https://kuopionmuseot.fi/tapahtuma/kokoa-oma-loitsupussi/
LOCATION:Kuopion museo
ATTACH;FMTTYPE=image/jpeg:https://kuopionmuseot.fi/wp-content/uploads/2025/10/Myyttiset-loitsupussi-kierros.jpg
END:VEVENT
BEGIN:VEVENT
DTSTART;TZID=Europe/Helsinki:20251015T103000
DTEND;TZID=Europe/Helsinki:20251015T104500
DTSTAMP:20260423T053946
CREATED:20251008T071803Z
LAST-MODIFIED:20251008T074622Z
UID:10004007-1760524200-1760525100@kuopionmuseot.fi
SUMMARY:Myyttinen lastenvartti
DESCRIPTION:Tervetuloa kuulolle syyslomaviikolla ti-pe 14.–17.10 klo 10.30 ja 15! Myyttiset lastenvartit tarjoavat lyhyehköjä ja lapsille sopivia tietoiskuja Myyttiset – metsän kätköissä -näyttelyn teemoihin liittyen. Kesto noin 15 minuuttia.  \nti klo 10.30 ja 15.00	  \nke klo 10.30 ja 15.00  \nto klo 10.30 ja 15.00  \npe klo 10.30 ja 15.00  \nVartille sekä museoon pääsevät alle 18-v lapset aina ilmaiseksi! Aikuiset museon pääsylipulla (15/10 €\, Museokortti ja Kaikukortti käyvät).
URL:https://kuopionmuseot.fi/tapahtuma/myyttinen-lastenvartti/2025-10-15/1/
LOCATION:Kuopion museo
ATTACH;FMTTYPE=image/jpeg:https://kuopionmuseot.fi/wp-content/uploads/2025/10/Myyttiset-lastenvartti.jpg
END:VEVENT
BEGIN:VEVENT
DTSTART;TZID=Europe/Helsinki:20251015T150000
DTEND;TZID=Europe/Helsinki:20251015T151500
DTSTAMP:20260423T053946
CREATED:20251008T071803Z
LAST-MODIFIED:20251008T074622Z
UID:10004008-1760540400-1760541300@kuopionmuseot.fi
SUMMARY:Myyttinen lastenvartti
DESCRIPTION:Tervetuloa kuulolle syyslomaviikolla ti-pe 14.–17.10 klo 10.30 ja 15! Myyttiset lastenvartit tarjoavat lyhyehköjä ja lapsille sopivia tietoiskuja Myyttiset – metsän kätköissä -näyttelyn teemoihin liittyen. Kesto noin 15 minuuttia.  \nti klo 10.30 ja 15.00	  \nke klo 10.30 ja 15.00  \nto klo 10.30 ja 15.00  \npe klo 10.30 ja 15.00  \nVartille sekä museoon pääsevät alle 18-v lapset aina ilmaiseksi! Aikuiset museon pääsylipulla (15/10 €\, Museokortti ja Kaikukortti käyvät).
URL:https://kuopionmuseot.fi/tapahtuma/myyttinen-lastenvartti/2025-10-15/2/
LOCATION:Kuopion museo
ATTACH;FMTTYPE=image/jpeg:https://kuopionmuseot.fi/wp-content/uploads/2025/10/Myyttiset-lastenvartti.jpg
END:VEVENT
BEGIN:VEVENT
DTSTART;TZID=Europe/Helsinki:20251015T170000
DTEND;TZID=Europe/Helsinki:20251015T180000
DTSTAMP:20260423T053946
CREATED:20250617T072037Z
LAST-MODIFIED:20251010T084058Z
UID:10003812-1760547600-1760551200@kuopionmuseot.fi
SUMMARY:Myyttiset - Anna Fältin Laulava luento
DESCRIPTION:Myyttiset – metsän kätköissä -luentosarja:\nSUURI LAULUKIRJA KALEVALA – ANNA FÄLTIN LAULAVA LUENTO \nKalevala on kokoelma suullista perinnettä – lauluja jotka perustuvat ns. nelipolviseen trokeeseen\, kalevalanmittaan/runomittaan\, eikä sitä ollut alunperin tarkoitettu luettavaksi vaan laulettavaksi. Tämä luento kertoo sekä miehestä Kalevalan takana\, kainuuseen asettuneesta nuoresta lääkäristä nimeltä Elias Lönnrot\, että lauluista ja loitsuista satoja vuosia ennen Kalevalan julkaisua 1800-luvulla. \nMille Kalevalaiset Melodiat kuullostivat? Millainen musiikkikulttuuri on runomitan taustalla? Kuinka Lönnrot ja muut kerääjät pääsivät näihin aarteisiin käsiksi? Miksi kansalliseepoksemme koottiin juuri 1800-luvun alussa? Näihin kysymyksiin etsii vastauksia Laulaja Luento joka on yhdistelmä soolokonserttia ja tiukkaa faktaa! \nKansanmuusiikko\, runolaulaja ja loitsuihin erikoistunut lauluntekijä Anna Fält on omistanut työuransa kalevalanmitalle lähes kaksikymmentä vuotta. Hän työskentelee enimmäkseen sooloartistina ollen kiertueella noin puolet ajastaan ja keskittyen säveltämiseen\, tutkimukseen ja laulunopetukseen toisen puolikkaan kotonaan Malmössa. Anna on Iisalmen Nerohvirralta kotoisin olevan musiikinmaisteri jonka päätyönä on suomalais-ugrilaiset lauluperinteet. \nLisätietoja: www.annafalt.com \nKUVA: AIJA SVENSSON\n  \nLaulavan luennon tarjoaa yleisölle maksuttomana Kuopion Isänmaallinen Seura. \nLuento on osa Kuopion kaupungin kulttuurilaitosten Kulttuurimaistiaisia. Ilmaiset kulttuurimaistiaiset madaltavat kynnystä tutustua kaupungin monipuoliseen kulttuuritarjontaan KulttuuriKuopio-ohjelman mukaisena toimenpiteenä. \nLuento on monitoimitilassa katukerroksessa. Tila on esteetön. \nHUOM! Luento on seurattavissa myös etänä suorana striimilähetyksenä Kuopion museon YouTube-kanavalla. \n  \nSyyskauden Myyttiset-luennot: \nLa 23.8. klo 15 Sonja Hukantaival: Sammakkoarkkuja ja värttinänkehriä – Taikaesineitä ja -perinteitä Pohjois-Savosta.  (Luento sisältyy museon pääsymaksuun 15/10 €\, alle 18-v maksutta.) \nLa 20.9.  klo 15 Ville Mantere: Hirven kansaa – Ihmisen ja hirven suhde kivikaudella. (Luento sisältyy museon pääsymaksuun 15/10 €\, alle 18-v maksutta.) \nKe 15.10. klo 17 Anna Fält: Laulava Luento –  Elias Lönnrot sekä Kalevalan laulut ja loitsut. (Vapaa pääsy.) \nLa 25.10. Ilona Tuomi:  Vupes\, käärmeiden lumooja\, taikurien taikuri ja turjien turja. (Luento sisältyy museon pääsymaksuun 15/10 €\, alle 18-v maksutta.) \nKe 26.11. klo 17 Siria Kohonen: Ihmisen ja luonnon voimat pohjoissavolaisessa loitsuperinteessä. (Vapaa pääsy.) \n(Muutokset mahdollisia.)
URL:https://kuopionmuseot.fi/tapahtuma/myyttiset-anna-faltin-laulava-luento/
LOCATION:Kuopion museo
ATTACH;FMTTYPE=image/jpeg:https://kuopionmuseot.fi/wp-content/uploads/2025/06/Myyttiset-luento-AnnaFalt-eta.jpg
END:VEVENT
END:VCALENDAR