BEGIN:VCALENDAR
VERSION:2.0
PRODID:-//Kuopion museot - ECPv6.15.20//NONSGML v1.0//EN
CALSCALE:GREGORIAN
METHOD:PUBLISH
X-WR-CALNAME:Kuopion museot
X-ORIGINAL-URL:https://kuopionmuseot.fi
X-WR-CALDESC:Tapahtumat Kuopion museot
REFRESH-INTERVAL;VALUE=DURATION:PT1H
X-Robots-Tag:noindex
X-PUBLISHED-TTL:PT1H
BEGIN:VTIMEZONE
TZID:Europe/Helsinki
BEGIN:DAYLIGHT
TZOFFSETFROM:+0200
TZOFFSETTO:+0300
TZNAME:EEST
DTSTART:20240331T010000
END:DAYLIGHT
BEGIN:STANDARD
TZOFFSETFROM:+0300
TZOFFSETTO:+0200
TZNAME:EET
DTSTART:20241027T010000
END:STANDARD
BEGIN:DAYLIGHT
TZOFFSETFROM:+0200
TZOFFSETTO:+0300
TZNAME:EEST
DTSTART:20250330T010000
END:DAYLIGHT
BEGIN:STANDARD
TZOFFSETFROM:+0300
TZOFFSETTO:+0200
TZNAME:EET
DTSTART:20251026T010000
END:STANDARD
BEGIN:DAYLIGHT
TZOFFSETFROM:+0200
TZOFFSETTO:+0300
TZNAME:EEST
DTSTART:20260329T010000
END:DAYLIGHT
BEGIN:STANDARD
TZOFFSETFROM:+0300
TZOFFSETTO:+0200
TZNAME:EET
DTSTART:20261025T010000
END:STANDARD
END:VTIMEZONE
BEGIN:VEVENT
DTSTART;TZID=Europe/Helsinki:20250817T140000
DTEND;TZID=Europe/Helsinki:20250817T150000
DTSTAMP:20260423T121321
CREATED:20250616T071056Z
LAST-MODIFIED:20250805T073843Z
UID:10003586-1755439200-1755442800@kuopionmuseot.fi
SUMMARY:Opastus Maaginen -näyttelyyn
DESCRIPTION:Tule mukaan kokemaan taiteen taika avoimelle opastukselle Maaginen -näyttelyyn! Ensimmäinen opastus järjestetään näyttelyn avajaisviikolla\, sunnuntaina 18.5. klo 14. Tämän jälkeen opastuksia järjestetään 1.6. alkaen joka sunnuntai klo 14 näyttelyn loppuun saakka. Opastukseen voi osallistua KUMMAn pääsymaksulla 10/5 €\, alle 18-vuotiaat ilmaiseksi. Museokortti käy maksuvälineeksi. \nMaaginen on KUMMAn tulkinta maagisesta realismista\, jossa ihme ja kumma\, mittasuhteiden leikki\, satu ja mystiikka kohtaavat todellisuuden. Näyttely leikittelee koolla\, yllätyksellisyydellä\, sekä satumaisilla tunnelmilla ja tummilla metsän maailmoilla. Näyttely tarjoaa kummallisen mahdollisuuden uppoutua ihmettelyyn\, rinnakkaisiin todellisuuksiin sekä antaa mielikuvituksen virrata.
URL:https://kuopionmuseot.fi/tapahtuma/opastus-maaginen-nayttelyyn-2-2/2025-08-17/
LOCATION:KUMMA\, Kauppakatu 35\, Kuopio\, 70100
ATTACH;FMTTYPE=image/jpeg:https://kuopionmuseot.fi/wp-content/uploads/2025/06/Opastukset-1920-x-1080-px-2.jpg
ORGANIZER;CN="KUMMA":MAILTO:taidemuseo@kuopio.fi
END:VEVENT
END:VCALENDAR