BEGIN:VCALENDAR
VERSION:2.0
PRODID:-//Kuopion museot - ECPv6.15.20//NONSGML v1.0//EN
CALSCALE:GREGORIAN
METHOD:PUBLISH
X-ORIGINAL-URL:https://kuopionmuseot.fi
X-WR-CALDESC:Tapahtumat Kuopion museot
REFRESH-INTERVAL;VALUE=DURATION:PT1H
X-Robots-Tag:noindex
X-PUBLISHED-TTL:PT1H
BEGIN:VTIMEZONE
TZID:Europe/Helsinki
BEGIN:DAYLIGHT
TZOFFSETFROM:+0200
TZOFFSETTO:+0300
TZNAME:EEST
DTSTART:20240331T010000
END:DAYLIGHT
BEGIN:STANDARD
TZOFFSETFROM:+0300
TZOFFSETTO:+0200
TZNAME:EET
DTSTART:20241027T010000
END:STANDARD
BEGIN:DAYLIGHT
TZOFFSETFROM:+0200
TZOFFSETTO:+0300
TZNAME:EEST
DTSTART:20250330T010000
END:DAYLIGHT
BEGIN:STANDARD
TZOFFSETFROM:+0300
TZOFFSETTO:+0200
TZNAME:EET
DTSTART:20251026T010000
END:STANDARD
BEGIN:DAYLIGHT
TZOFFSETFROM:+0200
TZOFFSETTO:+0300
TZNAME:EEST
DTSTART:20260329T010000
END:DAYLIGHT
BEGIN:STANDARD
TZOFFSETFROM:+0300
TZOFFSETTO:+0200
TZNAME:EET
DTSTART:20261025T010000
END:STANDARD
END:VTIMEZONE
BEGIN:VEVENT
DTSTART;TZID=Europe/Helsinki:20250806T120000
DTEND;TZID=Europe/Helsinki:20250806T130000
DTSTAMP:20260423T135119
CREATED:20250615T125612Z
LAST-MODIFIED:20250615T131316Z
UID:10003806-1754481600-1754485200@kuopionmuseot.fi
SUMMARY:Korttelimuseon leikkihetki
DESCRIPTION:Millaisia leikkejä lapset leikkivät ennen? Tule Korttelimuseolle ottamaan selvää! \nLeikitään yhdessä kesän ajan keskiviikkoisin klo 12–13 (18.6.– 20.8.2025). \nHyvällä säällä leikitään ulkona\, sateella sisätiloissa. Kokoonnutaan Korttelimuseon päärakennuksen edessä (rakennus nro 2). \nLeikkeihin on vapaa pääsy\, ei ennakkoilmoittautumista.
URL:https://kuopionmuseot.fi/tapahtuma/korttelimuseon-leikkihetki/2025-08-06/
LOCATION:Korttelimuseo\, Kirkkokatu 22\, Kuopio\, 70100\, Suomi
ATTACH;FMTTYPE=image/jpeg:https://kuopionmuseot.fi/wp-content/uploads/2025/06/korttelileikit_2025_5-scaled.jpg
END:VEVENT
BEGIN:VEVENT
DTSTART;TZID=Europe/Helsinki:20250806T140000
DTEND;TZID=Europe/Helsinki:20250806T144500
DTSTAMP:20260423T135119
CREATED:20250518T125920Z
LAST-MODIFIED:20251211T133351Z
UID:10003672-1754488800-1754491500@kuopionmuseot.fi
SUMMARY:Myyttiset-näyttelyopastus
DESCRIPTION:Myyttiset-näyttelyopastus kuljettaa kulkijan halki entisaikojen metsän. Metsäretkellä tutustutaan esivanhempiemme elämää rytmittäneeseen kansanuskoon. Matkan varrelta löytyy niin myyteistä tuttuja olentoja ja luontotietoa kuin vanhin tunnettu pohjoissavolainen loitsukin. \nTiedontäyteinen kierros sopii parhaiten aikuisille ja nuorille ja on kestoltaan noin 45 minuuttia.  Opastus lähtee kesäkaudella 7.6.–30.8.2025 lipunmyynnin läheisyydestä lauantaisin ja keskiviikkoisin klo 14. Syyskuusta alkaen näyttelyn päättymiseen saakka opastus on parittomien viikkojen sunnuntaisin sekä viimeisenä näyttelyn aukiolopäivänä su 25.1. klo 13 \nOpastus sisältyy museon pääsymaksuun (15/10 €\, alle 18-v maksutta)\, Museokortti ja Kaikukortti käyvät. \n***\nKuopion museon Myyttiset – metsän kätköissä -näyttely vie menneisyyden aarniometsään keskelle kansanuskon maailmaa. Se on tehty monilla aisteilla koettavaksi\, elämykselliseksi ihmettelyn paikaksi\, jossa riittää tutkittavaa kaikenikäisille. \nKuopion luonnontieteellisen museon ja Kuopion kulttuurihistoriallisen museon yhteistyönä tuottamassa näyttelyssä on esillä erityistä voimaa omaavia taikaesineitä sekä kiehtovia eläimiä. Tarinat\, uskomukset ja todelliset luonnonilmiöt punoutuvat yhteen ainutlaatuisella tavalla. Kulje entisajan metsässä\, tutustu myyttisiin hahmoihin\, joudu metsänpeittoon ja loitsi itsesi vapaaksi! \nMyyttiset-näyttely ja siihen liittyvät tapahtumat ovat osa Kuopio250-juhlavuoden ohjelmistoa.
URL:https://kuopionmuseot.fi/tapahtuma/myyttiset-nayttelyopastus-2/2025-08-06/
LOCATION:Kuopion museo
ATTACH;FMTTYPE=image/jpeg:https://kuopionmuseot.fi/wp-content/uploads/2025/02/Myyttiset-nayttelyopastus.jpg
ORGANIZER;CN="Kuopion museo":MAILTO:kuopionmuseo@kuopio.fi
END:VEVENT
BEGIN:VEVENT
DTSTART;TZID=Europe/Helsinki:20250806T160000
DTEND;TZID=Europe/Helsinki:20250806T180000
DTSTAMP:20260423T135119
CREATED:20250521T043705Z
LAST-MODIFIED:20250521T043926Z
UID:10003693-1754496000-1754503200@kuopionmuseot.fi
SUMMARY:Myyttinen metsäretki
DESCRIPTION:Tällä koko perheen tarinallisella metsäretkellä kuullaan mahtavasta Tapiosta ja eläinten omista haltijoista\, menninkäisistä ja taivaanääreläisistä sekä pahankurisesta parasta. Mutta onko joissakin tarinoissa hiven totuutta mukana? \nLisätietoja: p. 044 718 1543
URL:https://kuopionmuseot.fi/tapahtuma/myyttinen-metsaretki/
LOCATION:Pirtti\, Orsitien pään parkkipaikka
ATTACH;FMTTYPE=image/jpeg:https://kuopionmuseot.fi/wp-content/uploads/2022/05/kesa-scaled.jpg
END:VEVENT
BEGIN:VEVENT
DTSTART;TZID=Europe/Helsinki:20250806T170000
DTEND;TZID=Europe/Helsinki:20250806T173000
DTSTAMP:20260423T135119
CREATED:20250731T103829Z
LAST-MODIFIED:20250731T105646Z
UID:10003854-1754499600-1754501400@kuopionmuseot.fi
SUMMARY:Mummopunk
DESCRIPTION:Mummopunk esiintyy keskiviikkona 6.8. klo 17 KUMMAssa! \nKun lavalle nousee Mummopunk\, tiedät heti\, että nyt ei olla perinteisen rockin äärellä. Tämä räväkkä kokoonpano yhdistää punkin energian elämänkokemukseen\, joka ei kumartele ketään. Mummopunk on äänekäs\, rohkea ja täynnä asennetta – mutta huumorilla ja sydämellä. \nKeikalla kuullaan omaleimaisia biisejä\, kun Mummopunk ottaa tilan haltuun. Tule kokemaan\, kun mummot pistää punkiksi eivätkä pyydä siihen lupaa! Luvassa on elämänmakuista energiaa\, joka ei jätä ketään kylmäksi. \nLisäksi keikan yhteydessä tarjoutuu mahdollisuus omien pinssien tekoon. Sisäpihalla järjestettävään tapahtumaan on vapaa pääsy. Lämpimästi tervetuloa!
URL:https://kuopionmuseot.fi/tapahtuma/mummopunk/
LOCATION:KUMMA\, Kauppakatu 35\, Kuopio\, 70100
ATTACH;FMTTYPE=image/jpeg:https://kuopionmuseot.fi/wp-content/uploads/2025/07/Mummopunk-1920-x-1080-px.jpg
ORGANIZER;CN="KUMMA":MAILTO:taidemuseo@kuopio.fi
END:VEVENT
BEGIN:VEVENT
DTSTART;TZID=Europe/Helsinki:20250806T170000
DTEND;TZID=Europe/Helsinki:20250806T180000
DTSTAMP:20260423T135119
CREATED:20250606T123608Z
LAST-MODIFIED:20250606T123609Z
UID:10003721-1754499600-1754503200@kuopionmuseot.fi
SUMMARY:Kuopion museon laatikkoviljelmään tutustuminen
DESCRIPTION:Jo viime kesänä hyvää asiakaspalautetta saaneet Kuopion museon ”olohuoneen jatkeessa”\, eli monitoimitilan vieressä\, sisäpihalla talvehtineet mustat kasvatuslaatikot heräävät eloon ja saavat seuraakin Korttelimuseolle alkavana kasvukautena.  \nKesäistä kaupunkiviljelyä toteutetaan museon sisäpihalla ja Korttelimuseolla syreenien katveessa yhteistyössä Kuopion Luonnonystäväin Yhdistyksen (KLYY) aktiivien kanssa. Kuopion kaupunki on kansallisen kaupunkipuiston nimissä mahdollistanut tarvikkeiden hankinnan ja KLYY:n jäsenet mahdollistavat kasvien kasvamisen ja hoitamisen omalla vapaaehtoistyöllään. Toiminnan on tarkoitus olla yhteisöllistä. Laatikkoviljely Kuopion museon sisäpihalla alkoi viime vuonna pilotilla\, joka jatkuu tänä vuonna kansallisen kaupunkipuiston pörriäiset- teeman mausteella. Laatikkoviljelyn tarkoituksena on kannustaa ihmisiä kaupunkiviljelyyn vaikkapa parvekkeella tai ikkunalla. Viljelylaatikoissa on hyötykasveista mukana viimevuotiseen tapaan muun muassa tammenlehtisalaattia\, pinaattia\, punaista basilikaa\, pensaskrassia\, lehtikorianteria\, kirsikkatomaattia\, porkkanaa ja silpoydinhernettä. Pörriäiskasveista esillä on mm. kurkkuyritti\, kehäkukkia\, malva ja ruiskaunokki.  \nHyvin suunniteltu on puoliksi tehty – ja hoidolla varmistettu   \nLaatikkoviljelmien pohjatyöt kannattaa tehdä huolellisesti. Kuopion museolla mullat olivatkin paikallaan jo viimevuotisesta ja Korttelimuseolla ne on laitettu viljelylaatikoihin toukokuun alkupuolella. Laatikossa pohjimmaisena on sanomalehtiä\, päällä multaa\, joka on ikään kuin ladattu käyttövalmiiksi sekoittamalla siihen biohiiltä\, kanankakkaa ja vettä. Museoiden laatikkoviljelyksillä ei käytetä hyönteismyrkkyjä.  Suurin osa kasveista on kylvetty siemeninä toukokuun puolivälissä. Tomaatit\, yrtit ja kurkut tulevat paikalle istutusvalmiina\, esikasvatettuina taimina\, mutta suurin osa kasveista kasvaa siemenestä ihan paikan päällä.   \nMyös pedagoginen näkökulma on laatikkoviljelyksillä huomioitu. Kasvien nimet tullaan kirjoittamaan saviruukun palasiin\, josta niitä on mahdollista opetella paikan päällä. Myös lajilistat tulevat museoille tutustuttaviksi. Laatikoista voi ottaa mallia omaan viljelmään..   \nLaatikkoviljelmän kasvukautta voi käydä seuraamassa Kuopion museon pääsymaksuttomalla alueella museon normaaleina aukioloaikoina ja Korttelimuseolla sen aukioloaikoina. 6.9. Kansalaisopistolla tullaan myös järjestämään pörriäisten talvehtimiseen liittyvä\, luennolla höystetty hyönteishotellityöpaja.  \nJos omaa viherpeukaloa alkaa kutkuttamaan\, niin laatikkoviljelmän hoitotiimiläiseksi voi liittyä mukaan ilmoittautumalla näissä avoimissa hoitopäivissä Kuopion museon sisäpihalla ke 2.7. klo 17-18 ja ke 6.8. klo 17-18.  \nVapaa pääsy.
URL:https://kuopionmuseot.fi/tapahtuma/kuopion-museon-laatikkoviljelmaan-tutustuminen/2025-08-06/
LOCATION:Kuopion museo
ATTACH;FMTTYPE=image/jpeg:https://kuopionmuseot.fi/wp-content/uploads/2025/06/Laatikkoviljely-1.jpg
END:VEVENT
END:VCALENDAR