BEGIN:VCALENDAR
VERSION:2.0
PRODID:-//Kuopion museot - ECPv6.15.20//NONSGML v1.0//EN
CALSCALE:GREGORIAN
METHOD:PUBLISH
X-ORIGINAL-URL:https://kuopionmuseot.fi
X-WR-CALDESC:Tapahtumat Kuopion museot
REFRESH-INTERVAL;VALUE=DURATION:PT1H
X-Robots-Tag:noindex
X-PUBLISHED-TTL:PT1H
BEGIN:VTIMEZONE
TZID:Europe/Helsinki
BEGIN:DAYLIGHT
TZOFFSETFROM:+0200
TZOFFSETTO:+0300
TZNAME:EEST
DTSTART:20240331T010000
END:DAYLIGHT
BEGIN:STANDARD
TZOFFSETFROM:+0300
TZOFFSETTO:+0200
TZNAME:EET
DTSTART:20241027T010000
END:STANDARD
BEGIN:DAYLIGHT
TZOFFSETFROM:+0200
TZOFFSETTO:+0300
TZNAME:EEST
DTSTART:20250330T010000
END:DAYLIGHT
BEGIN:STANDARD
TZOFFSETFROM:+0300
TZOFFSETTO:+0200
TZNAME:EET
DTSTART:20251026T010000
END:STANDARD
BEGIN:DAYLIGHT
TZOFFSETFROM:+0200
TZOFFSETTO:+0300
TZNAME:EEST
DTSTART:20260329T010000
END:DAYLIGHT
BEGIN:STANDARD
TZOFFSETFROM:+0300
TZOFFSETTO:+0200
TZNAME:EET
DTSTART:20261025T010000
END:STANDARD
END:VTIMEZONE
BEGIN:VEVENT
DTSTART;TZID=Europe/Helsinki:20250803T130000
DTEND;TZID=Europe/Helsinki:20250803T133000
DTSTAMP:20260423T121319
CREATED:20250530T080521Z
LAST-MODIFIED:20250727T080852Z
UID:10003717-1754226000-1754227800@kuopionmuseot.fi
SUMMARY:Laulu- ja soitinyhtye Triijuulla Kuopion korttelimuseossa
DESCRIPTION:Triijuulla  on kolmen laulajan\, viulun\, mandoliinin\, kitaran ja basson kokoonpano. Ohjelmisto koostuu kansanmusiikista ja vanhasta iskelmästä sovitettuna kyseiselle yhtyeelle. Triijuulla on toiminut jo yli 20 vuotta esiintyen erilaisissa tapahtumissa kuten Kaustinen\, Siilifolk\, Folkfinlandia yms. \nKorttelimuseossa Triijuulla esiintyy torstaina 5.6. klo 15 ja sunnuntaina 3.8. klo 13. Kesto noin 30 min\, vapaa pääsy. Lämpimästi tervetuloa!
URL:https://kuopionmuseot.fi/tapahtuma/triijuulla-kuopion-korttelimuseossa/2025-08-03/
LOCATION:Korttelimuseo\, Kirkkokatu 22\, Kuopio\, 70100\, Suomi
ATTACH;FMTTYPE=image/jpeg:https://kuopionmuseot.fi/wp-content/uploads/2025/05/Triijuulla-1.jpg
END:VEVENT
BEGIN:VEVENT
DTSTART;TZID=Europe/Helsinki:20250803T140000
DTEND;TZID=Europe/Helsinki:20250803T150000
DTSTAMP:20260423T121319
CREATED:20250616T071056Z
LAST-MODIFIED:20250805T073843Z
UID:10003584-1754229600-1754233200@kuopionmuseot.fi
SUMMARY:Opastus Maaginen -näyttelyyn
DESCRIPTION:Tule mukaan kokemaan taiteen taika avoimelle opastukselle Maaginen -näyttelyyn! Ensimmäinen opastus järjestetään näyttelyn avajaisviikolla\, sunnuntaina 18.5. klo 14. Tämän jälkeen opastuksia järjestetään 1.6. alkaen joka sunnuntai klo 14 näyttelyn loppuun saakka. Opastukseen voi osallistua KUMMAn pääsymaksulla 10/5 €\, alle 18-vuotiaat ilmaiseksi. Museokortti käy maksuvälineeksi. \nMaaginen on KUMMAn tulkinta maagisesta realismista\, jossa ihme ja kumma\, mittasuhteiden leikki\, satu ja mystiikka kohtaavat todellisuuden. Näyttely leikittelee koolla\, yllätyksellisyydellä\, sekä satumaisilla tunnelmilla ja tummilla metsän maailmoilla. Näyttely tarjoaa kummallisen mahdollisuuden uppoutua ihmettelyyn\, rinnakkaisiin todellisuuksiin sekä antaa mielikuvituksen virrata.
URL:https://kuopionmuseot.fi/tapahtuma/opastus-maaginen-nayttelyyn-2-2/2025-08-03/
LOCATION:KUMMA\, Kauppakatu 35\, Kuopio\, 70100
ATTACH;FMTTYPE=image/jpeg:https://kuopionmuseot.fi/wp-content/uploads/2025/06/Opastukset-1920-x-1080-px-2.jpg
ORGANIZER;CN="KUMMA":MAILTO:taidemuseo@kuopio.fi
END:VEVENT
BEGIN:VEVENT
DTSTART;TZID=Europe/Helsinki:20250803T140000
DTEND;TZID=Europe/Helsinki:20250803T170000
DTSTAMP:20260423T121319
CREATED:20250615T102555Z
LAST-MODIFIED:20250727T080955Z
UID:10003798-1754229600-1754240400@kuopionmuseot.fi
SUMMARY:Savon Miekan avoimet harjoitukset
DESCRIPTION:Kuopiolainen Savon Miekka ry harjoittelee historiallisia asetaitoja Korttelimuseon pihassa. Avoimissa harjoituksissa kuka tahansa pääsee testaamaan historiallista miekkailua ja tutustumaan yhdistyksen toimintaan. \nAvoimet harjoitukset:\nSu 13.7. klo 14–17\nSu 3.8. klo 14–17
URL:https://kuopionmuseot.fi/tapahtuma/savon-miekan-avoimet-harjoitukset/2025-08-03/
LOCATION:Korttelimuseo\, Kirkkokatu 22\, Kuopio\, 70100\, Suomi
ATTACH;FMTTYPE=image/jpeg:https://kuopionmuseot.fi/wp-content/uploads/2025/06/savon-miekan-avoimet-harjoitukset-2025_169.jpg
END:VEVENT
END:VCALENDAR