BEGIN:VCALENDAR
VERSION:2.0
PRODID:-//Kuopion museot - ECPv6.15.20//NONSGML v1.0//EN
CALSCALE:GREGORIAN
METHOD:PUBLISH
X-ORIGINAL-URL:https://kuopionmuseot.fi
X-WR-CALDESC:Tapahtumat Kuopion museot
REFRESH-INTERVAL;VALUE=DURATION:PT1H
X-Robots-Tag:noindex
X-PUBLISHED-TTL:PT1H
BEGIN:VTIMEZONE
TZID:Europe/Helsinki
BEGIN:DAYLIGHT
TZOFFSETFROM:+0200
TZOFFSETTO:+0300
TZNAME:EEST
DTSTART:20240331T010000
END:DAYLIGHT
BEGIN:STANDARD
TZOFFSETFROM:+0300
TZOFFSETTO:+0200
TZNAME:EET
DTSTART:20241027T010000
END:STANDARD
BEGIN:DAYLIGHT
TZOFFSETFROM:+0200
TZOFFSETTO:+0300
TZNAME:EEST
DTSTART:20250330T010000
END:DAYLIGHT
BEGIN:STANDARD
TZOFFSETFROM:+0300
TZOFFSETTO:+0200
TZNAME:EET
DTSTART:20251026T010000
END:STANDARD
BEGIN:DAYLIGHT
TZOFFSETFROM:+0200
TZOFFSETTO:+0300
TZNAME:EEST
DTSTART:20260329T010000
END:DAYLIGHT
BEGIN:STANDARD
TZOFFSETFROM:+0300
TZOFFSETTO:+0200
TZNAME:EET
DTSTART:20261025T010000
END:STANDARD
END:VTIMEZONE
BEGIN:VEVENT
DTSTART;TZID=Europe/Helsinki:20250726T120000
DTEND;TZID=Europe/Helsinki:20250726T150000
DTSTAMP:20260423T161231
CREATED:20250722T065929Z
LAST-MODIFIED:20250722T065929Z
UID:10003846-1753531200-1753542000@kuopionmuseot.fi
SUMMARY:Taiteilija tavattavissa: Marlena Luukkonen
DESCRIPTION:Kuvataiteilija Marlena Luukkonen saapuu taidelainaamolle la 26.7. klo 12-15 kertomaan taiteestaan\, työskentelystään ja lainaamon toiminnasta. Tervetuloa juttelemaan ja tutustumaan! \nMarlena Luukkonen on Kuopiossa asuva ja työskentelevä kuvataiteilija ja taidemaalari. Hänen teoksensa tunnetaan ihmisaiheista\, joihin liittyy vahvasti luonto. Hän on pohtinut näiden suuntausten kautta teemoja sisäisestä kasvusta\, muutoksesta ja voimaantumisesta. Luukkosen maalausestetiikka on värikästä sekä dekoratiivista. Käsiala vaihtelee vahvasta tekstuurista hentoon ja läpikuultavaan maalausjälkeen. Luukkonen toivoo välittävänsä taiteellaan paitsi visuaalista nautintoa myös jotain mihin katsoja voi kokea samaistuvansa. \nMarlena Luukkonen on valmistunut Lahden Muotoilu- ja Taideinstituutista vuonna 2013 ja ollut sen jälkeen aktiivisesti mukana näyttelytoiminnassa eri puolilla Suomea. Luukkonen kuuluu useisiin taiteilijaseuroihin mm. Taidemaalariliittoon ja Kuopion Kuvataiteilijat ry Ars Liberaan. Hän on toiminut myös kuvataideopettajan tehtävissä. \nTaiteilijan kotisivut: Kotisivu | Marlena Luukkonen Original Art \nTaiteilijan teokset taidelainaamolla: Marlena Luukkonen | Taidelainaamo | Kuopion taidelainaamo \n– \nKuopion taidelainaamo on Kuopion Kuvataiteilijat ry Ars Liberan ja KUMMAn yhdessä ylläpitämä palvelu. Taidelainaamo sijaitsee KUMMAn yhteydessä osoitteessa Kauppakatu 35. \nTaiteilija tavattavissa on Kuopion taidelainaamossa kuukausittain järjestettävä tapahtuma\, jonka tarkoituksena on nostaa esiin paikallisia kuvataiteilijoita ja mahdollistaa yleisön ja taiteilijan kohtaaminen. Tapahtuma on maksuton ja sen mahdollistaa Uudet klassikot -tuki. \n– \nKuopion taidelainaamo \nKUMMA\, Kauppakatu 35\, Kuopio \navoinna ti 10-17\, ke 10-19 ja to-su 10-17 \nTaidelainaamo | Kuopion taidelainaamo
URL:https://kuopionmuseot.fi/tapahtuma/taiteilija-tavattavissa-marlena-luukkonen/
LOCATION:KUMMA\, Kauppakatu 35\, Kuopio\, 70100
ATTACH;FMTTYPE=image/jpeg:https://kuopionmuseot.fi/wp-content/uploads/2025/07/Taiteilija-tavattavissa-1920-x-1080-px.jpg
ORGANIZER;CN="KUMMA":MAILTO:taidemuseo@kuopio.fi
END:VEVENT
BEGIN:VEVENT
DTSTART;TZID=Europe/Helsinki:20250726T130000
DTEND;TZID=Europe/Helsinki:20250726T140000
DTSTAMP:20260423T161231
CREATED:20250420T080135Z
LAST-MODIFIED:20250420T080436Z
UID:10003493-1753534800-1753538400@kuopionmuseot.fi
SUMMARY:Opastus: Talojen tarinoita
DESCRIPTION:Talojen tarinoita -näyttelyopastus esittelee jo lähes hävinnyttä puutalokaupunkia. Puu-Kuopio oli voimissaan 1900-luvun puoliväliin asti\, jolloin jälleenrakennuskausi ja kaupungistuminen muuttivat kaupunkikuvaa merkittävästi. Opastuksella muistellaan arkista elämää puutalokaupungissa siellä asuneiden silmin ja tutustutaan siihen valokuvien avulla. \nLauantaisin klo 13. Opastus sisältyy museon pääsymaksuun (8/5 €\, Museokortti\, Kaikukortti\, alle 18-vuotiaat maksutta). \nTalojen tarinoita -opastus on osa Kuopio250-juhlavuoden ohjelmaa. \nTalojen tarinoita – Puutalokaupungin jäljillä 25.4.2025-26.4.2026 \nNäyttelyssä valokuvat ja muistelmat nivoutuvat yhteen luoden eloisan kokonaisuuden\, joka kertoo kaupungin rakennushistoriasta sekä kaupunkikuvan muutoksesta. Näyttely esittelee Kuopion purettuja sekä edelleen olemassa olevia puutaloja piirtäen kuvaa vilkkaasta kaupungista\, jonka kaduilla ihmiset toimittivat arkisia askareitaan. Kuopiossa lapsuutensa ja nuoruutensa 1940–1960-luvuilla viettäneet ihmiset kertovat millaista oli elää puutalojen täyttämässä kaupungissa.
URL:https://kuopionmuseot.fi/tapahtuma/opastus-talojen-tarinoita/2025-07-26/
LOCATION:Korttelimuseo\, Kirkkokatu 22\, Kuopio\, 70100\, Suomi
ATTACH;FMTTYPE=image/png:https://kuopionmuseot.fi/wp-content/uploads/2025/04/Talojen_tarinoita_opastus.png
END:VEVENT
BEGIN:VEVENT
DTSTART;TZID=Europe/Helsinki:20250726T130000
DTEND;TZID=Europe/Helsinki:20250726T170000
DTSTAMP:20260423T161231
CREATED:20250714T122205Z
LAST-MODIFIED:20250714T122205Z
UID:10003844-1753534800-1753549200@kuopionmuseot.fi
SUMMARY:Avoin pöytäroolipeli: Ailahduksien Talo
DESCRIPTION:Tervetuloa kokeilemaan yhteistä\, alla olevien sääntöjen jäsentämää roolipeliä\, kun ehdit istahtaa seuraksi. Peli pyörii siis avoimessa pöydässä\, lisäksi sisältäen hahmonluontia. \nTeit virheen ja he veivät palan sinua. Et tule koskaan saamaan sitä takaisin. Voit vain toivoa saavasi mahdollisuuden palata kotiin ennen kuin unohdat\, kuka olit ennen tänne saapumistasi. \nPelijärjestelmä: Iron and Lies \nOsallistujien vähimmäisikä: 12 \nAjankohta: La 26.7. klo 13-17 \nPaikka: KUMMA\, Kauppakatu 35\, Kuopio \nSisältövaroitukset: kodittomuus\, muistinmenetys\, muodonmuutokset\, pakkotyö \nHinta: KUMMAn sisäänpääsymaksu 10/5€\, alle 18-vuotiaat ilmaiseksi\, Museo- ja Kaikukortit käyvät maksuvälineiksi \nPelin johtaja: Sami Rissanen \nYhteistyössä: Kuopion Roolipelaajat \nIron and Lies on nopaton roolipeli\, joka perustuu muutamaan yksinkertaiseen sääntöön: \n\nKeijuilla on kyky muuttaa sinua.\nKeijut eivät ymmärrä\, että ihmiset osaavat valehdella.\nKeijut pelkäävät rautaa.\nKeiju\, joka ymmärtää tulleensa huijatuksi\, on armoton.\n\nKukin pelaajista pelaa omaa itseään\, joka on eksynyt keijujen maailmaan ja ehtinyt tulla jollakin tavoin niiden muuttamaksi. Vain ylikeijuilla on kyky lähettää ihminen takaisin kotiinsa. Yksi näistä on Herttua Puolialanko Raadonsuopea\, joka elää Ailahduksien Talo -kylpylän huipulla. Kukin pelaajista on tullut töihin hänen keijukylpyläänsä yrittääkseen työnteolla nousta sen huipulle ja pyytääkseen ylikeijulta lupaa palata kotiin.
URL:https://kuopionmuseot.fi/tapahtuma/avoin-poytaroolipeli-ailahduksien-talo/
LOCATION:KUMMA\, Kauppakatu 35\, Kuopio\, 70100
ATTACH;FMTTYPE=image/jpeg:https://kuopionmuseot.fi/wp-content/uploads/2025/07/Ailahduksien-Talo-1920-x-1080-px.jpg
ORGANIZER;CN="KUMMA":MAILTO:taidemuseo@kuopio.fi
END:VEVENT
BEGIN:VEVENT
DTSTART;TZID=Europe/Helsinki:20250726T140000
DTEND;TZID=Europe/Helsinki:20250726T144500
DTSTAMP:20260423T161231
CREATED:20250518T125920Z
LAST-MODIFIED:20251211T133351Z
UID:10003669-1753538400-1753541100@kuopionmuseot.fi
SUMMARY:Myyttiset-näyttelyopastus
DESCRIPTION:Myyttiset-näyttelyopastus kuljettaa kulkijan halki entisaikojen metsän. Metsäretkellä tutustutaan esivanhempiemme elämää rytmittäneeseen kansanuskoon. Matkan varrelta löytyy niin myyteistä tuttuja olentoja ja luontotietoa kuin vanhin tunnettu pohjoissavolainen loitsukin. \nTiedontäyteinen kierros sopii parhaiten aikuisille ja nuorille ja on kestoltaan noin 45 minuuttia.  Opastus lähtee kesäkaudella 7.6.–30.8.2025 lipunmyynnin läheisyydestä lauantaisin ja keskiviikkoisin klo 14. Syyskuusta alkaen näyttelyn päättymiseen saakka opastus on parittomien viikkojen sunnuntaisin sekä viimeisenä näyttelyn aukiolopäivänä su 25.1. klo 13 \nOpastus sisältyy museon pääsymaksuun (15/10 €\, alle 18-v maksutta)\, Museokortti ja Kaikukortti käyvät. \n***\nKuopion museon Myyttiset – metsän kätköissä -näyttely vie menneisyyden aarniometsään keskelle kansanuskon maailmaa. Se on tehty monilla aisteilla koettavaksi\, elämykselliseksi ihmettelyn paikaksi\, jossa riittää tutkittavaa kaikenikäisille. \nKuopion luonnontieteellisen museon ja Kuopion kulttuurihistoriallisen museon yhteistyönä tuottamassa näyttelyssä on esillä erityistä voimaa omaavia taikaesineitä sekä kiehtovia eläimiä. Tarinat\, uskomukset ja todelliset luonnonilmiöt punoutuvat yhteen ainutlaatuisella tavalla. Kulje entisajan metsässä\, tutustu myyttisiin hahmoihin\, joudu metsänpeittoon ja loitsi itsesi vapaaksi! \nMyyttiset-näyttely ja siihen liittyvät tapahtumat ovat osa Kuopio250-juhlavuoden ohjelmistoa.
URL:https://kuopionmuseot.fi/tapahtuma/myyttiset-nayttelyopastus-2/2025-07-26/
LOCATION:Kuopion museo
ATTACH;FMTTYPE=image/jpeg:https://kuopionmuseot.fi/wp-content/uploads/2025/02/Myyttiset-nayttelyopastus.jpg
ORGANIZER;CN="Kuopion museo":MAILTO:kuopionmuseo@kuopio.fi
END:VEVENT
BEGIN:VEVENT
DTSTART;TZID=Europe/Helsinki:20250726T140000
DTEND;TZID=Europe/Helsinki:20250726T150000
DTSTAMP:20260423T161231
CREATED:20250615T092840Z
LAST-MODIFIED:20250615T115707Z
UID:10003796-1753538400-1753542000@kuopionmuseot.fi
SUMMARY:Merirosvouksen kulta-aika -miekkailunäytös
DESCRIPTION:Merirosvon ura on 1600–1700 -lukujen taitteessa ollut yleensä vauhdikas ja lyhyt. Selvitäkseen yhtään pidempään merillä lain väärällä puolella on täytynyt osata miekkailla sapelilla ja pukumiekalla ja selvitä kaikenlaisia aseita vastaan\, pistooleista pistinmuskettiin. Ja entä jos tappelu tapahtuukin kapakassa tai kadulla? Miten kamppailussa auttaa hattu\, viidakkoveitsi tai täysi suullinen rommia? \nMiekkailunäytös järjestetään Kuopion korttelimuseon pihalla lauantaina 26.7. klo 14. Näytös on maksuton. \nMuut miekkailunäytökset:\nLa 5.7. klo 14:\nRobin Hoodin tarinoiden aseet \nPe 29.8. klo 19\nSuomen sodan taistelukenttä \nSavon Miekka ry:n avoimet harjoitukset Kuopion korttelimuseolla:\nSu 13.7. klo 14–17\nSu 3.8. klo 14–17
URL:https://kuopionmuseot.fi/tapahtuma/merirosvouksen-kulta-aika-miekkailunaytos/
LOCATION:Korttelimuseo\, Kirkkokatu 22\, Kuopio\, 70100\, Suomi
ATTACH;FMTTYPE=image/jpeg:https://kuopionmuseot.fi/wp-content/uploads/2025/06/savon-miekka-miekkailunaytos-2025.jpg
END:VEVENT
END:VCALENDAR