BEGIN:VCALENDAR
VERSION:2.0
PRODID:-//Kuopion museot - ECPv6.15.20//NONSGML v1.0//EN
CALSCALE:GREGORIAN
METHOD:PUBLISH
X-WR-CALNAME:Kuopion museot
X-ORIGINAL-URL:https://kuopionmuseot.fi
X-WR-CALDESC:Tapahtumat Kuopion museot
REFRESH-INTERVAL;VALUE=DURATION:PT1H
X-Robots-Tag:noindex
X-PUBLISHED-TTL:PT1H
BEGIN:VTIMEZONE
TZID:Europe/Helsinki
BEGIN:DAYLIGHT
TZOFFSETFROM:+0200
TZOFFSETTO:+0300
TZNAME:EEST
DTSTART:20240331T010000
END:DAYLIGHT
BEGIN:STANDARD
TZOFFSETFROM:+0300
TZOFFSETTO:+0200
TZNAME:EET
DTSTART:20241027T010000
END:STANDARD
BEGIN:DAYLIGHT
TZOFFSETFROM:+0200
TZOFFSETTO:+0300
TZNAME:EEST
DTSTART:20250330T010000
END:DAYLIGHT
BEGIN:STANDARD
TZOFFSETFROM:+0300
TZOFFSETTO:+0200
TZNAME:EET
DTSTART:20251026T010000
END:STANDARD
BEGIN:DAYLIGHT
TZOFFSETFROM:+0200
TZOFFSETTO:+0300
TZNAME:EEST
DTSTART:20260329T010000
END:DAYLIGHT
BEGIN:STANDARD
TZOFFSETFROM:+0300
TZOFFSETTO:+0200
TZNAME:EET
DTSTART:20261025T010000
END:STANDARD
END:VTIMEZONE
BEGIN:VEVENT
DTSTART;TZID=Europe/Helsinki:20250607T110000
DTEND;TZID=Europe/Helsinki:20250607T133000
DTSTAMP:20260423T223914
CREATED:20250521T065926Z
LAST-MODIFIED:20250602T095258Z
UID:10003697-1749294000-1749303000@kuopionmuseot.fi
SUMMARY:Queer Lines PIIRROS
DESCRIPTION:Queer* Drawing -työryhmä kutsuu piirustus- ja runotyöpajaan\, joka pohjaa jo yli vuoden yhdessä kokoontuneen\, seksuaali- ja sukupuolivähemmistöille suunnatun taideryhmän yhteiseen toimintaan. Tapahtumaan voi osallistua KUMMAn pääsymaksun hinnalla 10/5€\, alle 18-vuotiaat ilmaiseksi ja Museokortti käy maksuvälineeksi. \nTyöpajassa toteutetaan yhdessä suurta\, liikelähtöistä piirrosta\, johon kaikki voivat osallistua. Työssä keskeistä on vuorovaikutus: aktiivinen kuunteleminen ja hyväksyvä katse\, sekä tilan antaminen ja yhdessä tekeminen. Tilassa koetaan yhteisen piirtämisen lisäksi myös ryhmän aiemmin tekemiä piirroksia\, runoillaan tehtävien pohjalta vieraskirjaan ja kuullaan eri aikakausien queer – runoutta näyttelijä\, Sari Harjun lukemana. Kokoelmassa kuullaan myös paikallisen Jupinaa – queer lavarunous – ryhmän runoja. \nTapahtumassa on lisäksi myös toinenkin työpaja\, missä on mahdollista ottaa glitterkasvomaalauksia !!! \nKutsumme kaikki Kuopio Priden ja KUMMAn kävijät mukaan jättämään jälkensä yhteiseen piirrokseen\, kuuntelemaan\, kirjoittamaan sekä tunnelmoimaan ja levähtämään yhdessä ennen Pride -kulkuetta (klo 14) ja puistojuhlaa. Voit vierailla pajassa haluamasi ajan; viipyä vain hetken tai jäädä tilaan koko ajaksi. \nTyöpaja on suunnattu erityisesti nuorille ja aikuisille.\nToteutettu teos ja tapahtuma dokumentoidaan. \nMukana: Queer Drawing Group ja Jupinaa-lavarunoutta ryhmä\nKoollekutsuja: Queer Drawing työpajojen ohjaaja\, Emma Fält\nRunot esittää ja on koonnut: Näyttelijä\, Sari Harju yhdessä kirjoittaja\, Emma Kontiokorven kanssa \nTapahtuma on osa Kuopio250-juhlavuoden ohjelmistoa. \nQueer* – kattokäsite\, jolla kuvaillaan sekä seksuaali- että sukupuolivähemmistöjä. Queer on\nalkuperäisesti ollut sateenkaarivähemmistöjä halveksuva ja loukkaava sana\, mutta se on vuosien saatossa omittu sateenkaariyhteisöjen käyttöön.\nLähde: https://kehraaja.com/opas-sateenkaarisanastoon/
URL:https://kuopionmuseot.fi/tapahtuma/queer-lines-piirros/
LOCATION:KUMMA\, Kauppakatu 35\, Kuopio\, 70100
ATTACH;FMTTYPE=image/jpeg:https://kuopionmuseot.fi/wp-content/uploads/2025/05/Queer-Lines-1920-x-1080-px.jpg
END:VEVENT
BEGIN:VEVENT
DTSTART;TZID=Europe/Helsinki:20250607T130000
DTEND;TZID=Europe/Helsinki:20250607T140000
DTSTAMP:20260423T223914
CREATED:20250420T080135Z
LAST-MODIFIED:20250420T080436Z
UID:10003487-1749301200-1749304800@kuopionmuseot.fi
SUMMARY:Opastus: Talojen tarinoita
DESCRIPTION:Talojen tarinoita -näyttelyopastus esittelee jo lähes hävinnyttä puutalokaupunkia. Puu-Kuopio oli voimissaan 1900-luvun puoliväliin asti\, jolloin jälleenrakennuskausi ja kaupungistuminen muuttivat kaupunkikuvaa merkittävästi. Opastuksella muistellaan arkista elämää puutalokaupungissa siellä asuneiden silmin ja tutustutaan siihen valokuvien avulla. \nLauantaisin klo 13. Opastus sisältyy museon pääsymaksuun (8/5 €\, Museokortti\, Kaikukortti\, alle 18-vuotiaat maksutta). \nTalojen tarinoita -opastus on osa Kuopio250-juhlavuoden ohjelmaa. \nTalojen tarinoita – Puutalokaupungin jäljillä 25.4.2025-26.4.2026 \nNäyttelyssä valokuvat ja muistelmat nivoutuvat yhteen luoden eloisan kokonaisuuden\, joka kertoo kaupungin rakennushistoriasta sekä kaupunkikuvan muutoksesta. Näyttely esittelee Kuopion purettuja sekä edelleen olemassa olevia puutaloja piirtäen kuvaa vilkkaasta kaupungista\, jonka kaduilla ihmiset toimittivat arkisia askareitaan. Kuopiossa lapsuutensa ja nuoruutensa 1940–1960-luvuilla viettäneet ihmiset kertovat millaista oli elää puutalojen täyttämässä kaupungissa.
URL:https://kuopionmuseot.fi/tapahtuma/opastus-talojen-tarinoita/2025-06-07/
LOCATION:Korttelimuseo\, Kirkkokatu 22\, Kuopio\, 70100\, Suomi
ATTACH;FMTTYPE=image/png:https://kuopionmuseot.fi/wp-content/uploads/2025/04/Talojen_tarinoita_opastus.png
END:VEVENT
BEGIN:VEVENT
DTSTART;TZID=Europe/Helsinki:20250607T140000
DTEND;TZID=Europe/Helsinki:20250607T144500
DTSTAMP:20260423T223914
CREATED:20250518T125920Z
LAST-MODIFIED:20251211T133351Z
UID:10003656-1749304800-1749307500@kuopionmuseot.fi
SUMMARY:Myyttiset-näyttelyopastus
DESCRIPTION:Myyttiset-näyttelyopastus kuljettaa kulkijan halki entisaikojen metsän. Metsäretkellä tutustutaan esivanhempiemme elämää rytmittäneeseen kansanuskoon. Matkan varrelta löytyy niin myyteistä tuttuja olentoja ja luontotietoa kuin vanhin tunnettu pohjoissavolainen loitsukin. \nTiedontäyteinen kierros sopii parhaiten aikuisille ja nuorille ja on kestoltaan noin 45 minuuttia.  Opastus lähtee kesäkaudella 7.6.–30.8.2025 lipunmyynnin läheisyydestä lauantaisin ja keskiviikkoisin klo 14. Syyskuusta alkaen näyttelyn päättymiseen saakka opastus on parittomien viikkojen sunnuntaisin sekä viimeisenä näyttelyn aukiolopäivänä su 25.1. klo 13 \nOpastus sisältyy museon pääsymaksuun (15/10 €\, alle 18-v maksutta)\, Museokortti ja Kaikukortti käyvät. \n***\nKuopion museon Myyttiset – metsän kätköissä -näyttely vie menneisyyden aarniometsään keskelle kansanuskon maailmaa. Se on tehty monilla aisteilla koettavaksi\, elämykselliseksi ihmettelyn paikaksi\, jossa riittää tutkittavaa kaikenikäisille. \nKuopion luonnontieteellisen museon ja Kuopion kulttuurihistoriallisen museon yhteistyönä tuottamassa näyttelyssä on esillä erityistä voimaa omaavia taikaesineitä sekä kiehtovia eläimiä. Tarinat\, uskomukset ja todelliset luonnonilmiöt punoutuvat yhteen ainutlaatuisella tavalla. Kulje entisajan metsässä\, tutustu myyttisiin hahmoihin\, joudu metsänpeittoon ja loitsi itsesi vapaaksi! \nMyyttiset-näyttely ja siihen liittyvät tapahtumat ovat osa Kuopio250-juhlavuoden ohjelmistoa.
URL:https://kuopionmuseot.fi/tapahtuma/myyttiset-nayttelyopastus-2/2025-06-07/
LOCATION:Kuopion museo
ATTACH;FMTTYPE=image/jpeg:https://kuopionmuseot.fi/wp-content/uploads/2025/02/Myyttiset-nayttelyopastus.jpg
ORGANIZER;CN="Kuopion museo":MAILTO:kuopionmuseo@kuopio.fi
END:VEVENT
END:VCALENDAR