BEGIN:VCALENDAR
VERSION:2.0
PRODID:-//Kuopion museot - ECPv6.15.20//NONSGML v1.0//EN
CALSCALE:GREGORIAN
METHOD:PUBLISH
X-ORIGINAL-URL:https://kuopionmuseot.fi
X-WR-CALDESC:Tapahtumat Kuopion museot
REFRESH-INTERVAL;VALUE=DURATION:PT1H
X-Robots-Tag:noindex
X-PUBLISHED-TTL:PT1H
BEGIN:VTIMEZONE
TZID:Europe/Helsinki
BEGIN:DAYLIGHT
TZOFFSETFROM:+0200
TZOFFSETTO:+0300
TZNAME:EEST
DTSTART:20240331T010000
END:DAYLIGHT
BEGIN:STANDARD
TZOFFSETFROM:+0300
TZOFFSETTO:+0200
TZNAME:EET
DTSTART:20241027T010000
END:STANDARD
BEGIN:DAYLIGHT
TZOFFSETFROM:+0200
TZOFFSETTO:+0300
TZNAME:EEST
DTSTART:20250330T010000
END:DAYLIGHT
BEGIN:STANDARD
TZOFFSETFROM:+0300
TZOFFSETTO:+0200
TZNAME:EET
DTSTART:20251026T010000
END:STANDARD
BEGIN:DAYLIGHT
TZOFFSETFROM:+0200
TZOFFSETTO:+0300
TZNAME:EEST
DTSTART:20260329T010000
END:DAYLIGHT
BEGIN:STANDARD
TZOFFSETFROM:+0300
TZOFFSETTO:+0200
TZNAME:EET
DTSTART:20261025T010000
END:STANDARD
END:VTIMEZONE
BEGIN:VEVENT
DTSTART;TZID=Europe/Helsinki:20250507T140000
DTEND;TZID=Europe/Helsinki:20250507T183000
DTSTAMP:20260423T161235
CREATED:20250326T061223Z
LAST-MODIFIED:20250326T062045Z
UID:10003477-1746626400-1746642600@kuopionmuseot.fi
SUMMARY:OMPELUSEURAT:  Kangaskenkien ja laukkujen korjaus & Volttilähtö
DESCRIPTION:Kuopion museon monitoimitila\, vapaa pääsy \nTule korjaamaan ompelukoneella tai käsin rikkinäisiä kangaskenkiä ja laukkuja käyttöä kestäväksi! Teemasta riippumatta voit tulla kaikenlaisten korjaustöiden kanssa. Korjausaktiivit neuvovat korjaamisen alkuun. Mukaan korjaamisen riemuun pääset myös auttamalla keskeneräisissä korjaustöissä tai vertaiskorjaajana! \nPajaan saa tulla ilman ennakkoilmoittautumista oman aikataulun mukaan. Paikan päältä löytyy ompelukoneita ja korjaamiseen paikkakankaita\, lankoja ym.  Voit tuoda käyttöön ja kiertoon myös omia materiaaleja. \nEsityksellisenä iltapalana näyttämötaiteilija Lasse Forsgrenin yöllisestä näystä kehkeytynyt Volttilähtö. Monologikuvaelma kauhean-naurettavan-näyttävästä tapahtumasarjasta jääraveissa kevään kynnyksellä. Esitysaika klo 17.30. \nTän voi korjata. Korjataan tämä! Korjataan tämä elämä kestäväksi elämäksi. \n  \nTapahtuma osa Kuopio250-ohjelmistoa ja saanut juhlavuoden tuotantotukea. Yhteistyössä Kuopion museo\, Jätekukko\, Kantti\, Elävä säätiö ja ITAK \nOhjelmamuutokset ja täydennykset mahdollisia. OMPELUSEURAT Instagramista. \n*** \nOMPELUSEURAT KORJAUSPAJOJEN  KEVÄTKAUSI 2025 \nKorjauspaja avoinna klo 14-18.30\, esitysaika pääsääntöisesti klo 17.30 \nPaikka: Kuopion museon monitoimitila (Museokatu 1). Osallistuminen on maksutonta. \n  \nKe 15.1. klo 14-19 OMPELUSEURAT: Lastenvaatteiden korjaus & Kasvu – saksofoni Anna Voutilainen-Veijonen \nKe 12.2. klo 14-19 OMPELUSEURAT: Parsintapaja & Osallisuudesta -esitys Lasse Forsgren \nKe 12.3. klo 14-18.30 Farkkujen paikkaus & Syntyä/Syvyydestä – tanssi Outi Markkula ja viulu Emilia Lajunen \nKe 9.4. klo 14-18.30 OMPELUSEURAT: Vetoketjupaja – korjaus ja vaihto & Jenni Venäläisen kanteletaidetta \nKe 7.5. klo 14-18.30 OMPELUSEURAT: Kangaskenkien ja laukkujen korjaus & Volttilähtö -kuvaelma Lasse Forsgren
URL:https://kuopionmuseot.fi/tapahtuma/ompeluseurat-kangaskenkien-ja-laukkujen-korjaus-volttilahto/
LOCATION:Kuopion museo
ATTACH;FMTTYPE=image/jpeg:https://kuopionmuseot.fi/wp-content/uploads/2025/02/Korjataan-tämä_vaaka.jpeg
END:VEVENT
END:VCALENDAR