BEGIN:VCALENDAR
VERSION:2.0
PRODID:-//Kuopion museot - ECPv6.15.20//NONSGML v1.0//EN
CALSCALE:GREGORIAN
METHOD:PUBLISH
X-WR-CALNAME:Kuopion museot
X-ORIGINAL-URL:https://kuopionmuseot.fi
X-WR-CALDESC:Tapahtumat Kuopion museot
REFRESH-INTERVAL;VALUE=DURATION:PT1H
X-Robots-Tag:noindex
X-PUBLISHED-TTL:PT1H
BEGIN:VTIMEZONE
TZID:Europe/Helsinki
BEGIN:DAYLIGHT
TZOFFSETFROM:+0200
TZOFFSETTO:+0300
TZNAME:EEST
DTSTART:20230326T010000
END:DAYLIGHT
BEGIN:STANDARD
TZOFFSETFROM:+0300
TZOFFSETTO:+0200
TZNAME:EET
DTSTART:20231029T010000
END:STANDARD
BEGIN:DAYLIGHT
TZOFFSETFROM:+0200
TZOFFSETTO:+0300
TZNAME:EEST
DTSTART:20240331T010000
END:DAYLIGHT
BEGIN:STANDARD
TZOFFSETFROM:+0300
TZOFFSETTO:+0200
TZNAME:EET
DTSTART:20241027T010000
END:STANDARD
BEGIN:DAYLIGHT
TZOFFSETFROM:+0200
TZOFFSETTO:+0300
TZNAME:EEST
DTSTART:20250330T010000
END:DAYLIGHT
BEGIN:STANDARD
TZOFFSETFROM:+0300
TZOFFSETTO:+0200
TZNAME:EET
DTSTART:20251026T010000
END:STANDARD
END:VTIMEZONE
BEGIN:VEVENT
DTSTART;TZID=Europe/Helsinki:20240615T130000
DTEND;TZID=Europe/Helsinki:20240615T134500
DTSTAMP:20260425T050553
CREATED:20240522T134130Z
LAST-MODIFIED:20240601T073245Z
UID:10002942-1718456400-1718459100@kuopionmuseot.fi
SUMMARY:Opastus: Korttelin kesäinen piha
DESCRIPTION:Millaista sakkia Korttelimuseon pihapiirissä ja sen ympäristössä on aikojen saatossa astellut? Mitähän kaikkea pihalla on puuhattu\, millaiselta piha on näyttänyt? Muun muassa tällaisia seikkoja pohditaan Korttelin kesäinen piha -opastuksella! \nKorttelin kesäinen piha -opastukset keskittyvät kertomaan ennen kaikkea pihapiirin tarinaa\, vaikka myös joissain museokodeissa saatetaan piipahtaa sisällä. Opastuksilla on kuitenkin säävaraus: mikäli taivaalta satelee kovastikin vettä tai perisuomalaiseen kesätyyliin räntää ja rakeita\, opastus kiertää sisätiloissa museokoteihin ja niiden asukkaisiin tutustuen. \nOpastuksella vierähtää noin 45 minuuttia. Tämän jälkeen\, sään salliessa\, suosittelemme tutustumaan Korttelimuseon pihalla käytettävissä oleviin peleihin ja leikkivälineisiin! \nTervetuloa!
URL:https://kuopionmuseot.fi/tapahtuma/korttelin-kesainen-piha-opastus/2024-06-15/
LOCATION:Korttelimuseo\, Kirkkokatu 22\, Kuopio\, 70100\, Suomi
ATTACH;FMTTYPE=image/jpeg:https://kuopionmuseot.fi/wp-content/uploads/2024/05/opastus-korttelin-piha_iso-logo.jpg
END:VEVENT
BEGIN:VEVENT
DTSTART;TZID=Europe/Helsinki:20240615T140000
DTEND;TZID=Europe/Helsinki:20240615T144500
DTSTAMP:20260425T050553
CREATED:20240502T113349Z
LAST-MODIFIED:20260128T093801Z
UID:10002908-1718460000-1718462700@kuopionmuseot.fi
SUMMARY:Opastus: Kuopion museon kohokohdat
DESCRIPTION:Tule mukaan opastukselle tutustumaan alueemme Pohjois-Savon historiaan tai Itä-Suomen luontoon! Osallistujia johdatellaan Kuopion museon perusnäyttelyiden saloihin nostamalla esiin kunkin näyttelynosan kohokohtia. \nOpastus sisältyy pääsylipun hintaan (15/10 €\, alle 18-vuotiaat ilmaiseksi). Museokortti ja Kaikukortti käyvät. Opastus on kestoltaan noin 45 minuuttia.
URL:https://kuopionmuseot.fi/tapahtuma/opastus-kuopion-museon-kohokohdat/2024-06-15/
LOCATION:Kuopion museo
ATTACH;FMTTYPE=image/jpeg:https://kuopionmuseot.fi/wp-content/uploads/2024/05/Museonkohokohdat.jpg
ORGANIZER;CN="Kuopion museo":MAILTO:kuopionmuseo@kuopio.fi
END:VEVENT
BEGIN:VEVENT
DTSTART;TZID=Europe/Helsinki:20240615T140000
DTEND;TZID=Europe/Helsinki:20240615T160000
DTSTAMP:20260425T050553
CREATED:20240604T092835Z
LAST-MODIFIED:20240613T100237Z
UID:10002991-1718460000-1718467200@kuopionmuseot.fi
SUMMARY:Ompeluseurat – Korjaa muoti
DESCRIPTION:Onko rakkaimpaan paitaasi tullut reikä? Olisiko kirpparilta löytynyt takki sinulle täydellinen\, jos vain sen sisäsauma olisi ehjä? Tule korjaamaan vaatteitasi kestäväksi muodiksi Kuopion taidemuseon sisäpihalle. OMPELUSEURAT korjausaktiivit neuvovat korjaamisen alkuun\, joten kokemattominkin pääsee helposti korjaamisen pariin. Harjoitellaan yhdessä kestävämmän muodin luomista! \n  \nTapahtuma järjestetään Kuopion taidemuseon sisäpihalla (huonolla säällä 2.krs näyttelytilassa). Paikan päältä löytyy korjaamiseen paikkakankaita\, lankoja\, ompelukoneita ym. Ompeluseurojen Korjaa muoti –tapahtuma sisältyy Kuopion taidemuseon pääsymaksuun\, alle 18-vuotiaat ilmaiseksi ja Museokortti käy maksuvälineeksi.
URL:https://kuopionmuseot.fi/tapahtuma/ompeluseurat-korjaa-muoti/2024-06-15/
LOCATION:KUMMA\, Kauppakatu 35\, Kuopio\, 70100
ATTACH;FMTTYPE=image/png:https://kuopionmuseot.fi/wp-content/uploads/2024/06/1920-1080-px-ompeluseurat-korjaa-muoti-01.png
END:VEVENT
BEGIN:VEVENT
DTSTART;TZID=Europe/Helsinki:20240615T150000
DTEND;TZID=Europe/Helsinki:20240615T160000
DTSTAMP:20260425T050553
CREATED:20240318T131321Z
LAST-MODIFIED:20240525T065416Z
UID:10002803-1718463600-1718467200@kuopionmuseot.fi
SUMMARY:Teemaopastus: Meidän tarinamme 
DESCRIPTION:Evoluutio saa aikaan ihmeellisiä asioita. Yksi sen luomuksista on kahdella jalalla liikkuva kädellinen\, joka viettää päivänsä monimutkaisia systeemeitä rakentaen ja elämän tarkoitusta ihmetellen. Noin tunnin mittaisella teemaopastuksella syvennytään lajin kiehtovaan menneisyyteen – tämä on meidän tarinamme! \nOpastusmaksu 3 € + museon pääsymaksu (13 / 7 €\, alle 18-v maksutta)\, Museokortti käy. Opastusmaksua ei peritä alle 18-vuotiailta.
URL:https://kuopionmuseot.fi/tapahtuma/teemaopastus-meidan-tarinamme/2024-06-15/
LOCATION:Kuopion museo
ATTACH;FMTTYPE=image/jpeg:https://kuopionmuseot.fi/wp-content/uploads/2024/03/Chimpanzee_MB46_NMSstudio-netti.jpg
END:VEVENT
END:VCALENDAR