BEGIN:VCALENDAR
VERSION:2.0
PRODID:-//Kuopion museot - ECPv6.15.20//NONSGML v1.0//EN
CALSCALE:GREGORIAN
METHOD:PUBLISH
X-WR-CALNAME:Kuopion museot
X-ORIGINAL-URL:https://kuopionmuseot.fi
X-WR-CALDESC:Tapahtumat Kuopion museot
REFRESH-INTERVAL;VALUE=DURATION:PT1H
X-Robots-Tag:noindex
X-PUBLISHED-TTL:PT1H
BEGIN:VTIMEZONE
TZID:Europe/Helsinki
BEGIN:DAYLIGHT
TZOFFSETFROM:+0200
TZOFFSETTO:+0300
TZNAME:EEST
DTSTART:20230326T010000
END:DAYLIGHT
BEGIN:STANDARD
TZOFFSETFROM:+0300
TZOFFSETTO:+0200
TZNAME:EET
DTSTART:20231029T010000
END:STANDARD
BEGIN:DAYLIGHT
TZOFFSETFROM:+0200
TZOFFSETTO:+0300
TZNAME:EEST
DTSTART:20240331T010000
END:DAYLIGHT
BEGIN:STANDARD
TZOFFSETFROM:+0300
TZOFFSETTO:+0200
TZNAME:EET
DTSTART:20241027T010000
END:STANDARD
BEGIN:DAYLIGHT
TZOFFSETFROM:+0200
TZOFFSETTO:+0300
TZNAME:EEST
DTSTART:20250330T010000
END:DAYLIGHT
BEGIN:STANDARD
TZOFFSETFROM:+0300
TZOFFSETTO:+0200
TZNAME:EET
DTSTART:20251026T010000
END:STANDARD
END:VTIMEZONE
BEGIN:VEVENT
DTSTART;VALUE=DATE:20240610
DTEND;VALUE=DATE:20240615
DTSTAMP:20260425T022506
CREATED:20240313T184224Z
LAST-MODIFIED:20240313T184224Z
UID:10002785-1717977600-1718409599@kuopionmuseot.fi
SUMMARY:Historian jalanjäljillä (10–12-vuotiaat)
DESCRIPTION:SnellmanEDUn Historian jalanjäljillä -kesäleirillä kurkistamaan pääsee paitsi historian hämäriin myös suljettuun museoon. \nAika: 10.6.–14.6.2024\nPaikka: Kuopion museo\nIlmoittautumiset: 15.4. mennessä\nLeirimaksu: 175 € \nJos kiinnostuit\, lue lisää ja ilmoittaudu osoitteessa: Historian jalanjäljillä (10–12-vuotiaat) – SnellmanEDU
URL:https://kuopionmuseot.fi/tapahtuma/historian-jalanjaljilla-10-12-vuotiaat/
LOCATION:Kuopion museo
END:VEVENT
BEGIN:VEVENT
DTSTART;TZID=Europe/Helsinki:20240612T090000
DTEND;TZID=Europe/Helsinki:20240612T100000
DTSTAMP:20260425T022506
CREATED:20240530T110140Z
LAST-MODIFIED:20240604T110240Z
UID:10002961-1718182800-1718186400@kuopionmuseot.fi
SUMMARY:Aamurentoutus Paratiisissa
DESCRIPTION:Aamurentoutuksissa virittäydytään kesäpäivään lempeän\, kehoa vapauttavan ja mielen luovuutta edistävän liikkeen\, sekä hermostoa tasapainottavan hengityksen kautta. Meditatiivinen kehonhuoltohetki viimeistellään äänimaljan rentouttavalla soinnilla. Pukeudu mukavasti\, ja ota myös lämmin vaate sekä vesipullo mukaan.
URL:https://kuopionmuseot.fi/tapahtuma/aamurentoutus-paratiisissa/2024-06-12/
LOCATION:KUMMA\, Kauppakatu 35\, Kuopio\, 70100
ATTACH;FMTTYPE=image/png:https://kuopionmuseot.fi/wp-content/uploads/2024/05/1920-1080-px-aamurentoutus-01.png
END:VEVENT
BEGIN:VEVENT
DTSTART;TZID=Europe/Helsinki:20240612T120000
DTEND;TZID=Europe/Helsinki:20240612T130000
DTSTAMP:20260425T022506
CREATED:20240531T125413Z
LAST-MODIFIED:20240531T125413Z
UID:10002970-1718193600-1718197200@kuopionmuseot.fi
SUMMARY:Kesäloman korttelileikit leikkimielisille 2024
DESCRIPTION:Millaisia leikkejä lapset leikkivät ennen? Tule Korttelimuseoon ottamaan selvää! Leikitään yhdessä entisajan leikkejä kesän ajan keskiviikkoisin klo 12–13. \nLeikittämässä ja mukana leikkimässä museon henkilökuntaa. Säävaraus. \nLapsille ja kaikille leikkimielisille\, ikäsuositus 5+. \nKokoontuminen Korttelimuseon päärakennuksen edessä (Kirkkokatu 22\, rakennus 2). Ei ennakkoilmoittautumista\, maksuton. \n 
URL:https://kuopionmuseot.fi/tapahtuma/kesaloman-korttelileikit-leikkimielisille-2024/2024-06-12/
LOCATION:Korttelimuseo\, Kirkkokatu 22\, Kuopio\, 70100\, Suomi
ATTACH;FMTTYPE=image/jpeg:https://kuopionmuseot.fi/wp-content/uploads/2023/06/Pihaleikit-scaled.jpg
END:VEVENT
BEGIN:VEVENT
DTSTART;TZID=Europe/Helsinki:20240612T130000
DTEND;TZID=Europe/Helsinki:20240612T131500
DTSTAMP:20260425T022506
CREATED:20240607T084300Z
LAST-MODIFIED:20240607T084502Z
UID:10003015-1718197200-1718198100@kuopionmuseot.fi
SUMMARY:Taidevartti: Peuran puku ja korut
DESCRIPTION:Tämänkertaisella Sauma – Muoti taiteessa\, taide muodissa -näyttelyn taidevartilla tutustutaan Savonia-ammattikorkeakoulun opiskelijoiden Laura Rosenströmin\, Linda Koposen ja Ronja Hämäläisen suunnittelemaan ja toteuttamaan asukokonaisuuteen. Asukokonaisuus toteutettiin osallistavana asiakasprojektina taidemuseon työntekijälle Peura Myersille. Kokonaisuuden inspiraationa toimi Peuran toiveiden lisäksi näyttelyssä esillä oleva Albert Edelfeltin Valkopukuinen nainen. \nJa kuten aina\, taidevartille voi osallistua joko ihan vain kuunnellen tai halutessaan myös kysellen ja kommentoiden. Taidevartille voi osallistua Kuopion taidemuseon pääsymaksulla 10/5 €\, alle 18-vuotiaat ilmaiseksi ja Museokortti käy maksuvälineeksi. \nLämpimästi tervetuloa!
URL:https://kuopionmuseot.fi/tapahtuma/taidevartti-peuran-asu/
LOCATION:KUMMA\, Kauppakatu 35\, Kuopio\, 70100
ATTACH;FMTTYPE=image/png:https://kuopionmuseot.fi/wp-content/uploads/2024/06/1920-1080-px-01.png
END:VEVENT
BEGIN:VEVENT
DTSTART;TZID=Europe/Helsinki:20240612T140000
DTEND;TZID=Europe/Helsinki:20240612T144500
DTSTAMP:20260425T022506
CREATED:20240502T113349Z
LAST-MODIFIED:20260128T093801Z
UID:10002907-1718200800-1718203500@kuopionmuseot.fi
SUMMARY:Opastus: Kuopion museon kohokohdat
DESCRIPTION:Tule mukaan opastukselle tutustumaan alueemme Pohjois-Savon historiaan tai Itä-Suomen luontoon! Osallistujia johdatellaan Kuopion museon perusnäyttelyiden saloihin nostamalla esiin kunkin näyttelynosan kohokohtia. \nOpastus sisältyy pääsylipun hintaan (15/10 €\, alle 18-vuotiaat ilmaiseksi). Museokortti ja Kaikukortti käyvät. Opastus on kestoltaan noin 45 minuuttia.
URL:https://kuopionmuseot.fi/tapahtuma/opastus-kuopion-museon-kohokohdat/2024-06-12/
LOCATION:Kuopion museo
ATTACH;FMTTYPE=image/jpeg:https://kuopionmuseot.fi/wp-content/uploads/2024/05/Museonkohokohdat.jpg
ORGANIZER;CN="Kuopion museo":MAILTO:kuopionmuseo@kuopio.fi
END:VEVENT
END:VCALENDAR