BEGIN:VCALENDAR
VERSION:2.0
PRODID:-//Kuopion museot - ECPv6.15.20//NONSGML v1.0//EN
CALSCALE:GREGORIAN
METHOD:PUBLISH
X-ORIGINAL-URL:https://kuopionmuseot.fi
X-WR-CALDESC:Tapahtumat Kuopion museot
REFRESH-INTERVAL;VALUE=DURATION:PT1H
X-Robots-Tag:noindex
X-PUBLISHED-TTL:PT1H
BEGIN:VTIMEZONE
TZID:Europe/Helsinki
BEGIN:DAYLIGHT
TZOFFSETFROM:+0200
TZOFFSETTO:+0300
TZNAME:EEST
DTSTART:20230326T010000
END:DAYLIGHT
BEGIN:STANDARD
TZOFFSETFROM:+0300
TZOFFSETTO:+0200
TZNAME:EET
DTSTART:20231029T010000
END:STANDARD
BEGIN:DAYLIGHT
TZOFFSETFROM:+0200
TZOFFSETTO:+0300
TZNAME:EEST
DTSTART:20240331T010000
END:DAYLIGHT
BEGIN:STANDARD
TZOFFSETFROM:+0300
TZOFFSETTO:+0200
TZNAME:EET
DTSTART:20241027T010000
END:STANDARD
BEGIN:DAYLIGHT
TZOFFSETFROM:+0200
TZOFFSETTO:+0300
TZNAME:EEST
DTSTART:20250330T010000
END:DAYLIGHT
BEGIN:STANDARD
TZOFFSETFROM:+0300
TZOFFSETTO:+0200
TZNAME:EET
DTSTART:20251026T010000
END:STANDARD
END:VTIMEZONE
BEGIN:VEVENT
DTSTART;TZID=Europe/Helsinki:20240405T100000
DTEND;TZID=Europe/Helsinki:20240405T150000
DTSTAMP:20260421T133611
CREATED:20240404T111948Z
LAST-MODIFIED:20240404T111948Z
UID:10002880-1712311200-1712329200@kuopionmuseot.fi
SUMMARY:Ilmaisperjantait Kuopion korttelimuseossa 5.–26.4.
DESCRIPTION:Onko Kuopion korttelimuseo tuttu? Onko viime vierailusta vierähtänyt jo tovi? Mitäs nähtävää siellä museossa olikaan? Tule vierailulle museokortteliin kevään ilmaisperjantaissa! Kuopion korttelimuseon kehittämishankkeen osana tarjoamme vapaan pääsyn museoon perjantaisin 5.–26.4. klo 10–15. \nVoit siis käydä tutustumassa museon tarjontaan maksutta ja antaa meille palautetta sekä kehitysideoita. Tämä onnistuu joko käynnin yhteydessä paperisella lomakkeella tai verkossa (linkki avautuu uuteen välilehteen). \nKuopion korttelimuseon uudistusta suunnitellaan syksyyn asti kestävässä hankkeessa\, josta löydät lisätietoja korttelimuseon nettisivuilta (linkki avautuu uuteen välilehteen). Osallistu ja vaikuta! \nIlmaisperjantait: \n\n5.4.\n12.4.\n19.4.\n26.4.
URL:https://kuopionmuseot.fi/tapahtuma/ilmaisperjantait-kuopion-korttelimuseossa-5-26-4/2024-04-05/
LOCATION:Korttelimuseo\, Kirkkokatu 22\, Kuopio\, 70100\, Suomi
ATTACH;FMTTYPE=image/jpeg:https://kuopionmuseot.fi/wp-content/uploads/2024/04/Korttelikehittyy_1920x1080_loppukevat.jpg
END:VEVENT
END:VCALENDAR