BEGIN:VCALENDAR
VERSION:2.0
PRODID:-//Kuopion museot - ECPv6.15.20//NONSGML v1.0//EN
CALSCALE:GREGORIAN
METHOD:PUBLISH
X-WR-CALNAME:Kuopion museot
X-ORIGINAL-URL:https://kuopionmuseot.fi
X-WR-CALDESC:Tapahtumat Kuopion museot
REFRESH-INTERVAL;VALUE=DURATION:PT1H
X-Robots-Tag:noindex
X-PUBLISHED-TTL:PT1H
BEGIN:VTIMEZONE
TZID:Europe/Helsinki
BEGIN:DAYLIGHT
TZOFFSETFROM:+0200
TZOFFSETTO:+0300
TZNAME:EEST
DTSTART:20230326T010000
END:DAYLIGHT
BEGIN:STANDARD
TZOFFSETFROM:+0300
TZOFFSETTO:+0200
TZNAME:EET
DTSTART:20231029T010000
END:STANDARD
BEGIN:DAYLIGHT
TZOFFSETFROM:+0200
TZOFFSETTO:+0300
TZNAME:EEST
DTSTART:20240331T010000
END:DAYLIGHT
BEGIN:STANDARD
TZOFFSETFROM:+0300
TZOFFSETTO:+0200
TZNAME:EET
DTSTART:20241027T010000
END:STANDARD
BEGIN:DAYLIGHT
TZOFFSETFROM:+0200
TZOFFSETTO:+0300
TZNAME:EEST
DTSTART:20250330T010000
END:DAYLIGHT
BEGIN:STANDARD
TZOFFSETFROM:+0300
TZOFFSETTO:+0200
TZNAME:EET
DTSTART:20251026T010000
END:STANDARD
END:VTIMEZONE
BEGIN:VEVENT
DTSTART;VALUE=DATE:20240213
DTEND;VALUE=DATE:20240219
DTSTAMP:20260421T133552
CREATED:20240207T100133Z
LAST-MODIFIED:20240209T090201Z
UID:10002642-1707782400-1708300799@kuopionmuseot.fi
SUMMARY:Ystävänviikko Kuopion museolla
DESCRIPTION:Ystävänpäivää juhlitaan Kuopion museolla koko viikko!\nYstävien kesken ja Tutustuttaisiinko toisiimme paremmin? -omatoimikierrokset vievät juttutuokioiden tahdittamalle museokierrokselle ja tutkimusmatkalle toistenne mielten sopukoihin. Museon pääsymaksulla (13 / 7 €\, alle 18-v maksuton)\, Museokortti käy. \nKauniiseen kääreeseen sujautettuja karamelleja oli tapana jakaa muistoksi häissä\, ristiäisissä ja hautajaisissa jokaiselle vieraalle kotiin vietäväksi vielä 1930-luvulla. Tästä perinteestä inspiroituneena Kuopion museon puuhapajassa askarrellaan ystävänpäivänä 14.2. klo 10–16 ystävänkaramelleja. Tule tekemään oma karamellisi joko yksin tai yhdessä ystävän kanssa! Työpajamaksu 3 €/karamelli. \nOta korjausta vaativia toppa- tai muita vaatteita mukaan Kantin Kestävän Keskiviikon ja OMPELUSEUROJEN korjausompelupajaan ke 14.2. klo 16.30–19. Vertaisohjatussa pajassa korjataan tekstiilejä ja tutustutaan muihin samanmielisiin mukavassa ilmapiirissä. Vapaa pääsy.  Kantin Kestävä Keskiviikko: OMPELUSEURAT toppavaatteiden korjaus – Kuopion museot \nKaikenikäisille aikuisille suunnattu avoin kuvapaja to 15.2. klo 14-16.30. Aiempaa kokemusta piirtämisestä tai maalaamisesta ei tarvita. Ei ennakkoilmoittautumista\, mukaan voi tulla silloin kun itselle sopii. Pajatoiminta on maksutonta ja taidetarvikkeet löytyvät paikan päältä. Huom! Paikkoja oppimistilassa on rajoitettu määrä. Järj. Kuopion kaupunki\, Kansalaistoiminnan palvelut. Yhteistyössä Kuopion museo. Avoin kuvapaja – Kuopion museot \nKummallinen luonto -opastus Wildlife Photographer of the Year -näyttelyssä la 17.2. klo 15.30. Teemaopastuksella mietitään\, mikä oikeastaan on luonnotonta. Eläinten\, kasvien ja sienten maailma on totisesti oudompi ja moninaisempi kuin usein ajatellaan. Teemaopastus 15 € (sisältää museon pääsymaksun ja opastuksen)\, Museokortilla 5 €. Opastus: Kummallinen luonto – Kuopion museot \nAmorilta on karannut rakkauskirjeitä – tai ainakin kirjanmerkkejä – etsittäväksi Kuopion museon aulatiloihin 13.–18.2. Maksuton. \nKahvila Kantti on myös mukana 14.2. ystävänpäivässä herkuillaan. Sydänmunkit sekä Puijo 1963 kahvi tai Lykke-tee kahdelle yhteishintaan 12 € tai kaksi piccolopulloa cavaa yhteishintaan 20 €. Kahvila on avoinna 14.2. klo 19 saakka. \nKurkkaa myös muut Kuopion kaupungin kulttuurikohteiden Ystävänviikko-ohjelmat täältä: Ystävänpäivä 2024 – Kuopio
URL:https://kuopionmuseot.fi/tapahtuma/ystavanviikko-kuopion-museolla/
LOCATION:Kuopion museo
ATTACH;FMTTYPE=image/jpeg:https://kuopionmuseot.fi/wp-content/uploads/2024/02/Ystavanviikko2024.jpg
END:VEVENT
BEGIN:VEVENT
DTSTART;TZID=Europe/Helsinki:20240214T100000
DTEND;TZID=Europe/Helsinki:20240214T160000
DTSTAMP:20260421T133552
CREATED:20240204T090623Z
LAST-MODIFIED:20240204T090623Z
UID:10002629-1707904800-1707926400@kuopionmuseot.fi
SUMMARY:Puuhapaja: Ystävänpäiväkaramelli
DESCRIPTION:Kauniiseen kääreeseen sujautettuja karamelleja oli tapana jakaa muistoksi häissä\, ristiäisissä ja hautajaisissa jokaiselle vieraalle kotiin vietäväksi vielä 1930-luvulla. Tästä perinteestä inspiroituneena Kuopion museon puuhapajassa askarrellaan ystävänpäivänä 14.2. klo 10–16 Ystävänkaramelleja – tule tekemään oma karamellisi joko yksin tai yhdessä ystävän kanssa! \nTyöpajamaksu 3 €/karamelli.
URL:https://kuopionmuseot.fi/tapahtuma/puuhapaja-ystavanpaivakaramelli/
LOCATION:Kuopion museo
ATTACH;FMTTYPE=image/png:https://kuopionmuseot.fi/wp-content/uploads/2024/02/Ystavanpaivakaramelli.png
ORGANIZER;CN="Kuopion museo":MAILTO:kuopionmuseo@kuopio.fi
END:VEVENT
BEGIN:VEVENT
DTSTART;TZID=Europe/Helsinki:20240214T163000
DTEND;TZID=Europe/Helsinki:20240214T190000
DTSTAMP:20260421T133552
CREATED:20231220T072155Z
LAST-MODIFIED:20240214T054120Z
UID:10002100-1707928200-1707937200@kuopionmuseot.fi
SUMMARY:Kantin Kestävä Keskiviikko: OMPELUSEURAT toppavaatteiden korjaus
DESCRIPTION:Tule korjaamaan rikkinäisiä toppatakkeja ja -housuja ompelukoneella tai käsin. Harjoitellaan yhdessä\, korjausaktiivit neuvovat korjaamisen alkuun. Teemasta riippumatta voit tulla kaikenlaisten korjaustöiden kanssa. \nMaksuttomaan pajaan saa tulla ilman ennakkoilmoittautumista oman aikataulun mukaan. Paikan päältä löytyy paikkakankaita\, lankoja ym. korjaamiseen. Voit tuoda kiertoon myös omia materiaaleja. \nKorjaaminen kannattaa aina! \n(Ohjelmamuutokset ja täydennykset mahdollisia!) \n************ \nKantin Kestävä Keskiviikko on paikka opetella yhdessä kulutuksen vähentämistä arjessa. Miten kunnostaa tai pitää huolta jo olemassa olevista vaatteista\, esineistä tai rakennuksista? Tiedon ja kokemusten lisäksi aiheita lähestytään tekemisen ja taiteen keinoin. \nKantin Kestävä Keskiviikko järjestetään vaihtuvilla sisällöillä pääsääntöisesti joka kuun ensimmäinen keskiviikko klo 16.30 alkaen Kuopion museon monitoimitilassa. Luentokerroilla eri aihepiirien asiantuntijat tarjoavat vinkkejä ja neuvontaa kestävämpien ratkaisujen ja ilmastotekojen toteuttamiseen. OMPELUSEURAT luo omalla vuorollaan Kanttiin korjausolohuoneen\, johon jokainen voi tulla korjaamaan rikkinäisiä tekstiilejä ja nauttimaan vaihtuvista taidesisällöistä. Vietetään yhdessä aikaa kuluttamisen sijaan korjaten ja opitaan toisiltamme. Vapaaehtoiset aktiivit neuvovat jokaiselle taitojen mukaisen korjaustyylin. \nKuopion kaupunginkirjaston koostaman vinkkilistan avulla kirjastosta voi lainata lisää kutakin aihetta käsittelevää kirjallisuutta. Esillä olleista kirjoista on pääkirjastolla pieni näyttely tapahtumakeskiviikon jälkeen. \nTapahtumiin on vapaa pääsy. (Mahdolliset luentosisällöt striimataan Kuopion museon Youtube-kanavalle.) \nKantti on tiedon\, tarinoiden ja ihmisten avoin kohtaamispaikka\, joka yhdistää pääkirjaston ja Kuopion museon. \nKevätkauden aikataulu:\n3.1. klo 16.30-19 OMPELUSEURAT parsintapaja sekä esityssarjassa Kappaleita – taustamusikaali – suuntaa-antavasti kokoon kursittu valikoima viisailta lainattua tekstiä ja yksinkertaista musiikkia. Tilaisuuden toimittaa esitystaiteilija Lasse Forsgrén.\n7.2. klo 16.30-18 Perinteiset lakat ja puupintojen hoito\n14.2. klo 16.30-19 OMPELUSEURAT: Toppavaatteiden korjaus\n13.3. klo 16.30-19 OMPELUSEURAT: Pehmolelujen korjaaminen\n3.4. klo 16.30-18 Kirjastopuutarhat ja laatikkoviljelyn vinkit\n17.4. klo 16.30-18 Kantin Kestävä Keskiviikko: Museoviraston avustukset rakennusten ja kulttuuriympäristökohteiden entistämiseen\n\n24.4. klo 16.30-19 OMPELUSEURAT: Farkunpaikkaus. Esityssarjassa vuorossa on testailua keskeneräisestä näyttämöteoksesta Avaruus -self made space. Esiintyjät Reetta-Kaisa Iles ja Mika Juusela. Esitys ammentaa todellisista astronauttikokemuksista\, mielleyhtymistä ja inhimillistä eriytyneisyyden kokemuksista. Ensi-ilta Koko teatterissa Helsingissä toukokuussa.\n15.5. klo 16.30-19 OMPELUSEURAT: Kangaskenkien ja laukkujen kunnostaminen\n5.6. klo 16.30-18 Laatikkoviljelmän kevätkylvöt\n(Ohjelmamuutokset ja täydennykset ovat mahdollisia!)
URL:https://kuopionmuseot.fi/tapahtuma/kantin-kestava-keskiviikko-ompeluseurat-toppavaatteiden-korjaus/
LOCATION:Kuopion museo
ATTACH;FMTTYPE=image/jpeg:https://kuopionmuseot.fi/wp-content/uploads/2023/12/OMPELUSEURATtoppavaatteet14122024-1.jpg
END:VEVENT
END:VCALENDAR