BEGIN:VCALENDAR
VERSION:2.0
PRODID:-//Kuopion museot - ECPv6.15.20//NONSGML v1.0//EN
CALSCALE:GREGORIAN
METHOD:PUBLISH
X-WR-CALNAME:Kuopion museot
X-ORIGINAL-URL:https://kuopionmuseot.fi
X-WR-CALDESC:Tapahtumat Kuopion museot
REFRESH-INTERVAL;VALUE=DURATION:PT1H
X-Robots-Tag:noindex
X-PUBLISHED-TTL:PT1H
BEGIN:VTIMEZONE
TZID:Europe/Helsinki
BEGIN:DAYLIGHT
TZOFFSETFROM:+0200
TZOFFSETTO:+0300
TZNAME:EEST
DTSTART:20230326T010000
END:DAYLIGHT
BEGIN:STANDARD
TZOFFSETFROM:+0300
TZOFFSETTO:+0200
TZNAME:EET
DTSTART:20231029T010000
END:STANDARD
BEGIN:DAYLIGHT
TZOFFSETFROM:+0200
TZOFFSETTO:+0300
TZNAME:EEST
DTSTART:20240331T010000
END:DAYLIGHT
BEGIN:STANDARD
TZOFFSETFROM:+0300
TZOFFSETTO:+0200
TZNAME:EET
DTSTART:20241027T010000
END:STANDARD
BEGIN:DAYLIGHT
TZOFFSETFROM:+0200
TZOFFSETTO:+0300
TZNAME:EEST
DTSTART:20250330T010000
END:DAYLIGHT
BEGIN:STANDARD
TZOFFSETFROM:+0300
TZOFFSETTO:+0200
TZNAME:EET
DTSTART:20251026T010000
END:STANDARD
END:VTIMEZONE
BEGIN:VEVENT
DTSTART;TZID=Europe/Helsinki:20240202T093000
DTEND;TZID=Europe/Helsinki:20240202T100000
DTSTAMP:20260421T104834
CREATED:20240126T093542Z
LAST-MODIFIED:20240126T093542Z
UID:10002623-1706866200-1706868000@kuopionmuseot.fi
SUMMARY:Mahtava metsäretki -satutunti
DESCRIPTION:Tervetuloa Kantin satutunneille\, jossa pääkirjaston sadut saavat seurakseen tiedonmuruja museolta. Satutunteja järjestetään Kuopion museon tiloissa helmikuun ajan perjantaisin klo 9.30 ja niiden kesto on noin puoli tuntia. Satutunnit ovat kaikille avoimia sekä maksuttomia ja soveltuvat parhaiten yli kolmevuotiaille. \nTilaa museossa on kuitenkin rajallisesti\, joten ryhmiä pyydetään ilmoittamaan osallistumisesta ennakkoon\, jotta voimme varmistaa\, että paikkoja riittää kaikille. Ryhmäilmoittautumiset Kuopion museon asiakaspalveluun 017 182 603 / kuopionmuseo(a)kuopio.fi. \n\npe 2.2. klo 9.30: Mahtava metsäretki -satutunti\npe 9.2. klo 9.30: Postiseikkailu-satutunti\npe 16.2. klo 9.30: Lelu leikin loihtii -satutunti\npe 23.2. klo 9.30: Vuodenaikojen ihmeet -satutunti
URL:https://kuopionmuseot.fi/tapahtuma/mahtava-metsaretki-satutunti/
LOCATION:Kuopion museo
ATTACH;FMTTYPE=image/jpeg:https://kuopionmuseot.fi/wp-content/uploads/2024/01/Satutunnit-Website-3.jpg
END:VEVENT
END:VCALENDAR