BEGIN:VCALENDAR
VERSION:2.0
PRODID:-//Kuopion museot - ECPv6.15.20//NONSGML v1.0//EN
CALSCALE:GREGORIAN
METHOD:PUBLISH
X-ORIGINAL-URL:https://kuopionmuseot.fi
X-WR-CALDESC:Tapahtumat Kuopion museot
REFRESH-INTERVAL;VALUE=DURATION:PT1H
X-Robots-Tag:noindex
X-PUBLISHED-TTL:PT1H
BEGIN:VTIMEZONE
TZID:Europe/Helsinki
BEGIN:DAYLIGHT
TZOFFSETFROM:+0200
TZOFFSETTO:+0300
TZNAME:EEST
DTSTART:20230326T010000
END:DAYLIGHT
BEGIN:STANDARD
TZOFFSETFROM:+0300
TZOFFSETTO:+0200
TZNAME:EET
DTSTART:20231029T010000
END:STANDARD
BEGIN:DAYLIGHT
TZOFFSETFROM:+0200
TZOFFSETTO:+0300
TZNAME:EEST
DTSTART:20240331T010000
END:DAYLIGHT
BEGIN:STANDARD
TZOFFSETFROM:+0300
TZOFFSETTO:+0200
TZNAME:EET
DTSTART:20241027T010000
END:STANDARD
BEGIN:DAYLIGHT
TZOFFSETFROM:+0200
TZOFFSETTO:+0300
TZNAME:EEST
DTSTART:20250330T010000
END:DAYLIGHT
BEGIN:STANDARD
TZOFFSETFROM:+0300
TZOFFSETTO:+0200
TZNAME:EET
DTSTART:20251026T010000
END:STANDARD
END:VTIMEZONE
BEGIN:VEVENT
DTSTART;TZID=Europe/Helsinki:20240128T100000
DTEND;TZID=Europe/Helsinki:20240128T150000
DTSTAMP:20260421T093041
CREATED:20240111T121349Z
LAST-MODIFIED:20240111T121349Z
UID:10002605-1706436000-1706454000@kuopionmuseot.fi
SUMMARY:Pihaleikit Kuopion korttelimuseolla
DESCRIPTION:Pihaleikit korttelimuseolla 23.–28.1.\nKuopion korttelimuseo\nVapaa pääsy\, ei ennakkoilmoittautumista \nKorttelimuseon talvisesta pihapiiristä löytyvät kelkka ja monet muut pihalelut. Tervetuloa leikkimään pihaleikkejä korttelimuseon aukioloaikoina klo 10–15.
URL:https://kuopionmuseot.fi/tapahtuma/pihaleikit-kuopion-korttelimuseolla/2024-01-28/
LOCATION:Korttelimuseo\, Kirkkokatu 22\, Kuopio\, 70100\, Suomi
ATTACH;FMTTYPE=image/jpeg:https://kuopionmuseot.fi/wp-content/uploads/2024/01/d5ee6509-f2c9-4ba0-95de-64770b422ada.jpg
END:VEVENT
BEGIN:VEVENT
DTSTART;TZID=Europe/Helsinki:20240128T140000
DTEND;TZID=Europe/Helsinki:20240128T150000
DTSTAMP:20260421T093041
CREATED:20231221T131458Z
LAST-MODIFIED:20231221T131458Z
UID:10002582-1706450400-1706454000@kuopionmuseot.fi
SUMMARY:Opastus Reijo Kärkkäinen – So Far -näyttelyyn
DESCRIPTION:Kuopion taidemuseolla järjestetään avoimia opastuksia näyttelyihin joka sunnuntai klo 14 perehtyen vuoroviikoin taidemuseon eri näyttelyihin. \nReijo Kärkkäisen retrospektiivisen So Far -näyttelyn piirrokset\, grafiikka\, maalaukset\, valokuvat\, kollaasit ja installaatiot ovat visuaalista tykitystä\, jotka jättävät jälkeensä hämmennyksen tunteen. Taiteilija käsittelee teoksissaan kokemuksiaan ja tunteitaan ilman valmiita vastauksia. Ilmaisu on rajua ja rujoa\, mutta yhtä lailla jäntevää ja harmonista. \nTuottelias ja kansainvälinen taiteilija kertoo tunteneensa hengenheimolaisuutta ekspressionismiin\, pop-taiteeseen ja art brutiin. Kärkkäinen on kulkenut taiteessaan alusta lähtien omia polkujaan. Ekspressiivistä maalauksista\, piirroksista ja sarjakuvataiteesta tunnetun kuopiolaisen Reijo Kärkkäisen näyttely esittelee tinkimättömän ja monipuolisen taiteilijan. Hänen teoksensa ovat kaaoksen jäsentämistä\, viivojen ja värien sommitelmia. \nOpastukseen voi osallistua taidemuseon pääsymaksulla 10/5 €\, alle 18-vuotiaat ilmaiseksi ja museokortti käy maksuvälineeksi.
URL:https://kuopionmuseot.fi/tapahtuma/opastus-reijo-karkkainen-so-far-nayttelyyn/2024-01-28/
LOCATION:KUMMA\, Kauppakatu 35\, Kuopio\, 70100
ATTACH;FMTTYPE=image/png:https://kuopionmuseot.fi/wp-content/uploads/2023/12/1920-1080-px-01-4.png
END:VEVENT
END:VCALENDAR