BEGIN:VCALENDAR
VERSION:2.0
PRODID:-//Kuopion museot - ECPv6.15.20//NONSGML v1.0//EN
CALSCALE:GREGORIAN
METHOD:PUBLISH
X-WR-CALNAME:Kuopion museot
X-ORIGINAL-URL:https://kuopionmuseot.fi
X-WR-CALDESC:Tapahtumat Kuopion museot
REFRESH-INTERVAL;VALUE=DURATION:PT1H
X-Robots-Tag:noindex
X-PUBLISHED-TTL:PT1H
BEGIN:VTIMEZONE
TZID:Europe/Helsinki
BEGIN:DAYLIGHT
TZOFFSETFROM:+0200
TZOFFSETTO:+0300
TZNAME:EEST
DTSTART:20230326T010000
END:DAYLIGHT
BEGIN:STANDARD
TZOFFSETFROM:+0300
TZOFFSETTO:+0200
TZNAME:EET
DTSTART:20231029T010000
END:STANDARD
BEGIN:DAYLIGHT
TZOFFSETFROM:+0200
TZOFFSETTO:+0300
TZNAME:EEST
DTSTART:20240331T010000
END:DAYLIGHT
BEGIN:STANDARD
TZOFFSETFROM:+0300
TZOFFSETTO:+0200
TZNAME:EET
DTSTART:20241027T010000
END:STANDARD
BEGIN:DAYLIGHT
TZOFFSETFROM:+0200
TZOFFSETTO:+0300
TZNAME:EEST
DTSTART:20250330T010000
END:DAYLIGHT
BEGIN:STANDARD
TZOFFSETFROM:+0300
TZOFFSETTO:+0200
TZNAME:EET
DTSTART:20251026T010000
END:STANDARD
END:VTIMEZONE
BEGIN:VEVENT
DTSTART;TZID=Europe/Helsinki:20240127T100000
DTEND;TZID=Europe/Helsinki:20240127T150000
DTSTAMP:20260421T092949
CREATED:20240111T121349Z
LAST-MODIFIED:20240111T121349Z
UID:10002604-1706349600-1706367600@kuopionmuseot.fi
SUMMARY:Pihaleikit Kuopion korttelimuseolla
DESCRIPTION:Pihaleikit korttelimuseolla 23.–28.1.\nKuopion korttelimuseo\nVapaa pääsy\, ei ennakkoilmoittautumista \nKorttelimuseon talvisesta pihapiiristä löytyvät kelkka ja monet muut pihalelut. Tervetuloa leikkimään pihaleikkejä korttelimuseon aukioloaikoina klo 10–15.
URL:https://kuopionmuseot.fi/tapahtuma/pihaleikit-kuopion-korttelimuseolla/2024-01-27/
LOCATION:Korttelimuseo\, Kirkkokatu 22\, Kuopio\, 70100\, Suomi
ATTACH;FMTTYPE=image/jpeg:https://kuopionmuseot.fi/wp-content/uploads/2024/01/d5ee6509-f2c9-4ba0-95de-64770b422ada.jpg
END:VEVENT
BEGIN:VEVENT
DTSTART;TZID=Europe/Helsinki:20240127T130000
DTEND;TZID=Europe/Helsinki:20240127T140000
DTSTAMP:20260421T092949
CREATED:20240123T080133Z
LAST-MODIFIED:20240123T080133Z
UID:10002618-1706360400-1706364000@kuopionmuseot.fi
SUMMARY:Lasten pelihetki korttelimuseossa
DESCRIPTION:Mitä ammatteja Juho Rissanen kokeilikaan poikana? \nMontako Juhoa löydät näyttelystämme? \nVastaukset löytyvät Korttelimuseosta. Tule pelaamaan! \nMukaan pääsylipulla. Alle 18 vuotiaat ilmaiseksi.
URL:https://kuopionmuseot.fi/tapahtuma/lasten-pelihetki-korttelimuseossa/
LOCATION:Korttelimuseo\, Kirkkokatu 22\, Kuopio\, 70100\, Suomi
ATTACH;FMTTYPE=image/png:https://kuopionmuseot.fi/wp-content/uploads/2024/01/2e045680-38ec-4fac-9d90-0e070258ff2d.png
END:VEVENT
BEGIN:VEVENT
DTSTART;TZID=Europe/Helsinki:20240127T140000
DTEND;TZID=Europe/Helsinki:20240127T144500
DTSTAMP:20260421T092949
CREATED:20230419T123907Z
LAST-MODIFIED:20231221T080840Z
UID:10002192-1706364000-1706366700@kuopionmuseot.fi
SUMMARY:Opastus: Wildlife Photographer of the Year
DESCRIPTION:Opastetulla kierroksella pääset sukeltamaan oppaan kanssa pintaa syvemmälle. Näyttelyn upeiden valokuvien kautta tutkitaan maapallomme luonnon herkkää tasapainoa ja sen nykytilaa. Kuinka ympärillämme tapahtuvat muutokset vaikuttavat planeettamme ekosysteemeihin? \nOpastus sisältyy pääsylipun hintaan  13 € / 7 €\, alle 18-vuotiaat ilmaiseksi. Museokortti käy. Opastus on kestoltaan noin 45 minuuttia. \nKuva © José Juan Hernández Martinez\, Wildlife Photographer of the Year \n********* \nKuopion museon näyttelyihin on säännöllisiä opastuksia vaihtuvin sisällöin keskiviikkoisin klo 15.30 sekä lauantaisin klo 14. \nKevätkauden 2024 opastukset\nKierrokset suuntautuvat Wildlife Photographer of the Year -näyttelyyn näinä päivinä: \n\nvko 2: ke 10.1. ja la 13.1.\nvko 4: ke 24.1. ja la 27.1.\nvko 6: ke 7.2. ja la 10.2.\nvko 8: ke 21.2. ja la 24.2.\n\nKierrokset suuntautuvat Ihmisen aika -perusnäyttelyyn näinä päivinä : \n\nvko 1: ke 3.1. ja la 6.1.\nvko 7: ke 14.2. ja la 17.2.\nvko 10: la 9.3.  \nvko 12: ke 20.3. ja la 23.3. \nvko 17: ke 24.4. ja la 27.4. \n\nKierrokset suuntautuvat Muuttuva luonto -perusnäyttelyyn näinä päivinä: \n\nvko 3 ke 17.1. ja la 20.1. \nvko 9: ke 28.2. ja la 2.3.  \nvko 13: ke 27.3. ja la 30.3. \nvko 19 la 11.5. \n\nKierrokset suuntautuvat Toden ja tarun rajalla -perusnäyttelyyn näinä päivinä: \n\nvko 5 ke 31.1. ja la 3.2. \nvko 9: ke 28.2. ja la 2.3.  \nvko 10: ke 6.3. \nvko 11: ke 13.3. ja la 16.3. \nvko 15: ke 10.4. ja la 13.4.\nvko 21: ke 22.5. ja la 25.5.
URL:https://kuopionmuseot.fi/tapahtuma/opastus-wildlife-photographer-of-the-year/2024-01-27/
LOCATION:Kuopion museo
ATTACH;FMTTYPE=image/jpeg:https://kuopionmuseot.fi/wp-content/uploads/2023/04/©-Jose-Juan-Hernandez-Martinez-Wildlife-Photographer-of-the-Year-.jpg
END:VEVENT
END:VCALENDAR