BEGIN:VCALENDAR
VERSION:2.0
PRODID:-//Kuopion museot - ECPv6.15.20//NONSGML v1.0//EN
CALSCALE:GREGORIAN
METHOD:PUBLISH
X-ORIGINAL-URL:https://kuopionmuseot.fi
X-WR-CALDESC:Tapahtumat Kuopion museot
REFRESH-INTERVAL;VALUE=DURATION:PT1H
X-Robots-Tag:noindex
X-PUBLISHED-TTL:PT1H
BEGIN:VTIMEZONE
TZID:Europe/Helsinki
BEGIN:DAYLIGHT
TZOFFSETFROM:+0200
TZOFFSETTO:+0300
TZNAME:EEST
DTSTART:20230326T010000
END:DAYLIGHT
BEGIN:STANDARD
TZOFFSETFROM:+0300
TZOFFSETTO:+0200
TZNAME:EET
DTSTART:20231029T010000
END:STANDARD
BEGIN:DAYLIGHT
TZOFFSETFROM:+0200
TZOFFSETTO:+0300
TZNAME:EEST
DTSTART:20240331T010000
END:DAYLIGHT
BEGIN:STANDARD
TZOFFSETFROM:+0300
TZOFFSETTO:+0200
TZNAME:EET
DTSTART:20241027T010000
END:STANDARD
BEGIN:DAYLIGHT
TZOFFSETFROM:+0200
TZOFFSETTO:+0300
TZNAME:EEST
DTSTART:20250330T010000
END:DAYLIGHT
BEGIN:STANDARD
TZOFFSETFROM:+0300
TZOFFSETTO:+0200
TZNAME:EET
DTSTART:20251026T010000
END:STANDARD
END:VTIMEZONE
BEGIN:VEVENT
DTSTART;VALUE=DATE:20240123
DTEND;VALUE=DATE:20240127
DTSTAMP:20260421T080501
CREATED:20240109T133103Z
LAST-MODIFIED:20240109T133237Z
UID:10002594-1705968000-1706313599@kuopionmuseot.fi
SUMMARY:Tarinoiden taikaa -satutunnit
DESCRIPTION:Lasten oma Pakkaspäivät-tapahtumaviikko on pian taas täällä!\nKuopion pääkirjasto ja Kuopion museo järjestävät tänä vuonna viikon kunniaksi Tarinoiden taikaa -satutunteja. \nSatutunnilla herätetään eloon kolme lyhyttä tarinaa taioista ja taikuudesta. Tarinat saavat uusia\, mielikuvitusta kutkuttavia ulottuvuuksia museon tietoiskuista\, jotka kertovat entisaikojen taikuuden ja uskomusten värittämästä elämästä. Teemaan sopivan tunnelman takaa se\, että satutunnit toteutetaan museon savutuvassa. Savutupa ei ole esteetön. \nSatutunnit kestävät noin puoli tuntia ja niitä järjestetään viikon aikana seuraavasti: \n\nti 23.1. klo 9.00\, klo 9.45 ja klo 10.30\nto 25.1. klo 9.45 ja klo 10.30\npe 26.1. klo 9.00\, klo 9.45 ja klo 10.30\n\nTapahtumaan on vapaa pääsy\, mutta tilaa savutuvassa on vain rajallisesti\, joten varaathan paikan omalle ryhmällesi\, seurueellesi tai perheellesi etukäteen Kuopion museon asiakaspalvelusta kuopionmuseo@kuopio.fi / 017 182 603. \nMuut teemaviikon tapahtumat löydät täältä: https://kuopionseina.fi/pakkaspaivat/
URL:https://kuopionmuseot.fi/tapahtuma/tarinoiden-taikaa-satutunnit/
LOCATION:Kuopion museo
ATTACH;FMTTYPE=image/jpeg:https://kuopionmuseot.fi/wp-content/uploads/2024/01/taikuus-1.jpg
END:VEVENT
BEGIN:VEVENT
DTSTART;TZID=Europe/Helsinki:20240123T090000
DTEND;TZID=Europe/Helsinki:20240123T110000
DTSTAMP:20260421T080501
CREATED:20240112T081035Z
LAST-MODIFIED:20240112T081035Z
UID:10002606-1706000400-1706007600@kuopionmuseot.fi
SUMMARY:Ohjatut pelihetket: Juho Rissanen meillä ja maailmalla
DESCRIPTION:Ohjatut pelihetket Juho Rissanen meillä ja maailmalla -näyttelyssä 23.–26.1. klo 9–11\nKuopion korttelimuseo\nVapaa pääsy päiväkoti- ja kouluryhmille\, ennakkoilmoittautuminen korttelimuseo@kuopio.fi/044 718 2627 \nTervetuloa tutustumaan Juho Rissasen lapsuuteen\, johon kuului koko joukko erilaisia ammatteja.\nPelihetket sopivat hyvin päiväkodeille ja alakoulun alaluokille. Kesto noin puolituntia. \n  \nJuho Rissanen meillä ja maailmalla 13.10.2023–14.4.2024 \nTaiteilijan lapsuudessa olivat voimakkaasti läsnä niin kuolema kuin ainainen nälkä. Kiertolaiselämää eläneen pojan elämään mahtui silti myös hauskoja hetkiä – muistoja ihmisistä\, paikoista ja sattumuksista pienessä Kuopion maalaiskaupungissa. Milloin hän jäi nutustaan roikkumaan räystääseen\, putosi jäihin tai tikkaat kaatuivat katulamppuja sytyttäessä – onneakin oli aika usein matkassa\, ettei pahempaa sattunut. Koulunkäynti estyi myös kerta toisensa jälkeen. Lopullisesti haaveet opintiestä mursi isän kuolema Juhon ollessa 10-vuotias. Perheen vanhimpana lapsena tapahtuma pakotti pojan perheen elättäjäksi äidin rinnalle. \nJuho Rissanen ponnisti maailmalle köyhyydestä ja kurjuudesta. Maailmalle lähtönsä jälkeenkin Rissanen palasi usein kotiseuduilleen Pohjois-Savoon maalaamaan ja keräsi ulkomaanmatkoillaan merkittävän kokoelman esineitä rakkaudesta kotikaupunkiinsa. Aasiasta ja Afrikasta peräisin oleva kokoelma sisältää lähes 150 objektia. Nämä maailmalta kotiin Kuopioon lähetetyt esineet ja 1800-luvun lopun valokuva-aineisto ovatkin näyttelyn herkullisinta antia.
URL:https://kuopionmuseot.fi/tapahtuma/ohjatut-pelihetket-juho-rissanen-meilla-ja-maailmalla/2024-01-23/
LOCATION:Korttelimuseo\, Kirkkokatu 22\, Kuopio\, 70100\, Suomi
ATTACH;FMTTYPE=image/jpeg:https://kuopionmuseot.fi/wp-content/uploads/2024/01/Rissanenpeli.jpg
END:VEVENT
BEGIN:VEVENT
DTSTART;TZID=Europe/Helsinki:20240123T100000
DTEND;TZID=Europe/Helsinki:20240123T150000
DTSTAMP:20260421T080501
CREATED:20240111T121349Z
LAST-MODIFIED:20240111T121349Z
UID:10002600-1706004000-1706022000@kuopionmuseot.fi
SUMMARY:Pihaleikit Kuopion korttelimuseolla
DESCRIPTION:Pihaleikit korttelimuseolla 23.–28.1.\nKuopion korttelimuseo\nVapaa pääsy\, ei ennakkoilmoittautumista \nKorttelimuseon talvisesta pihapiiristä löytyvät kelkka ja monet muut pihalelut. Tervetuloa leikkimään pihaleikkejä korttelimuseon aukioloaikoina klo 10–15.
URL:https://kuopionmuseot.fi/tapahtuma/pihaleikit-kuopion-korttelimuseolla/2024-01-23/
LOCATION:Korttelimuseo\, Kirkkokatu 22\, Kuopio\, 70100\, Suomi
ATTACH;FMTTYPE=image/jpeg:https://kuopionmuseot.fi/wp-content/uploads/2024/01/d5ee6509-f2c9-4ba0-95de-64770b422ada.jpg
END:VEVENT
END:VCALENDAR