BEGIN:VCALENDAR
VERSION:2.0
PRODID:-//Kuopion museot - ECPv6.15.20//NONSGML v1.0//EN
CALSCALE:GREGORIAN
METHOD:PUBLISH
X-ORIGINAL-URL:https://kuopionmuseot.fi
X-WR-CALDESC:Tapahtumat Kuopion museot
REFRESH-INTERVAL;VALUE=DURATION:PT1H
X-Robots-Tag:noindex
X-PUBLISHED-TTL:PT1H
BEGIN:VTIMEZONE
TZID:Europe/Helsinki
BEGIN:DAYLIGHT
TZOFFSETFROM:+0200
TZOFFSETTO:+0300
TZNAME:EEST
DTSTART:20230326T010000
END:DAYLIGHT
BEGIN:STANDARD
TZOFFSETFROM:+0300
TZOFFSETTO:+0200
TZNAME:EET
DTSTART:20231029T010000
END:STANDARD
BEGIN:DAYLIGHT
TZOFFSETFROM:+0200
TZOFFSETTO:+0300
TZNAME:EEST
DTSTART:20240331T010000
END:DAYLIGHT
BEGIN:STANDARD
TZOFFSETFROM:+0300
TZOFFSETTO:+0200
TZNAME:EET
DTSTART:20241027T010000
END:STANDARD
BEGIN:DAYLIGHT
TZOFFSETFROM:+0200
TZOFFSETTO:+0300
TZNAME:EEST
DTSTART:20250330T010000
END:DAYLIGHT
BEGIN:STANDARD
TZOFFSETFROM:+0300
TZOFFSETTO:+0200
TZNAME:EET
DTSTART:20251026T010000
END:STANDARD
END:VTIMEZONE
BEGIN:VEVENT
DTSTART;TZID=Europe/Helsinki:20240107T140000
DTEND;TZID=Europe/Helsinki:20240107T150000
DTSTAMP:20260421T133550
CREATED:20231003T093738Z
LAST-MODIFIED:20231213T094037Z
UID:10002358-1704636000-1704639600@kuopionmuseot.fi
SUMMARY:Opastus Juho Rissanen – Kuvauksen vilkkaus -näyttelyyn
DESCRIPTION:Kuopion taidemuseolla järjestetään avoimia opastuksia näyttelyihin joka sunnuntai klo 14 perehtyen vuoroviikoin taidemuseon eri näyttelyihin. \nOdotettu Juho Rissanen – Kuvauksen vilkkaus -näyttely tarjoaa uuden näkökulman Rissaseen pureutumalla hänen taiteensa lisäksi hänen elämäänsä ja persoonaansa. Esillä on sekä tuttuja että harvoin esillä olleita teoksia\, myös Rissasen kirjeitä ja valokuvia\, joiden kautta välittyy hänen valloittava persoonallisuutensa ja suhteensa tukijoihin ja läheisiin ihmisiin. \nNäyttelyssä on teoksia koko Rissasen taiteellisen työskentelyn ajalta. Esillä on muun muassa luonnoksia Rissasen lapsuuden traagiseen tapahtumaan liittyvästä isän kuolemasta sekä Pariisin vuoden 1900 maailmannäyttelyn teoksiin tehtyjä luonnoksia. Tunnettu\, yksityiskokoelmaan kuuluva maalaus Hauta-Heikin mummo (1897) on yksi näyttelyn merkkiteoksista. Mukana näyttelyssä on myös Juho Rissasen perikunnalta Yhdysvalloista lahjoituksena tänä kesänä saatu maalaus Työstä paluu (1908) sekä yksi Rissasen viimeisimmiksi jääneistä teoksista\, Tyttö ja koira (1950)\, jonka Rissanen maalasi Yhdysvalloissa. Rissaselle läheisten savolaisaiheiden rinnalla nähdään raikkain värein maalattuja kepeitä teoksia\, joissa näkyy ranskalaisen taiteen vaikutus. Näyttelyssä pääsee myös kurkistamaan taiteilijan ateljeeseen\, kuulemaan ja lukemaan Juho Rissasen kirjeitä ja vierailemaan Miami Beachilla\, jonka auringon alla taiteilija vietti viimeiset elinvuotensa. \nOpastukseen voi osallistua taidemuseon pääsymaksulla 10/5 €\, alle 18-vuotiaat ilmaiseksi ja museokortti käy maksuvälineeksi.
URL:https://kuopionmuseot.fi/tapahtuma/opastus-juho-rissanen-kuvauksen-vilkkaus-nayttelyyn-2/2024-01-07/
LOCATION:KUMMA\, Kauppakatu 35\, Kuopio\, 70100
ATTACH;FMTTYPE=image/jpeg:https://kuopionmuseot.fi/wp-content/uploads/2023/10/1920-1080-px-01.jpg
END:VEVENT
END:VCALENDAR