BEGIN:VCALENDAR
VERSION:2.0
PRODID:-//Kuopion museot - ECPv6.15.20//NONSGML v1.0//EN
CALSCALE:GREGORIAN
METHOD:PUBLISH
X-WR-CALNAME:Kuopion museot
X-ORIGINAL-URL:https://kuopionmuseot.fi
X-WR-CALDESC:Tapahtumat Kuopion museot
REFRESH-INTERVAL;VALUE=DURATION:PT1H
X-Robots-Tag:noindex
X-PUBLISHED-TTL:PT1H
BEGIN:VTIMEZONE
TZID:Europe/Helsinki
BEGIN:DAYLIGHT
TZOFFSETFROM:+0200
TZOFFSETTO:+0300
TZNAME:EEST
DTSTART:20230326T010000
END:DAYLIGHT
BEGIN:STANDARD
TZOFFSETFROM:+0300
TZOFFSETTO:+0200
TZNAME:EET
DTSTART:20231029T010000
END:STANDARD
BEGIN:DAYLIGHT
TZOFFSETFROM:+0200
TZOFFSETTO:+0300
TZNAME:EEST
DTSTART:20240331T010000
END:DAYLIGHT
BEGIN:STANDARD
TZOFFSETFROM:+0300
TZOFFSETTO:+0200
TZNAME:EET
DTSTART:20241027T010000
END:STANDARD
BEGIN:DAYLIGHT
TZOFFSETFROM:+0200
TZOFFSETTO:+0300
TZNAME:EEST
DTSTART:20250330T010000
END:DAYLIGHT
BEGIN:STANDARD
TZOFFSETFROM:+0300
TZOFFSETTO:+0200
TZNAME:EET
DTSTART:20251026T010000
END:STANDARD
END:VTIMEZONE
BEGIN:VEVENT
DTSTART;TZID=Europe/Helsinki:20240106T130000
DTEND;TZID=Europe/Helsinki:20240106T134500
DTSTAMP:20260421T133120
CREATED:20231011T102134Z
LAST-MODIFIED:20240411T065742Z
UID:10002891-1704546000-1704548700@kuopionmuseot.fi
SUMMARY:Opastus: Juho Rissanen meillä ja maailmalla
DESCRIPTION:Näyttelyopastus esittelee taidemaalari Juho Rissasen elämänvaiheita Kuopiossa sekä aikakauden kaupunkielämää. \nOpastuksia järjestetään lauantaisin klo 13. \nKesto noin 30–45 min. Mukaan pääsylipulla (8/5 €\, alle 18-vuotiaat maksutta\, Museokortti). \n  \nJuho Rissanen meillä ja maailmalla 13.10.2023–14.4.2024 \nTaiteilijan lapsuudessa olivat voimakkaasti läsnä niin kuolema kuin ainainen nälkä. Kiertolaiselämää eläneen pojan elämään mahtui silti myös hauskoja hetkiä – muistoja ihmisistä\, paikoista ja sattumuksista pienessä Kuopion maalaiskaupungissa. Milloin hän jäi nutustaan roikkumaan räystääseen\, putosi jäihin tai tikkaat kaatuivat katulamppuja sytyttäessä – onneakin oli aika usein matkassa\, ettei pahempaa sattunut. Koulunkäynti estyi myös kerta toisensa jälkeen. Lopullisesti haaveet opintiestä mursi isän kuolema Juhon ollessa 10-vuotias. Perheen vanhimpana lapsena tapahtuma pakotti pojan perheen elättäjäksi äidin rinnalle. \nJuho Rissanen ponnisti maailmalle köyhyydestä ja kurjuudesta. Maailmalle lähtönsä jälkeenkin Rissanen palasi usein kotiseuduilleen Pohjois-Savoon maalaamaan ja keräsi ulkomaanmatkoillaan merkittävän kokoelman esineitä rakkaudesta kotikaupunkiinsa. Aasiasta ja Afrikasta peräisin oleva kokoelma sisältää lähes 150 objektia. Nämä maailmalta kotiin Kuopioon lähetetyt esineet ja 1800-luvun lopun valokuva-aineisto ovatkin näyttelyn herkullisinta antia.
URL:https://kuopionmuseot.fi/tapahtuma/opastus-juho-rissanen-meilla-ja-maailmalla/2024-01-06/
LOCATION:Korttelimuseo\, Kirkkokatu 22\, Kuopio\, 70100\, Suomi
ATTACH;FMTTYPE=image/jpeg:https://kuopionmuseot.fi/wp-content/uploads/2023/10/rissanen_opastus.jpg
END:VEVENT
BEGIN:VEVENT
DTSTART;TZID=Europe/Helsinki:20240106T130000
DTEND;TZID=Europe/Helsinki:20240106T134500
DTSTAMP:20260421T133120
CREATED:20231117T122353Z
LAST-MODIFIED:20231213T102643Z
UID:10002449-1704546000-1704548700@kuopionmuseot.fi
SUMMARY:Opastus: Korttelimuseon joulu
DESCRIPTION:Korttelimuseon perinteisessä joulunäyttelyssä voi kokea\, miltä joulu tuoksui ja näytti ennen. Museokorttelin kodit on puettu jouluasuun 1800-luvulta 1930-luvulle. Näyttelyssä tapaat vanhan ajan joulupukin ja voit kuunnella joulunajan radio-ohjelmia. \nOpastukset lauantaisin klo 13 ja tapaninpäivänä klo 11\, 13 ja 15. Opastuksille pääset mukaan pääsylipulla. \nLa 9.12. klo 13\nLa 16.12. klo 13\nLa 23.12. klo 13\nTi 26.12. klo 11\, 13 ja 15\nLa 30.12. klo 13\nLa 6.1. klo 13 \nKorttelimuseo on poikkeuksellisesti suljettu jouluna 24.–25.12. ja uudenvuodenpäivänä 1.1. Lisäksi museokauppa on suljettu 31.12. \nPidennetty aukiolo 26.–30.12. (klo 10–17)
URL:https://kuopionmuseot.fi/tapahtuma/opastus-korttelimuseon-joulu/2024-01-06/
LOCATION:Korttelimuseo\, Kirkkokatu 22\, Kuopio\, 70100\, Suomi
ATTACH;FMTTYPE=image/jpeg:https://kuopionmuseot.fi/wp-content/uploads/2023/11/joulunayttely2023_1080x1920px-1.jpg
END:VEVENT
BEGIN:VEVENT
DTSTART;TZID=Europe/Helsinki:20240106T153000
DTEND;TZID=Europe/Helsinki:20240106T163000
DTSTAMP:20260421T133120
CREATED:20230420T103818Z
LAST-MODIFIED:20231221T112816Z
UID:10002578-1704555000-1704558600@kuopionmuseot.fi
SUMMARY:Opastus: Kummallinen luonto
DESCRIPTION:Synnyttäviä koiraita\, zombihyönteisiä\, salamurhaajia… Teemaopastuksella mietitään\, mikä oikeastaan on luonnotonta. Eläinten\, kasvien ja sienten maailma on totisesti oudompi ja moninaisempi kuin usein ajatellaan. \nTeemaopastus 15 € (sisältää museon pääsymaksun ja opastuksen)\, Museokortilla 5 €. \n  \nkuva: © Jose Fragozo\, Wildlife Photographer of the Year
URL:https://kuopionmuseot.fi/tapahtuma/opastus-kummallinen-luonto/2024-01-06/
LOCATION:Kuopion museo
ATTACH;FMTTYPE=image/jpeg:https://kuopionmuseot.fi/wp-content/uploads/2023/04/©-Jose-Fragozo-Wildlife-Photographer-of-the-Year.jpg
END:VEVENT
END:VCALENDAR