BEGIN:VCALENDAR
VERSION:2.0
PRODID:-//Kuopion museot - ECPv6.15.20//NONSGML v1.0//EN
CALSCALE:GREGORIAN
METHOD:PUBLISH
X-WR-CALNAME:Kuopion museot
X-ORIGINAL-URL:https://kuopionmuseot.fi
X-WR-CALDESC:Tapahtumat Kuopion museot
REFRESH-INTERVAL;VALUE=DURATION:PT1H
X-Robots-Tag:noindex
X-PUBLISHED-TTL:PT1H
BEGIN:VTIMEZONE
TZID:Europe/Helsinki
BEGIN:DAYLIGHT
TZOFFSETFROM:+0200
TZOFFSETTO:+0300
TZNAME:EEST
DTSTART:20220327T010000
END:DAYLIGHT
BEGIN:STANDARD
TZOFFSETFROM:+0300
TZOFFSETTO:+0200
TZNAME:EET
DTSTART:20221030T010000
END:STANDARD
BEGIN:DAYLIGHT
TZOFFSETFROM:+0200
TZOFFSETTO:+0300
TZNAME:EEST
DTSTART:20230326T010000
END:DAYLIGHT
BEGIN:STANDARD
TZOFFSETFROM:+0300
TZOFFSETTO:+0200
TZNAME:EET
DTSTART:20231029T010000
END:STANDARD
BEGIN:DAYLIGHT
TZOFFSETFROM:+0200
TZOFFSETTO:+0300
TZNAME:EEST
DTSTART:20240331T010000
END:DAYLIGHT
BEGIN:STANDARD
TZOFFSETFROM:+0300
TZOFFSETTO:+0200
TZNAME:EET
DTSTART:20241027T010000
END:STANDARD
END:VTIMEZONE
BEGIN:VEVENT
DTSTART;TZID=Europe/Helsinki:20231112T100000
DTEND;TZID=Europe/Helsinki:20231112T110000
DTSTAMP:20260420T195123
CREATED:20231013T102043Z
LAST-MODIFIED:20231013T102234Z
UID:10002398-1699783200-1699786800@kuopionmuseot.fi
SUMMARY:Ohjattu pelituokio: Juho Rissanen meillä ja maailmalla
DESCRIPTION:Tule tutustumaan Juho Rissasen lapsuuden moniin ammatteihin näyttelytilassa olevan pelin parissa. Syyslomalla 18.–20.10. klo 10 järjestetään ohjattuja pelituokioita\, joissa opas on paikalla esittelemässä peliä ja näyttelyä. Peli sopii kaikenikäisille. \n  \nJuho Rissanen meillä ja maailmalla 13.10.2023–14.4.2024 \nTaiteilijan lapsuudessa olivat voimakkaasti läsnä niin kuolema kuin ainainen nälkä. Kiertolaiselämää eläneen pojan elämään mahtui silti myös hauskoja hetkiä – muistoja ihmisistä\, paikoista ja sattumuksista pienessä Kuopion maalaiskaupungissa. Milloin hän jäi nutustaan roikkumaan räystääseen\, putosi jäihin tai tikkaat kaatuivat katulamppuja sytyttäessä – onneakin oli aika usein matkassa\, ettei pahempaa sattunut. Koulunkäynti estyi myös kerta toisensa jälkeen. Lopullisesti haaveet opintiestä mursi isän kuolema Juhon ollessa 10-vuotias. Perheen vanhimpana lapsena tapahtuma pakotti pojan perheen elättäjäksi äidin rinnalle. \nJuho Rissanen ponnisti maailmalle köyhyydestä ja kurjuudesta. Maailmalle lähtönsä jälkeenkin Rissanen palasi usein kotiseuduilleen Pohjois-Savoon maalaamaan ja keräsi ulkomaanmatkoillaan merkittävän kokoelman esineitä rakkaudesta kotikaupunkiinsa. Aasiasta ja Afrikasta peräisin oleva kokoelma sisältää lähes 150 objektia. Nämä maailmalta kotiin Kuopioon lähetetyt esineet ja 1800-luvun lopun valokuva-aineisto ovatkin näyttelyn herkullisinta antia.
URL:https://kuopionmuseot.fi/tapahtuma/ohjattu-pelituokio-juho-rissanen-meilla-ja-maailmalla/2023-11-12/
LOCATION:Korttelimuseo\, Kirkkokatu 22\, Kuopio\, 70100\, Suomi
ATTACH;FMTTYPE=image/jpeg:https://kuopionmuseot.fi/wp-content/uploads/2023/10/Rissanenpeli.jpg
END:VEVENT
BEGIN:VEVENT
DTSTART;TZID=Europe/Helsinki:20231112T100000
DTEND;TZID=Europe/Helsinki:20231112T170000
DTSTAMP:20260420T195123
CREATED:20231107T061054Z
LAST-MODIFIED:20231107T063234Z
UID:10002368-1699783200-1699808400@kuopionmuseot.fi
SUMMARY:Isänpäivänä isät maksutta museoon!
DESCRIPTION:Isänpäivän kunniaksi kaikki isät ja isäksi itsensä tuntevat saavat maksuttoman sisäänpääsyn kaikkiin Kuopion kaupungin museoihin. Museot ovat aina ilmaisia myös kaikille alle 18-vuotiaille.  \nKannattaa siis kopata perhe kainaloon ja tulla seikkailemaan Juho Rissasen juhlavuoden kunniaksi esillä oleviin näyttelyihin ja toimintaan.  \n  \nNäyttelykierroksen voi aloittaa Kuopion korttelimuseolta\, jossa näyttely Juho Rissanen meillä ja maailmalla kuvaa taiteilijan lapsuuden vaiheita ja sen aikaista Kuopiota. Rissasen lapsuuden tarinoiden ja sattumusten värittämään aikaan voi kurkistaa vaikka pelaamalla lattiapeliä\, jossa tutustutaan Rissasen lapsena tekemiin hanttihommiin ja arvuutellaan niihin liittyviä esineitä.  \n  \nKorttelimuseon jälkeen suosittelemme viemään isän minilomalle Miami Beachin lämpöön Kuopion taidemuseolle\, jossa pääsee ottamaan koko perheen voimin selfieitä aurinkorannalla. Taidemuseon näyttelyssä tutustutaan Juho Rissaseen taiteilijana\, sekä tietenkin hänen teoksiinsa\, esimerkiksi savolaisten omaan Mona Lisaan\, Hauta-Heikin mummoon. \n  \nIsänpäivän museokierros kannattaa kiepauttaa Kuopion museon ja Kahvila Kantin isänpäiväbuffetin kautta. Kahvilan erikoiskattauksiin on pöytävaraukset. Kuopion museon uudistettujen\, koko perheelle sopivien perusnäyttelyiden lisäksi on ihasteltavana maailman hienoimpia luontovalokuvia Lontoon Natural History Museumin tuottamassa Wildlife Photographer of the Year -näyttelyssä. Montako eläinmaailman isää löydät näyttelyistä?   \nMuseokohteiden aukioloajat su 12.11.: \nKuopion museo (Museokatu 1) klo 10-17 \nKuopion taidemuseo (Kauppakatu 35)  klo 10-17 \nKuopion korttelimuseo (Kirkkokatu 22) klo 10-15 \nLue lisää Kahvila Kantin isänpäiväbuffasta ja varaa paikkasi kattaukseen!\n\nKattaukset klo 10.30 ja 12.30. Buffan hinta on aikuisilta 25 euroa\, lapsilta 12 euroa. Alle 4-vuotiaat veloituksetta. Paikkoja on rajoitetusti\, tee varaus pian Table Onlinen kautta! \nMenu\nLämminsavulohi voileipäkakkua (M)\nKinkkuvoileipäkakkua (L)\nVälimeren voileipäkakkua (VE\,G)\n***\nMokkapaloja (L)\nMarjapiirasta & vaniljakastiketta (L)\nSuklaakonvehteja\nVaahtokarkkeja\n***\nKahvia & teetä\nVesi & makuvesi \n(Ilmoitathan varauksen yhteydessä mahdolliset allergiat ja ruokarajoitteet.)
URL:https://kuopionmuseot.fi/tapahtuma/isanpaivana-isat-maksutta-museoon/
ATTACH;FMTTYPE=image/jpeg:https://kuopionmuseot.fi/wp-content/uploads/2023/11/Facejulkaisu-5.jpg
END:VEVENT
BEGIN:VEVENT
DTSTART;TZID=Europe/Helsinki:20231112T120000
DTEND;TZID=Europe/Helsinki:20231112T123000
DTSTAMP:20260420T195123
CREATED:20231024T070655Z
LAST-MODIFIED:20231024T071343Z
UID:10002465-1699790400-1699792200@kuopionmuseot.fi
SUMMARY:Kansanlauluyhtye ILO Kuopion taidemuseolla
DESCRIPTION:Täydellisen lauantain resepti on yhdistää hyvä musiikki ja upeat taidenäyttelyt Kuopion taidemuseolla Kansanlauluyhtye ILO:n esiintyessä näyttelyissä 28.10. klo 12–12.30\, 13–13.30 ja 14–14.30. \n Kuopion kansalaisopiston Kansanlauluyhtye ILO esittää perinteistä kansanmusiikkia uudella otteella ja hyvällä meiningillä. Kuulet kappaleita mm. Perusta\, Bulgariasta ja Suomesta\, ja pääset laulamaan myös mukana. Kampiliira\, kitarat\, haitarit\, viulu ja kantele pääsevät oikeuksiinsa moniäänisen laulun kaverina. \nMyös Kuopion taidemuseon näyttelyissä kierretään ympäri maailmaa: Pluriverse esittelee ulkoeurooppalaista taidetta Antti Mykkäsen kokoelmasta\, josta on esillä teoksia yli 80 maasta. Juho Rissanen – Kuvauksen vilkkaus -näyttelyssä seurataan taiteilijan mukana hänen matkoillaan Euroopasta aina Amerikkaan asti.\, ja päästään lopuksi itsekin vierailemaan Miami Beachillä. \nEsitys sisältyy Kuopion taidemuseon pääsymaksuun 10/5 €\, alle 18-vuotiaat ilmaiseksi ja museokortti käy maksuvälineeksi. \n  \n Esitykset la 28.10. klo 12–12.30\, 13–13.30 ja 14–14.30
URL:https://kuopionmuseot.fi/tapahtuma/kansanlauluyhtye-ilo-kuopion-taidemuseolla/2023-11-12/
LOCATION:KUMMA\, Kauppakatu 35\, Kuopio\, 70100
ATTACH;FMTTYPE=image/jpeg:https://kuopionmuseot.fi/wp-content/uploads/2023/10/Ilo.jpg
END:VEVENT
BEGIN:VEVENT
DTSTART;TZID=Europe/Helsinki:20231112T140000
DTEND;TZID=Europe/Helsinki:20231112T143000
DTSTAMP:20260420T195123
CREATED:20231221T111220Z
LAST-MODIFIED:20231221T111220Z
UID:10002520-1699797600-1699799400@kuopionmuseot.fi
SUMMARY:Kansanlauluyhtye ILO Kuopion taidemuseolla
DESCRIPTION:Täydellisen lauantain resepti on yhdistää hyvä musiikki ja upeat taidenäyttelyt Kuopion taidemuseolla Kansanlauluyhtye ILO:n esiintyessä näyttelyissä 28.10. klo 12–12.30\, 13–13.30 ja 14–14.30. \n Kuopion kansalaisopiston Kansanlauluyhtye ILO esittää perinteistä kansanmusiikkia uudella otteella ja hyvällä meiningillä. Kuulet kappaleita mm. Perusta\, Bulgariasta ja Suomesta\, ja pääset laulamaan myös mukana. Kampiliira\, kitarat\, haitarit\, viulu ja kantele pääsevät oikeuksiinsa moniäänisen laulun kaverina. \nMyös Kuopion taidemuseon näyttelyissä kierretään ympäri maailmaa: Pluriverse esittelee ulkoeurooppalaista taidetta Antti Mykkäsen kokoelmasta\, josta on esillä teoksia yli 80 maasta. Juho Rissanen – Kuvauksen vilkkaus -näyttelyssä seurataan taiteilijan mukana hänen matkoillaan Euroopasta aina Amerikkaan asti.\, ja päästään lopuksi itsekin vierailemaan Miami Beachillä. \nEsitys sisältyy Kuopion taidemuseon pääsymaksuun 10/5 €\, alle 18-vuotiaat ilmaiseksi ja museokortti käy maksuvälineeksi. \n  \n Esitykset la 28.10. klo 12–12.30\, 13–13.30 ja 14–14.30
URL:https://kuopionmuseot.fi/tapahtuma/kansanlauluyhtye-ilo-kuopion-taidemuseolla/2023-11-12/
LOCATION:KUMMA\, Kauppakatu 35\, Kuopio\, 70100
ATTACH;FMTTYPE=image/jpeg:https://kuopionmuseot.fi/wp-content/uploads/2023/10/Ilo.jpg
END:VEVENT
BEGIN:VEVENT
DTSTART;TZID=Europe/Helsinki:20231112T140000
DTEND;TZID=Europe/Helsinki:20231112T150000
DTSTAMP:20260420T195123
CREATED:20231003T070157Z
LAST-MODIFIED:20231003T070700Z
UID:10002349-1699797600-1699801200@kuopionmuseot.fi
SUMMARY:Opastus Pluriverse-näyttelyyn
DESCRIPTION:Kuopion taidemuseolla järjestetään avoimia opastuksia näyttelyihin joka sunnuntai klo 14 perehtyen vuoroviikoin Pluriverseen ja Juho Rissanen – Kuvauksen vilkkaus näyttelyyn. \nPluriverse esittelee ulkoeurooppalaista taidetta Antti Mykkäsen kokoelmasta. Kun matka peruuntuu ja mukana on tyhjä matkalaukku\, voi syntyä taidekokoelma. Antti Mykkäsen purjehdusmatka vuonna 2015 muuttui samoiluksi Etelä-Amerikan gallerioissa ja taidekaupoissa. Sen jälkeen hän on jatkanut tarkasti suunnittelemaansa taidematkailua yli 150 maahan. Matkalaukku on määrittänyt taidekeräilijä Antti Mykkäsen teoshankintoja\, sillä maalaukset on täytynyt saada kuljetettua matkoilta itse kotiin. \nTaide on vetänyt Pielavedeltä lähtöisin olevaa Mykkästä puoleensa alitajuisesti. Hän kertoo pysähtyneensä kaduilla gallerioiden ja värikkäiden maalausten kohdalle. Pysähdykset johtivat taidekauppoihin ja pian taideharrastukseen yhdistyi matkailu. Mykkänen on keskittynyt keräämään ei-Eurooppalaista kuvataidetta. \nNäyttelyssä on teoksia yli 80 maasta ja mukana on runsas 120 taiteilijaa. Pluriverse kysyy kuka määrittää taiteen\, hyvän taiteen? Eurooppalainen kulttuuri on kautta historian pyrkinyt vaikuttamaan muun maailman kulttuuriin. Länsimaista taidetta ja taidemuseoita pidetään hyvän taiteen linnakkeena. Pluriversen taiteilijat asuvat ympäri maailmaa\, hyvin erilaisissa olosuhteissa. Teokset ovat kuitenkin käyneet läpi monta valikointia: taiteilijan\, keräilijän ja lopulta taidemuseon. Jonkun katse valitsee aina\, mistä pitää. \nOpastukseen voi osallistua taidemuseon pääsymaksulla 10/5 €\, alle 18-vuotiaat ilmaiseksi ja museokortti käy maksuvälineeksi.
URL:https://kuopionmuseot.fi/tapahtuma/opastus-pluriverse-nayttelyyn-2/2023-11-12/
LOCATION:KUMMA\, Kauppakatu 35\, Kuopio\, 70100
ATTACH;FMTTYPE=image/jpeg:https://kuopionmuseot.fi/wp-content/uploads/2023/10/1920-1080-px-01-01-01.jpg
END:VEVENT
END:VCALENDAR