BEGIN:VCALENDAR
VERSION:2.0
PRODID:-//Kuopion museot - ECPv6.15.20//NONSGML v1.0//EN
CALSCALE:GREGORIAN
METHOD:PUBLISH
X-WR-CALNAME:Kuopion museot
X-ORIGINAL-URL:https://kuopionmuseot.fi
X-WR-CALDESC:Tapahtumat Kuopion museot
REFRESH-INTERVAL;VALUE=DURATION:PT1H
X-Robots-Tag:noindex
X-PUBLISHED-TTL:PT1H
BEGIN:VTIMEZONE
TZID:Europe/Helsinki
BEGIN:DAYLIGHT
TZOFFSETFROM:+0200
TZOFFSETTO:+0300
TZNAME:EEST
DTSTART:20220327T010000
END:DAYLIGHT
BEGIN:STANDARD
TZOFFSETFROM:+0300
TZOFFSETTO:+0200
TZNAME:EET
DTSTART:20221030T010000
END:STANDARD
BEGIN:DAYLIGHT
TZOFFSETFROM:+0200
TZOFFSETTO:+0300
TZNAME:EEST
DTSTART:20230326T010000
END:DAYLIGHT
BEGIN:STANDARD
TZOFFSETFROM:+0300
TZOFFSETTO:+0200
TZNAME:EET
DTSTART:20231029T010000
END:STANDARD
BEGIN:DAYLIGHT
TZOFFSETFROM:+0200
TZOFFSETTO:+0300
TZNAME:EEST
DTSTART:20240331T010000
END:DAYLIGHT
BEGIN:STANDARD
TZOFFSETFROM:+0300
TZOFFSETTO:+0200
TZNAME:EET
DTSTART:20241027T010000
END:STANDARD
END:VTIMEZONE
BEGIN:VEVENT
DTSTART;TZID=Europe/Helsinki:20231022T100000
DTEND;TZID=Europe/Helsinki:20231022T110000
DTSTAMP:20260425T065408
CREATED:20231013T102043Z
LAST-MODIFIED:20231013T102234Z
UID:10002377-1697968800-1697972400@kuopionmuseot.fi
SUMMARY:Ohjattu pelituokio: Juho Rissanen meillä ja maailmalla
DESCRIPTION:Tule tutustumaan Juho Rissasen lapsuuden moniin ammatteihin näyttelytilassa olevan pelin parissa. Syyslomalla 18.–20.10. klo 10 järjestetään ohjattuja pelituokioita\, joissa opas on paikalla esittelemässä peliä ja näyttelyä. Peli sopii kaikenikäisille. \n  \nJuho Rissanen meillä ja maailmalla 13.10.2023–14.4.2024 \nTaiteilijan lapsuudessa olivat voimakkaasti läsnä niin kuolema kuin ainainen nälkä. Kiertolaiselämää eläneen pojan elämään mahtui silti myös hauskoja hetkiä – muistoja ihmisistä\, paikoista ja sattumuksista pienessä Kuopion maalaiskaupungissa. Milloin hän jäi nutustaan roikkumaan räystääseen\, putosi jäihin tai tikkaat kaatuivat katulamppuja sytyttäessä – onneakin oli aika usein matkassa\, ettei pahempaa sattunut. Koulunkäynti estyi myös kerta toisensa jälkeen. Lopullisesti haaveet opintiestä mursi isän kuolema Juhon ollessa 10-vuotias. Perheen vanhimpana lapsena tapahtuma pakotti pojan perheen elättäjäksi äidin rinnalle. \nJuho Rissanen ponnisti maailmalle köyhyydestä ja kurjuudesta. Maailmalle lähtönsä jälkeenkin Rissanen palasi usein kotiseuduilleen Pohjois-Savoon maalaamaan ja keräsi ulkomaanmatkoillaan merkittävän kokoelman esineitä rakkaudesta kotikaupunkiinsa. Aasiasta ja Afrikasta peräisin oleva kokoelma sisältää lähes 150 objektia. Nämä maailmalta kotiin Kuopioon lähetetyt esineet ja 1800-luvun lopun valokuva-aineisto ovatkin näyttelyn herkullisinta antia.
URL:https://kuopionmuseot.fi/tapahtuma/ohjattu-pelituokio-juho-rissanen-meilla-ja-maailmalla/2023-10-22/
LOCATION:Korttelimuseo\, Kirkkokatu 22\, Kuopio\, 70100\, Suomi
ATTACH;FMTTYPE=image/jpeg:https://kuopionmuseot.fi/wp-content/uploads/2023/10/Rissanenpeli.jpg
END:VEVENT
BEGIN:VEVENT
DTSTART;TZID=Europe/Helsinki:20231022T140000
DTEND;TZID=Europe/Helsinki:20231022T150000
DTSTAMP:20260425T065408
CREATED:20231003T093431Z
LAST-MODIFIED:20231003T093431Z
UID:10002352-1697983200-1697986800@kuopionmuseot.fi
SUMMARY:Opastus Juho Rissanen – Kuvauksen vilkkaus -näyttelyyn
DESCRIPTION:Kuopion taidemuseolla järjestetään avoimia opastuksia näyttelyihin joka sunnuntai klo 14 perehtyen vuoroviikoin Pluriverseen ja Juho Rissanen – Kuvauksen vilkkaus näyttelyyn. \nOdotettu Juho Rissanen – Kuvauksen vilkkaus -näyttely tarjoaa uuden näkökulman Rissaseen pureutumalla hänen taiteensa lisäksi hänen elämäänsä ja persoonaansa. Esillä on sekä tuttuja että harvoin esillä olleita teoksia\, myös Rissasen kirjeitä ja valokuvia\, joiden kautta välittyy hänen valloittava persoonallisuutensa ja suhteensa tukijoihin ja läheisiin ihmisiin. \nNäyttelyssä on teoksia koko Rissasen taiteellisen työskentelyn ajalta. Esillä on muun muassa luonnoksia Rissasen lapsuuden traagiseen tapahtumaan liittyvästä isän kuolemasta sekä Pariisin vuoden 1900 maailmannäyttelyn teoksiin tehtyjä luonnoksia. Tunnettu\, yksityiskokoelmaan kuuluva maalaus Hauta-Heikin mummo (1897) on yksi näyttelyn merkkiteoksista. Mukana näyttelyssä on myös Juho Rissasen perikunnalta Yhdysvalloista lahjoituksena tänä kesänä saatu maalaus Työstä paluu (1908) sekä yksi Rissasen viimeisimmiksi jääneistä teoksista\, Tyttö ja koira (1950)\, jonka Rissanen maalasi Yhdysvalloissa. Rissaselle läheisten savolaisaiheiden rinnalla nähdään raikkain värein maalattuja kepeitä teoksia\, joissa näkyy ranskalaisen taiteen vaikutus. Näyttelyssä pääsee myös kurkistamaan taiteilijan ateljeeseen\, kuulemaan ja lukemaan Juho Rissasen kirjeitä ja vierailemaan Miami Beachilla\, jonka auringon alla taiteilija vietti viimeiset elinvuotensa. \nOpastukseen voi osallistua taidemuseon pääsymaksulla 10/5 €\, alle 18-vuotiaat ilmaiseksi ja museokortti käy maksuvälineeksi.
URL:https://kuopionmuseot.fi/tapahtuma/opastus-juho-rissanen-kuvauksen-vilkkaus-nayttelyyn/
LOCATION:KUMMA\, Kauppakatu 35\, Kuopio\, 70100
ATTACH;FMTTYPE=image/png:https://kuopionmuseot.fi/wp-content/uploads/2023/10/1920-1080-px-1.png
END:VEVENT
END:VCALENDAR