BEGIN:VCALENDAR
VERSION:2.0
PRODID:-//Kuopion museot - ECPv6.15.20//NONSGML v1.0//EN
CALSCALE:GREGORIAN
METHOD:PUBLISH
X-WR-CALNAME:Kuopion museot
X-ORIGINAL-URL:https://kuopionmuseot.fi
X-WR-CALDESC:Tapahtumat Kuopion museot
REFRESH-INTERVAL;VALUE=DURATION:PT1H
X-Robots-Tag:noindex
X-PUBLISHED-TTL:PT1H
BEGIN:VTIMEZONE
TZID:Europe/Helsinki
BEGIN:DAYLIGHT
TZOFFSETFROM:+0200
TZOFFSETTO:+0300
TZNAME:EEST
DTSTART:20220327T010000
END:DAYLIGHT
BEGIN:STANDARD
TZOFFSETFROM:+0300
TZOFFSETTO:+0200
TZNAME:EET
DTSTART:20221030T010000
END:STANDARD
BEGIN:DAYLIGHT
TZOFFSETFROM:+0200
TZOFFSETTO:+0300
TZNAME:EEST
DTSTART:20230326T010000
END:DAYLIGHT
BEGIN:STANDARD
TZOFFSETFROM:+0300
TZOFFSETTO:+0200
TZNAME:EET
DTSTART:20231029T010000
END:STANDARD
BEGIN:DAYLIGHT
TZOFFSETFROM:+0200
TZOFFSETTO:+0300
TZNAME:EEST
DTSTART:20240331T010000
END:DAYLIGHT
BEGIN:STANDARD
TZOFFSETFROM:+0300
TZOFFSETTO:+0200
TZNAME:EET
DTSTART:20241027T010000
END:STANDARD
END:VTIMEZONE
BEGIN:VEVENT
DTSTART;TZID=Europe/Helsinki:20231021T100000
DTEND;TZID=Europe/Helsinki:20231021T110000
DTSTAMP:20260425T065407
CREATED:20231013T102043Z
LAST-MODIFIED:20231013T102234Z
UID:10002376-1697882400-1697886000@kuopionmuseot.fi
SUMMARY:Ohjattu pelituokio: Juho Rissanen meillä ja maailmalla
DESCRIPTION:Tule tutustumaan Juho Rissasen lapsuuden moniin ammatteihin näyttelytilassa olevan pelin parissa. Syyslomalla 18.–20.10. klo 10 järjestetään ohjattuja pelituokioita\, joissa opas on paikalla esittelemässä peliä ja näyttelyä. Peli sopii kaikenikäisille. \n  \nJuho Rissanen meillä ja maailmalla 13.10.2023–14.4.2024 \nTaiteilijan lapsuudessa olivat voimakkaasti läsnä niin kuolema kuin ainainen nälkä. Kiertolaiselämää eläneen pojan elämään mahtui silti myös hauskoja hetkiä – muistoja ihmisistä\, paikoista ja sattumuksista pienessä Kuopion maalaiskaupungissa. Milloin hän jäi nutustaan roikkumaan räystääseen\, putosi jäihin tai tikkaat kaatuivat katulamppuja sytyttäessä – onneakin oli aika usein matkassa\, ettei pahempaa sattunut. Koulunkäynti estyi myös kerta toisensa jälkeen. Lopullisesti haaveet opintiestä mursi isän kuolema Juhon ollessa 10-vuotias. Perheen vanhimpana lapsena tapahtuma pakotti pojan perheen elättäjäksi äidin rinnalle. \nJuho Rissanen ponnisti maailmalle köyhyydestä ja kurjuudesta. Maailmalle lähtönsä jälkeenkin Rissanen palasi usein kotiseuduilleen Pohjois-Savoon maalaamaan ja keräsi ulkomaanmatkoillaan merkittävän kokoelman esineitä rakkaudesta kotikaupunkiinsa. Aasiasta ja Afrikasta peräisin oleva kokoelma sisältää lähes 150 objektia. Nämä maailmalta kotiin Kuopioon lähetetyt esineet ja 1800-luvun lopun valokuva-aineisto ovatkin näyttelyn herkullisinta antia.
URL:https://kuopionmuseot.fi/tapahtuma/ohjattu-pelituokio-juho-rissanen-meilla-ja-maailmalla/2023-10-21/
LOCATION:Korttelimuseo\, Kirkkokatu 22\, Kuopio\, 70100\, Suomi
ATTACH;FMTTYPE=image/jpeg:https://kuopionmuseot.fi/wp-content/uploads/2023/10/Rissanenpeli.jpg
END:VEVENT
BEGIN:VEVENT
DTSTART;TZID=Europe/Helsinki:20231021T100000
DTEND;TZID=Europe/Helsinki:20231021T140000
DTSTAMP:20260425T065407
CREATED:20231003T042558Z
LAST-MODIFIED:20231003T042558Z
UID:10002064-1697882400-1697896800@kuopionmuseot.fi
SUMMARY:Kuopion museon puuhapajat syyslomaviikolla
DESCRIPTION:Kuopion museon suuren suosion saavuttaneet non-stop -puuhapajat tekevät paluun ohjelmistoon supersyysloman kunniaksi. Puuhapajassa askarrellaan syyslomaviikolla heijastavia maskotteja\, koska pimeät illat ovat taas täällä. Työpaja sopii kaikenikäisille\, mutta pienimmät puuhastelijat tarvitsevat aikuisen seurakseen. \nTyöpajamaksu 3 € / maskotti. Puuhapajat toimivat non-stop -periaatteella\, eivätkä vaadi ennakkoilmoittautumista. \nPuuhapajailun yhteydessä voi käydä tutustumassa Kuopion museon näyttelyihin (liput 13 / 7 €\, alle 18-v maksuton\, Museokortti käy). \n 
URL:https://kuopionmuseot.fi/tapahtuma/puuhapajat-syyslomaviikolla/2023-10-21/
LOCATION:Kuopion museo
ATTACH;FMTTYPE=image/jpeg:https://kuopionmuseot.fi/wp-content/uploads/2023/10/Puuhapaja-syysloma.jpg
END:VEVENT
BEGIN:VEVENT
DTSTART;TZID=Europe/Helsinki:20231021T130000
DTEND;TZID=Europe/Helsinki:20231021T134500
DTSTAMP:20260425T065407
CREATED:20231011T102134Z
LAST-MODIFIED:20240411T065742Z
UID:10002328-1697893200-1697895900@kuopionmuseot.fi
SUMMARY:Opastus: Juho Rissanen meillä ja maailmalla
DESCRIPTION:Näyttelyopastus esittelee taidemaalari Juho Rissasen elämänvaiheita Kuopiossa sekä aikakauden kaupunkielämää. \nOpastuksia järjestetään lauantaisin klo 13. \nKesto noin 30–45 min. Mukaan pääsylipulla (8/5 €\, alle 18-vuotiaat maksutta\, Museokortti). \n  \nJuho Rissanen meillä ja maailmalla 13.10.2023–14.4.2024 \nTaiteilijan lapsuudessa olivat voimakkaasti läsnä niin kuolema kuin ainainen nälkä. Kiertolaiselämää eläneen pojan elämään mahtui silti myös hauskoja hetkiä – muistoja ihmisistä\, paikoista ja sattumuksista pienessä Kuopion maalaiskaupungissa. Milloin hän jäi nutustaan roikkumaan räystääseen\, putosi jäihin tai tikkaat kaatuivat katulamppuja sytyttäessä – onneakin oli aika usein matkassa\, ettei pahempaa sattunut. Koulunkäynti estyi myös kerta toisensa jälkeen. Lopullisesti haaveet opintiestä mursi isän kuolema Juhon ollessa 10-vuotias. Perheen vanhimpana lapsena tapahtuma pakotti pojan perheen elättäjäksi äidin rinnalle. \nJuho Rissanen ponnisti maailmalle köyhyydestä ja kurjuudesta. Maailmalle lähtönsä jälkeenkin Rissanen palasi usein kotiseuduilleen Pohjois-Savoon maalaamaan ja keräsi ulkomaanmatkoillaan merkittävän kokoelman esineitä rakkaudesta kotikaupunkiinsa. Aasiasta ja Afrikasta peräisin oleva kokoelma sisältää lähes 150 objektia. Nämä maailmalta kotiin Kuopioon lähetetyt esineet ja 1800-luvun lopun valokuva-aineisto ovatkin näyttelyn herkullisinta antia.
URL:https://kuopionmuseot.fi/tapahtuma/opastus-juho-rissanen-meilla-ja-maailmalla/2023-10-21/
LOCATION:Korttelimuseo\, Kirkkokatu 22\, Kuopio\, 70100\, Suomi
ATTACH;FMTTYPE=image/jpeg:https://kuopionmuseot.fi/wp-content/uploads/2023/10/rissanen_opastus.jpg
END:VEVENT
BEGIN:VEVENT
DTSTART;TZID=Europe/Helsinki:20231021T150000
DTEND;TZID=Europe/Helsinki:20231021T160000
DTSTAMP:20260425T065407
CREATED:20231003T062326Z
LAST-MODIFIED:20231220T164657Z
UID:10002068-1697900400-1697904000@kuopionmuseot.fi
SUMMARY:Opastus: 2148
DESCRIPTION:Miltä maailma näyttää vuonna 2148? Vastauksia voi etsiä Kuopion museon teemaopastukselta\, jolla vieraillaan sekä ilmastonmuutoksen runtelemassa 2140-luvun Suomessa että tulevaisuudessa\, jossa ihmiset ovat onnistuneet pelastamaan sekä villin luonnon että itsensä. \nOpastus on kestoltaan noin tunnin mittainen ja sisältyy museon pääsymaksuun. \nOpastusajat: \n\nTi 17.10. klo 15\nTo 19.10. klo 15\nLa 21.10. klo 15\nTo 28.12. klo 15 \nTo 4.1. klo 15 \nTo 1.2. klo 15 \nLa 3.2. klo 15.30 \n\nAiheesta innostuneet voivat tutustua myös Kuopion pääkirjaston koostamiin vinkkilistoihin. Kirjoja\, elokuvia ja pelejä dystopioista löytyy täältä https://kuopio.finna.fi/List/1427454 ja utopioista puolestaan täältä https://kuopio.finna.fi/List/1427436 \nKuvassa pohjana Antti Karppisen Kuopion museolle luomat Walk in the Park ja Walk in the Parch -teokset.
URL:https://kuopionmuseot.fi/tapahtuma/2148/2023-10-21/
LOCATION:Kuopion museo
ATTACH;FMTTYPE=image/jpeg:https://kuopionmuseot.fi/wp-content/uploads/2023/10/2148b.jpg
ORGANIZER;CN="Kuopion museo":MAILTO:kuopionmuseo@kuopio.fi
END:VEVENT
BEGIN:VEVENT
DTSTART;TZID=Europe/Helsinki:20231021T150000
DTEND;TZID=Europe/Helsinki:20231021T160000
DTSTAMP:20260425T065407
CREATED:20231003T063036Z
LAST-MODIFIED:20231003T063036Z
UID:10002080-1697900400-1697904000@kuopionmuseot.fi
SUMMARY:Opastus: 2148
DESCRIPTION:Miltä maailma näyttää vuonna 2148? Vastauksia voi etsiä Kuopion museon syysloman teemaopastukselta\, jolla vieraillaan sekä ilmastonmuutoksen runtelemassa 2140-luvun Suomessa että tulevaisuudessa\, jossa ihmiset ovat onnistuneet pelastamaan sekä villin luonnon että itsensä. \nOpastus on kestoltaan noin tunnin mittainen ja sisältyy museon pääsymaksuun. \nOpastusajat \n\nTi 17.10. klo 15\nTo 19.10. klo 15\nLa 21.10. klo 15\n\nKuvassa pohjana Antti Karppisen Kuopion museolle luomat Walk in the Park ja Walk in the Parch -teokset.
URL:https://kuopionmuseot.fi/tapahtuma/opastus-2148-2/
LOCATION:Kuopion museo
ATTACH;FMTTYPE=image/jpeg:https://kuopionmuseot.fi/wp-content/uploads/2023/10/2148b.jpg
ORGANIZER;CN="Kuopion museo":MAILTO:kuopionmuseo@kuopio.fi
END:VEVENT
END:VCALENDAR