BEGIN:VCALENDAR
VERSION:2.0
PRODID:-//Kuopion museot - ECPv6.15.20//NONSGML v1.0//EN
CALSCALE:GREGORIAN
METHOD:PUBLISH
X-WR-CALNAME:Kuopion museot
X-ORIGINAL-URL:https://kuopionmuseot.fi
X-WR-CALDESC:Tapahtumat Kuopion museot
REFRESH-INTERVAL;VALUE=DURATION:PT1H
X-Robots-Tag:noindex
X-PUBLISHED-TTL:PT1H
BEGIN:VTIMEZONE
TZID:Europe/Helsinki
BEGIN:DAYLIGHT
TZOFFSETFROM:+0200
TZOFFSETTO:+0300
TZNAME:EEST
DTSTART:20220327T010000
END:DAYLIGHT
BEGIN:STANDARD
TZOFFSETFROM:+0300
TZOFFSETTO:+0200
TZNAME:EET
DTSTART:20221030T010000
END:STANDARD
BEGIN:DAYLIGHT
TZOFFSETFROM:+0200
TZOFFSETTO:+0300
TZNAME:EEST
DTSTART:20230326T010000
END:DAYLIGHT
BEGIN:STANDARD
TZOFFSETFROM:+0300
TZOFFSETTO:+0200
TZNAME:EET
DTSTART:20231029T010000
END:STANDARD
BEGIN:DAYLIGHT
TZOFFSETFROM:+0200
TZOFFSETTO:+0300
TZNAME:EEST
DTSTART:20240331T010000
END:DAYLIGHT
BEGIN:STANDARD
TZOFFSETFROM:+0300
TZOFFSETTO:+0200
TZNAME:EET
DTSTART:20241027T010000
END:STANDARD
END:VTIMEZONE
BEGIN:VEVENT
DTSTART;TZID=Europe/Helsinki:20231018T100000
DTEND;TZID=Europe/Helsinki:20231018T110000
DTSTAMP:20260425T054431
CREATED:20231013T102043Z
LAST-MODIFIED:20231013T102234Z
UID:10002373-1697623200-1697626800@kuopionmuseot.fi
SUMMARY:Ohjattu pelituokio: Juho Rissanen meillä ja maailmalla
DESCRIPTION:Tule tutustumaan Juho Rissasen lapsuuden moniin ammatteihin näyttelytilassa olevan pelin parissa. Syyslomalla 18.–20.10. klo 10 järjestetään ohjattuja pelituokioita\, joissa opas on paikalla esittelemässä peliä ja näyttelyä. Peli sopii kaikenikäisille. \n  \nJuho Rissanen meillä ja maailmalla 13.10.2023–14.4.2024 \nTaiteilijan lapsuudessa olivat voimakkaasti läsnä niin kuolema kuin ainainen nälkä. Kiertolaiselämää eläneen pojan elämään mahtui silti myös hauskoja hetkiä – muistoja ihmisistä\, paikoista ja sattumuksista pienessä Kuopion maalaiskaupungissa. Milloin hän jäi nutustaan roikkumaan räystääseen\, putosi jäihin tai tikkaat kaatuivat katulamppuja sytyttäessä – onneakin oli aika usein matkassa\, ettei pahempaa sattunut. Koulunkäynti estyi myös kerta toisensa jälkeen. Lopullisesti haaveet opintiestä mursi isän kuolema Juhon ollessa 10-vuotias. Perheen vanhimpana lapsena tapahtuma pakotti pojan perheen elättäjäksi äidin rinnalle. \nJuho Rissanen ponnisti maailmalle köyhyydestä ja kurjuudesta. Maailmalle lähtönsä jälkeenkin Rissanen palasi usein kotiseuduilleen Pohjois-Savoon maalaamaan ja keräsi ulkomaanmatkoillaan merkittävän kokoelman esineitä rakkaudesta kotikaupunkiinsa. Aasiasta ja Afrikasta peräisin oleva kokoelma sisältää lähes 150 objektia. Nämä maailmalta kotiin Kuopioon lähetetyt esineet ja 1800-luvun lopun valokuva-aineisto ovatkin näyttelyn herkullisinta antia.
URL:https://kuopionmuseot.fi/tapahtuma/ohjattu-pelituokio-juho-rissanen-meilla-ja-maailmalla/2023-10-18/
LOCATION:Korttelimuseo\, Kirkkokatu 22\, Kuopio\, 70100\, Suomi
ATTACH;FMTTYPE=image/jpeg:https://kuopionmuseot.fi/wp-content/uploads/2023/10/Rissanenpeli.jpg
END:VEVENT
BEGIN:VEVENT
DTSTART;TZID=Europe/Helsinki:20231018T130000
DTEND;TZID=Europe/Helsinki:20231018T132000
DTSTAMP:20260425T054431
CREATED:20231002T103918Z
LAST-MODIFIED:20231002T103918Z
UID:10002057-1697634000-1697635200@kuopionmuseot.fi
SUMMARY:Toimintatuokio
DESCRIPTION:Keskiviikkona 18.10. klo 13 taidekasvattaja Katri Ratilainen ohjaa Pluriverse -näyttelyn tunnelmaan toiminnallisin keinoin. Kokoonnumme ihmettelemään ulkoeurooppalaisia soittimia ja kokeilemaan niitä yhdessä. Toiminta ei vaadi aikaisempaa kokemusta musiikin tekemisestä. Sopii kaiken ikäisille. Toiminta kestää noin 15–20 min. \nToimintatuokioon osallistuminen sisältyy taidemuseon pääsymaksuun 10/5 €\, maksutapana käy myös Museokortti. Ja kuten aina\, kaikille alle 18-vuotiaille on Kuopion taidemuseoon vapaa pääsy. Ennakkoilmoittautumista ei tarvita. Lämpimästi tervetuloa!
URL:https://kuopionmuseot.fi/tapahtuma/toimintatuokio/
LOCATION:KUMMA\, Kauppakatu 35\, Kuopio\, 70100
ATTACH;FMTTYPE=image/png:https://kuopionmuseot.fi/wp-content/uploads/2023/10/1920-1080-px.png
END:VEVENT
BEGIN:VEVENT
DTSTART;TZID=Europe/Helsinki:20231018T130000
DTEND;TZID=Europe/Helsinki:20231018T150000
DTSTAMP:20260425T054431
CREATED:20231002T114259Z
LAST-MODIFIED:20231002T114734Z
UID:10002060-1697634000-1697641200@kuopionmuseot.fi
SUMMARY:Tutkijan testamentti -pakopeli
DESCRIPTION:Tutkijan testamentti –pakopeli Kuopion museon pedatilassa  \n”Lauantaiaamu 30.11.2035. Näette\, kun ambulanssi kaartaa naapurinne pihaan. Naapuri oli aina ollut hiljainen ja jollakin oudolla tavalla mystinen. Ette tienneet hänestä juuri mitään. Nyt on enää myöhäistä kysyä. Naapurinne ei ole tulossa enää takaisin kotiin. Mieleenne tulee ajatus: nyt meillä olisi tilaisuus selvittää hänen tarinansa.”  \nIlmastoaiheinen pakopeli on Iisalmen Nuorisopalveluiden kehittämä. Se on suunniteltu yläkouluikäisille\, mutta haastetta riittää hyvin myös vanhemmille pelaajille.  \nPelin voi aloittaa ke 18.10. tai to 19.10. non-stoppina itselle sopivana aikana klo 13-15 välillä. Peliaikaa on 60 min. Pelaaminen on maksutonta\, eikä vaadi ennakkoilmoittautumista. \nPeli on osa Kuopion kaupungin museoiden Supersyysloma-tarjontaa. 
URL:https://kuopionmuseot.fi/tapahtuma/tutkijan-testamentti-pakopeli/2023-10-18/
LOCATION:Kuopion museo
ATTACH;FMTTYPE=image/jpeg:https://kuopionmuseot.fi/wp-content/uploads/2023/10/Pakopeli-Tiedemiehen-testamentti.jpg
ORGANIZER;CN="Kuopion museo":MAILTO:kuopionmuseo@kuopio.fi
END:VEVENT
BEGIN:VEVENT
DTSTART;TZID=Europe/Helsinki:20231018T140000
DTEND;TZID=Europe/Helsinki:20231018T144500
DTSTAMP:20260425T054431
CREATED:20230331T122950Z
LAST-MODIFIED:20231004T130852Z
UID:10002177-1697637600-1697640300@kuopionmuseot.fi
SUMMARY:Opastus: Ihmisen aika
DESCRIPTION:Ihmisen aika -näyttely kertoo Pohjois-Savon esihistoriasta ja historiasta alkaen kivikauden ihmisen saapumisesta alueelle ja päättyen lopulta kulttuurin uusimpiin virtauksiin. Näyttely tutustuttaa kävijän Pohjois-Savon asukkaiden arkeen ja juhlaan\, sekä mielenkiintoisiin esineisiin ja asioihin. \nOpastuksella sukelletaan Savon menneisyyden merkittävimpiin vaiheisiin ja hämmästyttäviin yksityiskohtiin! \nOpastus sisältyy pääsylipun hintaan 7 € / 13 €\, alle 18-vuotiaat ilmaiseksi.
URL:https://kuopionmuseot.fi/tapahtuma/opastus-ihmisen-aika/2023-10-18/
LOCATION:Kuopion museo
ATTACH;FMTTYPE=image/jpeg:https://kuopionmuseot.fi/wp-content/uploads/2023/06/Opastus.jpg
ORGANIZER;CN="Kuopion museo":MAILTO:kuopionmuseo@kuopio.fi
END:VEVENT
BEGIN:VEVENT
DTSTART;TZID=Europe/Helsinki:20231018T163000
DTEND;TZID=Europe/Helsinki:20231018T183000
DTSTAMP:20260425T054431
CREATED:20230926T093714Z
LAST-MODIFIED:20230927T071121Z
UID:10002345-1697646600-1697653800@kuopionmuseot.fi
SUMMARY:Hennamaalaustyöpaja
DESCRIPTION:Tule taidemuseolle perehtymään hennamaalauksen saloihin ja tekemään itse oman hennamaalauksen Pracheta Den ja Naseeha Jalalin osaavassa ohjauksessa! \nHenna on kasvipohjainen väriaine hennapensaan (lawsonia inermis) lehdistä. Luonnollinen henna tuottaa punertavan oranssin väriaineen\, joka värjää ihoa turvallisesti. Mehndi on ihon väliaikainen koristelu hennatahnalla ja on suosittu Etelä-Aasiassa\, Afrikassa ja Lähi-idässä. Perinteisesti hennamaalauksia on toteutettu kämmenille häihin\, vauvakutsuihin ja muihin juhliin. Tervetuloa tutustumaan hennaan ja mehndiin työpajassa! \nPracheta De on tohtoritutkija Bengalurusta Intiasta. Hän on oppinut äidiltään mehndi-kuvioinnin\, ja on suunnitellut niitä perheelleen\, ystävilleen ja kollegoilleen. Pracheta kertoo nauttivansa intialaisten paisley- ja mandalapohjaisten kuvioiden piirtämisestä. \nIntiasta kotoisin oleva Naseeha Abdul Jalal on maisteriopiskelija Itäsuomen yliopistossa. Hän on itseoppinut hennataiteilija\, joka on tehnyt hennaa juhlissa ja erityisissä tilaisuuksissa perheelleen\, ystävilleen ja naapureilleen. Naseeha pitää erityisesti arabialaista ja intialaista kuvioista\, joissa on kukkainen kosketus. \nEnglanninkielinen ohjaus. Työpaja maksaa 20 € sisältäen materiaalit\, ohjauksen ja pääsyn näyttelyihin. Ilmoittadu työpajaan ennakkoon: taidemuseo@kuopio.fi.
URL:https://kuopionmuseot.fi/tapahtuma/hennamaalaustyopaja/
LOCATION:KUMMA\, Kauppakatu 35\, Kuopio\, 70100
ATTACH;FMTTYPE=image/jpeg:https://kuopionmuseot.fi/wp-content/uploads/2023/09/1920-1080-px-01.jpg
END:VEVENT
END:VCALENDAR