BEGIN:VCALENDAR
VERSION:2.0
PRODID:-//Kuopion museot - ECPv6.15.20//NONSGML v1.0//EN
CALSCALE:GREGORIAN
METHOD:PUBLISH
X-WR-CALNAME:Kuopion museot
X-ORIGINAL-URL:https://kuopionmuseot.fi
X-WR-CALDESC:Tapahtumat Kuopion museot
REFRESH-INTERVAL;VALUE=DURATION:PT1H
X-Robots-Tag:noindex
X-PUBLISHED-TTL:PT1H
BEGIN:VTIMEZONE
TZID:Europe/Helsinki
BEGIN:DAYLIGHT
TZOFFSETFROM:+0200
TZOFFSETTO:+0300
TZNAME:EEST
DTSTART:20220327T010000
END:DAYLIGHT
BEGIN:STANDARD
TZOFFSETFROM:+0300
TZOFFSETTO:+0200
TZNAME:EET
DTSTART:20221030T010000
END:STANDARD
BEGIN:DAYLIGHT
TZOFFSETFROM:+0200
TZOFFSETTO:+0300
TZNAME:EEST
DTSTART:20230326T010000
END:DAYLIGHT
BEGIN:STANDARD
TZOFFSETFROM:+0300
TZOFFSETTO:+0200
TZNAME:EET
DTSTART:20231029T010000
END:STANDARD
BEGIN:DAYLIGHT
TZOFFSETFROM:+0200
TZOFFSETTO:+0300
TZNAME:EEST
DTSTART:20240331T010000
END:DAYLIGHT
BEGIN:STANDARD
TZOFFSETFROM:+0300
TZOFFSETTO:+0200
TZNAME:EET
DTSTART:20241027T010000
END:STANDARD
END:VTIMEZONE
BEGIN:VEVENT
DTSTART;TZID=Europe/Helsinki:20230928T170000
DTEND;TZID=Europe/Helsinki:20230928T190000
DTSTAMP:20260422T191348
CREATED:20230420T111936Z
LAST-MODIFIED:20230628T120611Z
UID:10002230-1695920400-1695927600@kuopionmuseot.fi
SUMMARY:Luontokuvan monet kasvot
DESCRIPTION:Luontokuvauksen suosio harrastuksena on kasvanut räjähdysmäisesti. Punnitun tiedon ilta -keskustelutilaisuudessa pohditaan luontokuvaamisen etiikkaa: millaisia luontokuvia haluamme nähdä? Saako upeaa kuvaa tavoitella millä keinoin tahansa? Tilaisuudessa vieraana luontokuvaaja ja tietokirjailija Antti Haataja. \nTilaisuus järjestetään Kuopion pääkirjaston 1. kerroksen kokoussalissa. Vapaa pääsy. Keskustelu striimataan kirjaston kanaville.
URL:https://kuopionmuseot.fi/tapahtuma/luontokuvan-monet-kasvot/
LOCATION:Kuopion pääkirjasto\, Maaherrankatu 12\, Kuopio\, 70100
ATTACH;FMTTYPE=image/jpeg:https://kuopionmuseot.fi/wp-content/uploads/2023/04/Antti-Haataja.jpg
END:VEVENT
END:VCALENDAR