BEGIN:VCALENDAR
VERSION:2.0
PRODID:-//Kuopion museot - ECPv6.15.20//NONSGML v1.0//EN
CALSCALE:GREGORIAN
METHOD:PUBLISH
X-ORIGINAL-URL:https://kuopionmuseot.fi
X-WR-CALDESC:Tapahtumat Kuopion museot
REFRESH-INTERVAL;VALUE=DURATION:PT1H
X-Robots-Tag:noindex
X-PUBLISHED-TTL:PT1H
BEGIN:VTIMEZONE
TZID:Europe/Helsinki
BEGIN:DAYLIGHT
TZOFFSETFROM:+0200
TZOFFSETTO:+0300
TZNAME:EEST
DTSTART:20220327T010000
END:DAYLIGHT
BEGIN:STANDARD
TZOFFSETFROM:+0300
TZOFFSETTO:+0200
TZNAME:EET
DTSTART:20221030T010000
END:STANDARD
BEGIN:DAYLIGHT
TZOFFSETFROM:+0200
TZOFFSETTO:+0300
TZNAME:EEST
DTSTART:20230326T010000
END:DAYLIGHT
BEGIN:STANDARD
TZOFFSETFROM:+0300
TZOFFSETTO:+0200
TZNAME:EET
DTSTART:20231029T010000
END:STANDARD
BEGIN:DAYLIGHT
TZOFFSETFROM:+0200
TZOFFSETTO:+0300
TZNAME:EEST
DTSTART:20240331T010000
END:DAYLIGHT
BEGIN:STANDARD
TZOFFSETFROM:+0300
TZOFFSETTO:+0200
TZNAME:EET
DTSTART:20241027T010000
END:STANDARD
END:VTIMEZONE
BEGIN:VEVENT
DTSTART;TZID=Europe/Helsinki:20230802T120000
DTEND;TZID=Europe/Helsinki:20230802T130000
DTSTAMP:20260422T163252
CREATED:20230604T113956Z
LAST-MODIFIED:20230622T091246Z
UID:10002321-1690977600-1690981200@kuopionmuseot.fi
SUMMARY:Kesäloman Korttelileikit leikkimielisille
DESCRIPTION:Millaisia leikkejä lapset leikkivät ennen? Tule Korttelimuseoon ottamaan selvää! Leikitään yhdessä entisajan leikkejä kesän ajan keskiviikkoisin klo 12–13 (alk. 7.6.\, viimeinen kerta 9.8.). Leikittämässä ja mukana leikkimässä museon henkilökuntaa. Hyvällä säällä leikitään ulkona\, sateella aitassa. \nLapsille ja kaikille leikkimielisille\, ikäsuositus 5+. \nKokoontuminen Korttelimuseon päärakennuksen edessä (rakennus 2). Ei ennakkoilmoittautumista\, maksuton.
URL:https://kuopionmuseot.fi/tapahtuma/kesaloman-korttelileikit-leikkimielisille/2023-08-02/
LOCATION:Korttelimuseo\, Kirkkokatu 22\, Kuopio\, 70100\, Suomi
ATTACH;FMTTYPE=image/jpeg:https://kuopionmuseot.fi/wp-content/uploads/2023/06/Pihaleikit-scaled.jpg
END:VEVENT
BEGIN:VEVENT
DTSTART;TZID=Europe/Helsinki:20230802T140000
DTEND;TZID=Europe/Helsinki:20230802T144500
DTSTAMP:20260422T163252
CREATED:20230419T123554Z
LAST-MODIFIED:20231003T111311Z
UID:10002204-1690984800-1690987500@kuopionmuseot.fi
SUMMARY:Opastus: Wildlife Photographer of the Year
DESCRIPTION:Opastetulla kierroksella pääset sukeltamaan oppaan kanssa pintaa syvemmälle. Näyttelyn upeiden valokuvien kautta tutkitaan maapallomme luonnon herkkää tasapainoa ja sen nykytilaa. Kuinka ympärillämme tapahtuvat muutokset vaikuttavat planeettamme ekosysteemeihin? \nOpastukselle pääset osallistumaan pääsymaksun hinnalla. \nkuva: © Richard Robinson\, Wildlife Photographer of the Year
URL:https://kuopionmuseot.fi/tapahtuma/wildlife-photographer-of-the-year-nayttelyopastus/2023-08-02/
LOCATION:Kuopion museo
ATTACH;FMTTYPE=image/jpeg:https://kuopionmuseot.fi/wp-content/uploads/2023/04/©-Richard-Robinson-Wildlife-Photographer-of-the-Year.jpg
END:VEVENT
BEGIN:VEVENT
DTSTART;TZID=Europe/Helsinki:20230802T150000
DTEND;TZID=Europe/Helsinki:20230802T164500
DTSTAMP:20260422T163252
CREATED:20230517T045305Z
LAST-MODIFIED:20230802T085546Z
UID:10002268-1690988400-1690994700@kuopionmuseot.fi
SUMMARY:Geologia-kävelykierros: Valkeisenlampi
DESCRIPTION:Geologia-kävelykierros Kuopion museolta: Valkeisenlampi – muinaisesta suosta kaupunkikeitaaksi.  \nKävelykierroksella tutustutaan Valkeisenlammen kiehtovaan geologiseen kehityshistoriaan ja Kuopion alueen kallioperän ja maaperän syntyyn sekä muinaisen Valkeissuon tutkijoihin. \nKävelykierrokselle lähdetään Kuopion museolta (Museokatu 1) ja kierros päättyy Valkeisenlammelle.  \nKierroksen kesto on noin 1 t 45 min\, kävelyä n. 3 km. \nHinta 8 €/aikuinen. Maksu suoritetaan ennen kävelykierrosta Kuopion museon asiakaspalvelupisteellä.  \nValkeisenlampi – muinaisesta suosta kaupunkikeitaaksi -kierrokset ovat ke 7.6.\, 5.7. ja 2.8. klo 15\nVäinölänniemi – harjumaisemia ja kaupunkiluontoa – koko perheen kierrokset ovat ke 21.6.\, 19.7. ja 16.8. klo 15 \nHuomioithan säänmukaisen pukeutumisen. Säävaraus. \n 
URL:https://kuopionmuseot.fi/tapahtuma/geologia-kavelykierros-valkeisenlampi/2023-08-02/
LOCATION:Kuopion museo
ATTACH;FMTTYPE=image/jpeg:https://kuopionmuseot.fi/wp-content/uploads/2023/05/Geologiakavely-suunnikas.jpg
END:VEVENT
BEGIN:VEVENT
DTSTART;TZID=Europe/Helsinki:20230802T163000
DTEND;TZID=Europe/Helsinki:20230802T180000
DTSTAMP:20260422T163252
CREATED:20230718T074509Z
LAST-MODIFIED:20230928T105326Z
UID:10002295-1690993800-1690999200@kuopionmuseot.fi
SUMMARY:Kantin kestävä keskiviikko
DESCRIPTION:Kantin kestävä keskiviikko on paikka opetella yhdessä kulutuksen vähentämistä arjessa. Miten kunnostaa tai pitää huolta jo olemassa olevista vaatteista\, esineistä tai rakennuksista? Tiedon ja kokemusten lisäksi aiheita lähestytään tekemisen ja taiteen keinoin. \nKantin kestävä keskiviikko järjestetään vaihtuvilla sisällöillä pääsääntöisesti joka kuun ensimmäinen keskiviikko klo 16.30 alkaen Kuopion museon monitoimitilassa. Luentokerroilla eri aihepiirien asiantuntijat tarjoavat vinkkejä ja neuvontaa kestävämpien ratkaisujen ja ilmastotekojen toteuttamiseen. OMPELUSEURAT tuovat omalla vuorollaan paikalle ompelukoneet ja vertaisohjaajia\, jolloin jokaisella on mahdollisuus tulla korjaamaan omia rikkinäisiä vaatteitaan. \nKuopion kaupunginkirjasto koostaa jokaiselle kerralle vinkkilistan\, jonka avulla kirjastosta voi lainata lisää kutakin aihetta käsittelevää kirjallisuutta. Esillä olleista kirjoista on pääkirjastolla pieni näyttely tapahtumakeskiviikon jälkeen. \nSYYSKAUDEN 2023 OHJELMA\n2.8. klo 16.30-18 Tekstiilikonservaattori Anu Reijonen: Hää- ja juhla-asujen sekä kansallispukujen säilytys.\n9.8. klo 16.30-19 OMPELUSEURAT: Verkkaripaja.\n6.9. klo 16.30-19 OMPELUSEURAT: Vetoketjun vaihtotalkoot.\n4.10. klo 16.30-18 Intendentti Pekka Kankkunen: Kuinka säilytät valokuvasi jälkipolville. Luento-osuus striimataan.\n11.10. klo 16.30-19 OMPELUSEURAT: Parsintapaja\, eli korjaamme käsin parsien sukat\, neuleet\, lapaset\, sormikkaat\, villahousut\, villapaidat  – kaikilla tyylilajeilla! Parsinnan lomassa Urakkanuppi\, eli  esitystaiteilija Lasse Forsgren (liike-ääni-improvisaatio) ja kitarataiteilija Mikko Siirola (musiikki) tekevät tutkimusmatkan kohti ennenkuulumatonta musiikkia ja ennennäkemätöntä liikettä.\n1.11. klo 16.30-19 OMPELUSEURAT: Farkunpaikkaus.\n13.12. klo 16.30-18 Ilmastokeskustelu.\n(Ohjelmamuutokset ja täydennykset mahdollisia!) \nTapahtumiin on vapaa pääsy. Luentosisällöt striimataan Kuopion museon Youtube-kanavalle. \nKantti on tiedon\, tarinoiden ja ihmisten avoin kohtaamispaikka\, joka yhdistää pääkirjaston ja Kuopion museon. Kantti-yhteistyönä toteutetaan Kantin kestävä keskiviikko -tapahtumasarjaa\, jossa vuorottelevat OMPELUSEURAT omilla korjausompelupajoillaan sekä museon ja kirjaston tuottamat\, kestävään kehitykseen liittyvät teemaillat. \n 
URL:https://kuopionmuseot.fi/tapahtuma/kantin-kestava-keskiviikko/2023-08-02/
LOCATION:Kuopion museo
ATTACH;FMTTYPE=image/jpeg:https://kuopionmuseot.fi/wp-content/uploads/2023/07/KANTIN-KESTAVA-KESKIVIIKKO-1920-x-1080-px.jpg
END:VEVENT
END:VCALENDAR