BEGIN:VCALENDAR
VERSION:2.0
PRODID:-//Kuopion museot - ECPv6.15.20//NONSGML v1.0//EN
CALSCALE:GREGORIAN
METHOD:PUBLISH
X-ORIGINAL-URL:https://kuopionmuseot.fi
X-WR-CALDESC:Tapahtumat Kuopion museot
REFRESH-INTERVAL;VALUE=DURATION:PT1H
X-Robots-Tag:noindex
X-PUBLISHED-TTL:PT1H
BEGIN:VTIMEZONE
TZID:Europe/Helsinki
BEGIN:DAYLIGHT
TZOFFSETFROM:+0200
TZOFFSETTO:+0300
TZNAME:EEST
DTSTART:20220327T010000
END:DAYLIGHT
BEGIN:STANDARD
TZOFFSETFROM:+0300
TZOFFSETTO:+0200
TZNAME:EET
DTSTART:20221030T010000
END:STANDARD
BEGIN:DAYLIGHT
TZOFFSETFROM:+0200
TZOFFSETTO:+0300
TZNAME:EEST
DTSTART:20230326T010000
END:DAYLIGHT
BEGIN:STANDARD
TZOFFSETFROM:+0300
TZOFFSETTO:+0200
TZNAME:EET
DTSTART:20231029T010000
END:STANDARD
BEGIN:DAYLIGHT
TZOFFSETFROM:+0200
TZOFFSETTO:+0300
TZNAME:EEST
DTSTART:20240331T010000
END:DAYLIGHT
BEGIN:STANDARD
TZOFFSETFROM:+0300
TZOFFSETTO:+0200
TZNAME:EET
DTSTART:20241027T010000
END:STANDARD
END:VTIMEZONE
BEGIN:VEVENT
DTSTART;TZID=Europe/Helsinki:20230510T140000
DTEND;TZID=Europe/Helsinki:20230510T144500
DTSTAMP:20260419T162414
CREATED:20230419T123554Z
LAST-MODIFIED:20231003T111311Z
UID:10002198-1683727200-1683729900@kuopionmuseot.fi
SUMMARY:Opastus: Wildlife Photographer of the Year
DESCRIPTION:Opastetulla kierroksella pääset sukeltamaan oppaan kanssa pintaa syvemmälle. Näyttelyn upeiden valokuvien kautta tutkitaan maapallomme luonnon herkkää tasapainoa ja sen nykytilaa. Kuinka ympärillämme tapahtuvat muutokset vaikuttavat planeettamme ekosysteemeihin? \nOpastukselle pääset osallistumaan pääsymaksun hinnalla. \nkuva: © Richard Robinson\, Wildlife Photographer of the Year
URL:https://kuopionmuseot.fi/tapahtuma/wildlife-photographer-of-the-year-nayttelyopastus/2023-05-10/
LOCATION:Kuopion museo
ATTACH;FMTTYPE=image/jpeg:https://kuopionmuseot.fi/wp-content/uploads/2023/04/©-Richard-Robinson-Wildlife-Photographer-of-the-Year.jpg
END:VEVENT
END:VCALENDAR