BEGIN:VCALENDAR
VERSION:2.0
PRODID:-//Kuopion museot - ECPv6.15.20//NONSGML v1.0//EN
CALSCALE:GREGORIAN
METHOD:PUBLISH
X-ORIGINAL-URL:https://kuopionmuseot.fi
X-WR-CALDESC:Tapahtumat Kuopion museot
REFRESH-INTERVAL;VALUE=DURATION:PT1H
X-Robots-Tag:noindex
X-PUBLISHED-TTL:PT1H
BEGIN:VTIMEZONE
TZID:Europe/Helsinki
BEGIN:DAYLIGHT
TZOFFSETFROM:+0200
TZOFFSETTO:+0300
TZNAME:EEST
DTSTART:20230326T010000
END:DAYLIGHT
BEGIN:STANDARD
TZOFFSETFROM:+0300
TZOFFSETTO:+0200
TZNAME:EET
DTSTART:20231029T010000
END:STANDARD
BEGIN:DAYLIGHT
TZOFFSETFROM:+0200
TZOFFSETTO:+0300
TZNAME:EEST
DTSTART:20240331T010000
END:DAYLIGHT
BEGIN:STANDARD
TZOFFSETFROM:+0300
TZOFFSETTO:+0200
TZNAME:EET
DTSTART:20241027T010000
END:STANDARD
BEGIN:DAYLIGHT
TZOFFSETFROM:+0200
TZOFFSETTO:+0300
TZNAME:EEST
DTSTART:20250330T010000
END:DAYLIGHT
BEGIN:STANDARD
TZOFFSETFROM:+0300
TZOFFSETTO:+0200
TZNAME:EET
DTSTART:20251026T010000
END:STANDARD
BEGIN:DAYLIGHT
TZOFFSETFROM:+0200
TZOFFSETTO:+0300
TZNAME:EEST
DTSTART:20260329T010000
END:DAYLIGHT
BEGIN:STANDARD
TZOFFSETFROM:+0300
TZOFFSETTO:+0200
TZNAME:EET
DTSTART:20261025T010000
END:STANDARD
END:VTIMEZONE
BEGIN:VEVENT
DTSTART;TZID=Europe/Helsinki:20251126T170000
DTEND;TZID=Europe/Helsinki:20251126T180000
DTSTAMP:20260422T194954
CREATED:20250725T064726Z
LAST-MODIFIED:20250725T064726Z
UID:10003850-1764176400-1764180000@kuopionmuseot.fi
SUMMARY:Luontokirjalukupiiri
DESCRIPTION:Luontokirjalukupiiri kokoontuu kerran kuukaudessa keskiviikkoisin klo 17.00–18.00. Lukupiirissä tutustutaan ajankohtaisiin teoksiin ja keskustellaan niiden herättämistä ajatuksista. Kirjallisuus- tai ympäristöasiantuntemusta ei tarvita\, ja mukaan voi tulla yhdelle tai useammalle kerralle. Lukupiiri toimii hyvin myös kirjavinkkauksena – keskustelun kuunteleminen on mainio tapa löytää kiinnostavaa luettavaa! \n\nLukupiiri järjestetään verkossa Zoom-alustalla osoitteessa https://zoom.us/j/99576520794\n\nEnnakkoilmoittautumista ei tarvita. Lisätietoja saa osoitteesta aikuistenosasto.kirjasto@kuopio.fi \n\nKe 26.11.2025\nOhtonen\, Kimmo: Tunturikettu – Pohjolan naalin tarina
URL:https://kuopionmuseot.fi/tapahtuma/luontokirjalukupiiri-27/
LOCATION:Zoom
ATTACH;FMTTYPE=image/jpeg:https://kuopionmuseot.fi/wp-content/uploads/2025/07/Arctic_fox_6375712425.jpg
END:VEVENT
BEGIN:VEVENT
DTSTART;TZID=Europe/Helsinki:20251022T170000
DTEND;TZID=Europe/Helsinki:20251022T180000
DTSTAMP:20260422T194954
CREATED:20250725T063855Z
LAST-MODIFIED:20250725T063855Z
UID:10003849-1761152400-1761156000@kuopionmuseot.fi
SUMMARY:Luontokirjalukupiiri
DESCRIPTION:Luontokirjalukupiiri kokoontuu kerran kuukaudessa keskiviikkoisin klo 17.00–18.00. Lukupiirissä tutustutaan ajankohtaisiin teoksiin ja keskustellaan niiden herättämistä ajatuksista. Kirjallisuus- tai ympäristöasiantuntemusta ei tarvita\, ja mukaan voi tulla yhdelle tai useammalle kerralle. Lukupiiri toimii hyvin myös kirjavinkkauksena – keskustelun kuunteleminen on mainio tapa löytää kiinnostavaa luettavaa! \n\nLukupiiri järjestetään verkossa Zoom-alustalla osoitteessa https://zoom.us/j/99576520794\n\nEnnakkoilmoittautumista ei tarvita. Lisätietoja saa osoitteesta aikuistenosasto.kirjasto@kuopio.fi \nKe 22.10.2025\nAdams\, Richard: Ruohometsän kansa\n\n\nKe 26.11.2025\nOhtonen\, Kimmo: Tunturikettu – Pohjolan naalin tarina
URL:https://kuopionmuseot.fi/tapahtuma/luontokirjalukupiiri-26/
LOCATION:Zoom
ATTACH;FMTTYPE=image/jpeg:https://kuopionmuseot.fi/wp-content/uploads/2025/07/rabbit-winter-snow-watercolor.jpg
END:VEVENT
BEGIN:VEVENT
DTSTART;TZID=Europe/Helsinki:20250924T170000
DTEND;TZID=Europe/Helsinki:20250924T180000
DTSTAMP:20260422T194954
CREATED:20250725T062923Z
LAST-MODIFIED:20250729T112513Z
UID:10003848-1758733200-1758736800@kuopionmuseot.fi
SUMMARY:Luontokirjalukupiiri
DESCRIPTION:Luontokirjalukupiiri kokoontuu kerran kuukaudessa keskiviikkoisin klo 17.00–18.00. Lukupiirissä tutustutaan ajankohtaisiin teoksiin ja keskustellaan niiden herättämistä ajatuksista. Kirjallisuus- tai ympäristöasiantuntemusta ei tarvita\, ja mukaan voi tulla yhdelle tai useammalle kerralle. Lukupiiri toimii hyvin myös kirjavinkkauksena – keskustelun kuunteleminen on mainio tapa löytää kiinnostavaa luettavaa! \n\nLukupiiri järjestetään verkossa Zoom-alustalla osoitteessa https://zoom.us/j/99576520794\n\nEnnakkoilmoittautumista ei tarvita. Lisätietoja saa osoitteesta aikuistenosasto.kirjasto@kuopio.fi \nKe 24.9.2025\nKamula\, Mikko: Ikimetsien sydänmailla\n\nKe 22.10.2025\nAdams\, Richard: Ruohometsän kansa\n\n\nKe 26.11.2025\nOhtonen\, Kimmo: Tunturikettu – Pohjolan naalin tarina
URL:https://kuopionmuseot.fi/tapahtuma/luontokirjalukupiiri-25/
LOCATION:Zoom
ATTACH;FMTTYPE=image/jpeg:https://kuopionmuseot.fi/wp-content/uploads/2025/07/Laura-Haapamaki_pieni.jpg
END:VEVENT
BEGIN:VEVENT
DTSTART;TZID=Europe/Helsinki:20250423T170000
DTEND;TZID=Europe/Helsinki:20250423T180000
DTSTAMP:20260422T194954
CREATED:20250129T111738Z
LAST-MODIFIED:20250129T111738Z
UID:10003348-1745427600-1745431200@kuopionmuseot.fi
SUMMARY:Luontokirjalukupiiri
DESCRIPTION:Luontokirjalukupiiri kokoontuu kerran kuukaudessa keskiviikkoisin klo 17.00–18.00. Lukupiirissä tutustutaan kiehtovan ajankohtaisiin teoksiin ja keskustellaan niiden herättämistä ajatuksista. Kirjallisuus- tai ympäristöasiantuntemusta ei tarvita\, ja mukaan voi tulla yhdelle tai useammalle kerralle. Lukupiiri toimii hyvin myös kirjavinkkauksena – keskustelun kuunteleminen on mainio tapa löytää kiinnostavaa luettavaa! \nLukupiiri järjestetään verkossa Zoom-alustalla osoitteessa: https://zoom.us/j/99576520794 \nEnnakkoilmoittautumista ei tarvita. Lisätietoja saa osoitteesta aikuistenosasto.kirjasto@kuopio.fi \nke 23.4. Karin Erlandsson: Helmenkalastaja
URL:https://kuopionmuseot.fi/tapahtuma/luontokirjalukupiiri-24/
LOCATION:Zoom
ATTACH;FMTTYPE=image/jpeg:https://kuopionmuseot.fi/wp-content/uploads/2024/02/wave_atlantic_pacific_ocean_huge_large_blue_dark_blue-1162238.jpg
END:VEVENT
BEGIN:VEVENT
DTSTART;TZID=Europe/Helsinki:20250319T170000
DTEND;TZID=Europe/Helsinki:20250319T180000
DTSTAMP:20260422T194954
CREATED:20250129T111512Z
LAST-MODIFIED:20250129T111512Z
UID:10003347-1742403600-1742407200@kuopionmuseot.fi
SUMMARY:Luontokirjalukupiiri
DESCRIPTION:Luontokirjalukupiiri kokoontuu kerran kuukaudessa keskiviikkoisin klo 17.00–18.00. Lukupiirissä tutustutaan kiehtovan ajankohtaisiin teoksiin ja keskustellaan niiden herättämistä ajatuksista. Kirjallisuus- tai ympäristöasiantuntemusta ei tarvita\, ja mukaan voi tulla yhdelle tai useammalle kerralle. Lukupiiri toimii hyvin myös kirjavinkkauksena – keskustelun kuunteleminen on mainio tapa löytää kiinnostavaa luettavaa! \nLukupiiri järjestetään verkossa Zoom-alustalla osoitteessa: https://zoom.us/j/99576520794 \nEnnakkoilmoittautumista ei tarvita. Lisätietoja saa osoitteesta aikuistenosasto.kirjasto@kuopio.fi \nke 19.3. Heli Laaksonen: Luonnos ja Jatkos \nke 23.4. Karin Erlandsson: Helmenkalastaja
URL:https://kuopionmuseot.fi/tapahtuma/luontokirjalukupiiri-23/
LOCATION:Zoom
ATTACH;FMTTYPE=image/jpeg:https://kuopionmuseot.fi/wp-content/uploads/2024/06/20230920_140410-scaled.jpg
END:VEVENT
BEGIN:VEVENT
DTSTART;TZID=Europe/Helsinki:20250219T170000
DTEND;TZID=Europe/Helsinki:20250219T180000
DTSTAMP:20260422T194954
CREATED:20250129T111232Z
LAST-MODIFIED:20250129T111232Z
UID:10003346-1739984400-1739988000@kuopionmuseot.fi
SUMMARY:Luontokirjalukupiiri
DESCRIPTION:Luontokirjalukupiiri kokoontuu kerran kuukaudessa keskiviikkoisin klo 17.00–18.00. Lukupiirissä tutustutaan kiehtovan ajankohtaisiin teoksiin ja keskustellaan niiden herättämistä ajatuksista. Kirjallisuus- tai ympäristöasiantuntemusta ei tarvita\, ja mukaan voi tulla yhdelle tai useammalle kerralle. Lukupiiri toimii hyvin myös kirjavinkkauksena – keskustelun kuunteleminen on mainio tapa löytää kiinnostavaa luettavaa! \nLukupiiri järjestetään verkossa Zoom-alustalla osoitteessa: https://zoom.us/j/99576520794 \nEnnakkoilmoittautumista ei tarvita. Lisätietoja saa osoitteesta aikuistenosasto.kirjasto@kuopio.fi \nke 19.2. Iida Turpeinen: Elolliset\n \nke 19.3. Heli Laaksonen: Luonnos ja Jatkos \nke 23.4. Karin Erlandsson: Helmenkalastaja
URL:https://kuopionmuseot.fi/tapahtuma/luontokirjalukupiiri-22/
LOCATION:Zoom
ATTACH;FMTTYPE=image/jpeg:https://kuopionmuseot.fi/wp-content/uploads/2021/07/stellerinmerilehma-–-kopio.jpeg
END:VEVENT
BEGIN:VEVENT
DTSTART;TZID=Europe/Helsinki:20241107T173000
DTEND;TZID=Europe/Helsinki:20241107T183000
DTSTAMP:20260422T194954
CREATED:20241031T085538Z
LAST-MODIFIED:20241031T085538Z
UID:10003253-1731000600-1731004200@kuopionmuseot.fi
SUMMARY:Sarjakuvalukupiiri
DESCRIPTION:Kaipaatko nopeaa mutta monipuolista luettavaa? Haluaisitko jutella muiden kirjallisuudesta ja sarjakuvista kiinnostuneiden kanssa? Tule sarjakuvalukupiiriin! \n7.11. Sarjakuvalukupiirissä käsitellään Kuopion taidemuseon Ruutujen kapina -nykysarjakuvanäyttelyn taiteilijoiden teoksia. Johdantona toimii Kutikuti-kollektiivin uusin antologia Tihku (2023) jossa on useita näyttelyssä esiintyvien taiteilijoiden sarjakuvia. Lukupiirissä tehdään nostoja taidemuseon näyttelyn taiteilijoiden julkaisuista\, voit esitellä omat lempparit tai tulla kuulemaan vetäjien suosituksia. \nLukupiiri toteutetaan Kuopion kaupunginkirjaston Zoom -etäyhteydellä ja yhteistyössä vetäjinä toimivat Tero Mielonen ja Laura Kokko. \nLukupiirissä jutellaan teoksen herättämistä ajatuksista rennosti ja matalalla kynnyksellä. Sarjakuva-asiantuntemusta ei tarvita\, ja mukaan voi tulla yhdelle tai useammalle kerralle. Ei ole väliä\, oletko meille jo vanha tuttu vai onko tämä ensimmäinen kertasi lukupiirissä. \nLukupiiri toimii hyvin myös kirjavinkkauksena – tule kuuntelemaan keskustelua\, jos haluat löytää uutta kiinnostavaa luettavaa! Etälukupiiriin voi osallistua kuka vain ja mistä päin maailmaa tahansa. \nOsallistumislinkki: https://us02web.zoom.us/j/94649957647\, osallistumistunnus mobiililaitteille: 946 4995 7647.
URL:https://kuopionmuseot.fi/tapahtuma/sarjakuvalukupiiri/
LOCATION:Zoom
ATTACH;FMTTYPE=image/png:https://kuopionmuseot.fi/wp-content/uploads/2024/10/Sarjispiiri-Taidemuseon-tapahtumakalenteri.png
END:VEVENT
END:VCALENDAR